BEGIN:VCALENDAR
VERSION:2.0
PRODID:-//ERIS - ECPv6.15.18//NONSGML v1.0//EN
CALSCALE:GREGORIAN
METHOD:PUBLISH
X-ORIGINAL-URL:https://www.eristates.org
X-WR-CALDESC:Events for ERIS
REFRESH-INTERVAL;VALUE=DURATION:PT1H
X-Robots-Tag:noindex
X-PUBLISHED-TTL:PT1H
BEGIN:VTIMEZONE
TZID:America/New_York
BEGIN:DAYLIGHT
TZOFFSETFROM:-0500
TZOFFSETTO:-0400
TZNAME:EDT
DTSTART:20230312T070000
END:DAYLIGHT
BEGIN:STANDARD
TZOFFSETFROM:-0400
TZOFFSETTO:-0500
TZNAME:EST
DTSTART:20231105T060000
END:STANDARD
BEGIN:DAYLIGHT
TZOFFSETFROM:-0500
TZOFFSETTO:-0400
TZNAME:EDT
DTSTART:20240310T070000
END:DAYLIGHT
BEGIN:STANDARD
TZOFFSETFROM:-0400
TZOFFSETTO:-0500
TZNAME:EST
DTSTART:20241103T060000
END:STANDARD
BEGIN:DAYLIGHT
TZOFFSETFROM:-0500
TZOFFSETTO:-0400
TZNAME:EDT
DTSTART:20250309T070000
END:DAYLIGHT
BEGIN:STANDARD
TZOFFSETFROM:-0400
TZOFFSETTO:-0500
TZNAME:EST
DTSTART:20251102T060000
END:STANDARD
BEGIN:DAYLIGHT
TZOFFSETFROM:-0500
TZOFFSETTO:-0400
TZNAME:EDT
DTSTART:20260308T070000
END:DAYLIGHT
BEGIN:STANDARD
TZOFFSETFROM:-0400
TZOFFSETTO:-0500
TZNAME:EST
DTSTART:20261101T060000
END:STANDARD
END:VTIMEZONE
BEGIN:VEVENT
DTSTART;TZID=America/New_York:20250514T130000
DTEND;TZID=America/New_York:20250514T193000
DTSTAMP:20260419T192211
CREATED:20250414T204339Z
LAST-MODIFIED:20250414T204339Z
UID:2490-1747227600-1747251000@www.eristates.org
SUMMARY:Water Supply Systems and Wildfires
DESCRIPTION:
URL:https://www.eristates.org/event/water-supply-systems-and-wildfires/
CATEGORIES:Webinar
END:VEVENT
BEGIN:VEVENT
DTSTART;TZID=America/New_York:20250429T130000
DTEND;TZID=America/New_York:20250429T160000
DTSTAMP:20260419T192211
CREATED:20250414T200312Z
LAST-MODIFIED:20250414T200458Z
UID:2477-1745931600-1745942400@www.eristates.org
SUMMARY:Lead Chemistry\, Communication\, and Local Engagement
DESCRIPTION:1 – 1:30   Lead Chemistry 101 \n1:30 – 2  Lead and Galvanized Iron Pipe Scale \n2 – 2:30  Corrosion Control Methods and Approach \n2:30 – 3   Break \n3 – 3:30  Ohio’s Lead Strategy and Local Engagement Toolkit \n3:30 – 4  Communicating About Lead: Michigan’s 1/5 Sampling\, Lead/Galvanized Service Lines\, and Public Advisories
URL:https://www.eristates.org/event/lead-chemistry-communication-and-local-engagement/
CATEGORIES:Webinar
END:VEVENT
BEGIN:VEVENT
DTSTART;TZID=America/New_York:20250424T130000
DTEND;TZID=America/New_York:20250424T150000
DTSTAMP:20260419T192211
CREATED:20241115T171137Z
LAST-MODIFIED:20241115T171137Z
UID:2351-1745499600-1745506800@www.eristates.org
SUMMARY:ITRC: PFAS Beyond the Basics: PFAS Fate and Transport\, Site Characterization and Source ID Training
DESCRIPTION:
URL:https://www.eristates.org/event/itrc-pfas-beyond-the-basics-pfas-fate-and-transport-site-characterization-and-source-id-training/
CATEGORIES:Online Training
END:VEVENT
BEGIN:VEVENT
DTSTART;TZID=America/New_York:20250418T150000
DTEND;TZID=America/New_York:20250418T150000
DTSTAMP:20260419T192211
CREATED:20250410T205103Z
LAST-MODIFIED:20250410T205103Z
UID:2448-1744988400-1744988400@www.eristates.org
SUMMARY:AI Applications in Earth and Climate Science: Wildfires
DESCRIPTION:
URL:https://www.eristates.org/event/ai-applications-in-earth-and-climate-science-wildfires/
CATEGORIES:Webinar
END:VEVENT
BEGIN:VEVENT
DTSTART;TZID=America/New_York:20250416T150000
DTEND;TZID=America/New_York:20250416T160000
DTSTAMP:20260419T192211
CREATED:20250117T164444Z
LAST-MODIFIED:20250117T164444Z
UID:2399-1744815600-1744819200@www.eristates.org
SUMMARY:HABs mitigation options and novel or earlier identification methods (CyAN and Forecasting)
DESCRIPTION:
URL:https://www.eristates.org/event/habs-mitigation-options-and-novel-or-earlier-identification-methods-cyan-and-forecasting/
CATEGORIES:Webinar
END:VEVENT
BEGIN:VEVENT
DTSTART;TZID=America/New_York:20250327T130000
DTEND;TZID=America/New_York:20250327T150000
DTSTAMP:20260419T192211
CREATED:20241115T171010Z
LAST-MODIFIED:20241115T171010Z
UID:2349-1743080400-1743087600@www.eristates.org
SUMMARY:ITRC: Managed Aquifer Recharge Training
DESCRIPTION:
URL:https://www.eristates.org/event/itrc-managed-aquifer-recharge-training/
CATEGORIES:Online Training
END:VEVENT
BEGIN:VEVENT
DTSTART;TZID=America/New_York:20250325T140000
DTEND;TZID=America/New_York:20250325T150000
DTSTAMP:20260419T192211
CREATED:20241021T180314Z
LAST-MODIFIED:20241021T180314Z
UID:2294-1742911200-1742914800@www.eristates.org
SUMMARY:Disinfection Byproducts: Inorganic Chloramines
DESCRIPTION:
URL:https://www.eristates.org/event/disinfection-byproducts-inorganic-chloramines/
CATEGORIES:Webinar
END:VEVENT
BEGIN:VEVENT
DTSTART;TZID=America/New_York:20250325T130000
DTEND;TZID=America/New_York:20250325T150000
DTSTAMP:20260419T192211
CREATED:20241115T170852Z
LAST-MODIFIED:20241115T170852Z
UID:2347-1742907600-1742914800@www.eristates.org
SUMMARY:ITRC: PFAS Beyond the Basics: PFAS Human Health\, Ecological Effects and Regulations Training
DESCRIPTION:
URL:https://www.eristates.org/event/itrc-pfas-beyond-the-basics-pfas-human-health-ecological-effects-and-regulations-training/
CATEGORIES:Online Training
END:VEVENT
BEGIN:VEVENT
DTSTART;TZID=America/New_York:20250319T150000
DTEND;TZID=America/New_York:20250319T160000
DTSTAMP:20260419T192211
CREATED:20250117T164328Z
LAST-MODIFIED:20250117T164328Z
UID:2397-1742396400-1742400000@www.eristates.org
SUMMARY:Wastewater Treatment Technologies for Difficult Pollutants (e.g. chloride\, sulfate\, nitrate\, etc.)
DESCRIPTION:
URL:https://www.eristates.org/event/wastewater-treatment-technologies-for-difficult-pollutants-e-g-chloride-sulfate-nitrate-etc/
CATEGORIES:Webinar
END:VEVENT
BEGIN:VEVENT
DTSTART;TZID=America/New_York:20250313T130000
DTEND;TZID=America/New_York:20250313T150000
DTSTAMP:20260419T192211
CREATED:20241115T170730Z
LAST-MODIFIED:20241115T170730Z
UID:2345-1741870800-1741878000@www.eristates.org
SUMMARY:ITRC: Pump & Treat Optimization Training
DESCRIPTION:
URL:https://www.eristates.org/event/itrc-pump-treat-optimization-training/
CATEGORIES:Online Training
END:VEVENT
BEGIN:VEVENT
DTSTART;TZID=America/New_York:20250311T130000
DTEND;TZID=America/New_York:20250311T150000
DTSTAMP:20260419T192211
CREATED:20241115T170508Z
LAST-MODIFIED:20241115T170508Z
UID:2343-1741698000-1741705200@www.eristates.org
SUMMARY:ITRC: Vapor Intrusion Mitigation - A Two Part Series Training - Part 2
DESCRIPTION:
URL:https://www.eristates.org/event/itrc-vapor-intrusion-mitigation-a-two-part-series-training-part-2/
CATEGORIES:Online Training
END:VEVENT
BEGIN:VEVENT
DTSTART;TZID=America/New_York:20250306T130000
DTEND;TZID=America/New_York:20250306T150000
DTSTAMP:20260419T192211
CREATED:20241115T170349Z
LAST-MODIFIED:20241115T170349Z
UID:2341-1741266000-1741273200@www.eristates.org
SUMMARY:ITRC: Microplastics Training
DESCRIPTION:
URL:https://www.eristates.org/event/itrc-microplastics-training/
CATEGORIES:Online Training
END:VEVENT
BEGIN:VEVENT
DTSTART;TZID=America/New_York:20250227T130000
DTEND;TZID=America/New_York:20250227T150000
DTSTAMP:20260419T192211
CREATED:20241115T170242Z
LAST-MODIFIED:20241115T170242Z
UID:2339-1740661200-1740668400@www.eristates.org
SUMMARY:ITRC: Vapor Intrusion Mitigation - A Two Part Series Training
DESCRIPTION:
URL:https://www.eristates.org/event/itrc-vapor-intrusion-mitigation-a-two-part-series-training/
CATEGORIES:Online Training
END:VEVENT
BEGIN:VEVENT
DTSTART;TZID=America/New_York:20250226T140000
DTEND;TZID=America/New_York:20250226T150000
DTSTAMP:20260419T192211
CREATED:20250117T164742Z
LAST-MODIFIED:20250117T164742Z
UID:2401-1740578400-1740582000@www.eristates.org
SUMMARY:Impacts of Micro and Nanoplastics on Marine Organisms
DESCRIPTION:
URL:https://www.eristates.org/event/impacts-of-micro-and-nanoplastics-on-marine-organisms/
CATEGORIES:Webinar
END:VEVENT
BEGIN:VEVENT
DTSTART;TZID=America/New_York:20250225T140000
DTEND;TZID=America/New_York:20250225T150000
DTSTAMP:20260419T192211
CREATED:20241021T180159Z
LAST-MODIFIED:20241021T180159Z
UID:2292-1740492000-1740495600@www.eristates.org
SUMMARY:Emergency Response: Drinking Water Supply Planning and Treatment Technology Deployment
DESCRIPTION:
URL:https://www.eristates.org/event/emergency-response-drinking-water-supply-planning-and-treatment-technology-deployment/
CATEGORIES:Webinar
END:VEVENT
BEGIN:VEVENT
DTSTART;TZID=America/New_York:20250225T130000
DTEND;TZID=America/New_York:20250225T150000
DTSTAMP:20260419T192211
CREATED:20241115T170107Z
LAST-MODIFIED:20241115T170107Z
UID:2337-1740488400-1740495600@www.eristates.org
SUMMARY:ITRC: PFAS Beyond the Basics: Sampling\, Analysis\, Surface Water\, & Air Occurrence Training
DESCRIPTION:
URL:https://www.eristates.org/event/itrc-pfas-beyond-the-basics-sampling-analysis-surface-water-air-occurrence-training/
CATEGORIES:Online Training
END:VEVENT
BEGIN:VEVENT
DTSTART;TZID=America/New_York:20250219T150000
DTEND;TZID=America/New_York:20250219T160000
DTSTAMP:20260419T192211
CREATED:20250117T164206Z
LAST-MODIFIED:20250117T164206Z
UID:2395-1739977200-1739980800@www.eristates.org
SUMMARY:Lead (Including Final Integrated Science Assessment)
DESCRIPTION:
URL:https://www.eristates.org/event/lead-including-final-integrated-science-assessment/
CATEGORIES:Webinar
END:VEVENT
BEGIN:VEVENT
DTSTART;TZID=America/New_York:20250213T130000
DTEND;TZID=America/New_York:20250213T150000
DTSTAMP:20260419T192211
CREATED:20241115T165931Z
LAST-MODIFIED:20241115T165931Z
UID:2335-1739451600-1739458800@www.eristates.org
SUMMARY:ITRC: Reuse of Solid Mining Waste
DESCRIPTION:
URL:https://www.eristates.org/event/itrc-reuse-of-solid-mining-waste/
CATEGORIES:Online Training
END:VEVENT
BEGIN:VEVENT
DTSTART;TZID=America/New_York:20250206T130000
DTEND;TZID=America/New_York:20250206T151500
DTSTAMP:20260419T192211
CREATED:20241115T165751Z
LAST-MODIFIED:20241115T165751Z
UID:2333-1738846800-1738854900@www.eristates.org
SUMMARY:ITRC: 1\,4-Dioxane: Science\, Characterization & Analysis\, and Remediation Training
DESCRIPTION:
URL:https://www.eristates.org/event/itrc-14-dioxane-science-characterization-analysis-and-remediation-training/
CATEGORIES:Online Training
END:VEVENT
BEGIN:VEVENT
DTSTART;TZID=America/New_York:20250130T120000
DTEND;TZID=America/New_York:20250130T130000
DTSTAMP:20260419T192211
CREATED:20250117T165411Z
LAST-MODIFIED:20250117T165411Z
UID:2409-1738238400-1738242000@www.eristates.org
SUMMARY:Demonstrating Technologies for Treating Soil and Groundwater Impacted by 1\,4-Dioxane
DESCRIPTION:
URL:https://www.eristates.org/event/demonstrating-technologies-for-treating-soil-and-groundwater-impacted-by-14-dioxane-2/
CATEGORIES:Webinar
END:VEVENT
BEGIN:VEVENT
DTSTART;TZID=America/New_York:20250129T140000
DTEND;TZID=America/New_York:20250129T150000
DTSTAMP:20260419T192211
CREATED:20250117T162008Z
LAST-MODIFIED:20250117T162008Z
UID:2380-1738159200-1738162800@www.eristates.org
SUMMARY:Mapping Potential Wetland Areas for Landscape and Nutrient Management Across the Conterminous United States
DESCRIPTION:
URL:https://www.eristates.org/event/mapping-potential-wetland-areas-for-landscape-and-nutrient-management-across-the-conterminous-united-states/
CATEGORIES:Webinar
END:VEVENT
BEGIN:VEVENT
DTSTART;TZID=America/New_York:20250128T140000
DTEND;TZID=America/New_York:20250128T150000
DTSTAMP:20260419T192211
CREATED:20241021T180030Z
LAST-MODIFIED:20241021T180030Z
UID:2290-1738072800-1738076400@www.eristates.org
SUMMARY:Lead Chemistry\, Communication\, and Local Engagemen
DESCRIPTION:
URL:https://www.eristates.org/event/lead-chemistry-communication-and-local-engagemen/
CATEGORIES:Webinar
END:VEVENT
BEGIN:VEVENT
DTSTART;TZID=America/New_York:20250128T130000
DTEND;TZID=America/New_York:20250128T150000
DTSTAMP:20260419T192211
CREATED:20241115T165615Z
LAST-MODIFIED:20241115T165615Z
UID:2331-1738069200-1738076400@www.eristates.org
SUMMARY:ITRC: PFAS Introductory Training
DESCRIPTION:
URL:https://www.eristates.org/event/itrc-pfas-introductory-training/
CATEGORIES:Online Training
END:VEVENT
BEGIN:VEVENT
DTSTART;TZID=America/New_York:20250116T130000
DTEND;TZID=America/New_York:20250116T150000
DTSTAMP:20260419T192211
CREATED:20241115T165442Z
LAST-MODIFIED:20241115T165442Z
UID:2329-1737032400-1737039600@www.eristates.org
SUMMARY:ITRC: Contaminants of Emerging Concern (CEC) Identification Framework Training
DESCRIPTION:
URL:https://www.eristates.org/event/itrc-contaminants-of-emerging-concern-cec-identification-framework-training/
CATEGORIES:Online Training
END:VEVENT
BEGIN:VEVENT
DTSTART;TZID=America/New_York:20250116T120000
DTEND;TZID=America/New_York:20250116T133000
DTSTAMP:20260419T192211
CREATED:20241115T172155Z
LAST-MODIFIED:20241115T172155Z
UID:2357-1737028800-1737034200@www.eristates.org
SUMMARY:Demonstrating Technologies for Treating Soil and Groundwater Impacted by 1\,4-Dioxane
DESCRIPTION:
URL:https://www.eristates.org/event/demonstrating-technologies-for-treating-soil-and-groundwater-impacted-by-14-dioxane/
CATEGORIES:Webinar
END:VEVENT
BEGIN:VEVENT
DTSTART;TZID=America/New_York:20250114T130000
DTEND;TZID=America/New_York:20250114T150000
DTSTAMP:20260419T192211
CREATED:20241115T165325Z
LAST-MODIFIED:20241115T165325Z
UID:2327-1736859600-1736866800@www.eristates.org
SUMMARY:ITRC: Overview of the Tire-Derived Chemicals 6PPD & 6PPD-quinone Training
DESCRIPTION:
URL:https://www.eristates.org/event/itrc-overview-of-the-tire-derived-chemicals-6ppd-6ppd-quinone-training/
CATEGORIES:Online Training
END:VEVENT
BEGIN:VEVENT
DTSTART;TZID=America/New_York:20241211T150000
DTEND;TZID=America/New_York:20241211T160000
DTSTAMP:20260419T192211
CREATED:20241021T165728Z
LAST-MODIFIED:20241021T174107Z
UID:2283-1733929200-1733932800@www.eristates.org
SUMMARY:Participatory Science - Tools & Resources Webinar
DESCRIPTION:
URL:https://www.eristates.org/event/participatory-science-tools-resources-webinar/
CATEGORIES:Webinar
END:VEVENT
BEGIN:VEVENT
DTSTART;TZID=America/New_York:20241211T150000
DTEND;TZID=America/New_York:20241211T160000
DTSTAMP:20260419T192211
CREATED:20240206T194025Z
LAST-MODIFIED:20240206T194025Z
UID:2107-1733929200-1733932800@www.eristates.org
SUMMARY:Securing Safe Drinking Water During Emergencies
DESCRIPTION:
URL:https://www.eristates.org/event/securing-safe-drinking-water-during-emergencies/
CATEGORIES:Online Training,Webinar
END:VEVENT
BEGIN:VEVENT
DTSTART;TZID=America/New_York:20241211T140000
DTEND;TZID=America/New_York:20241211T150000
DTSTAMP:20260419T192211
CREATED:20241021T164152Z
LAST-MODIFIED:20241021T164152Z
UID:2279-1733925600-1733929200@www.eristates.org
SUMMARY:Great Lakes Atlas of Multi-Omics Research
DESCRIPTION:To collect and standardize the ever-growing volume of omics data (DNA or RNA sequences\, metabolomics\, etc.) produced by Great Lakes researchers\, we built the Great Lakes Atlas of Multi-omics Research (GLAMR)\, a publicly-accessible website and database supported via the NOAA ‘Omics program. To populate GLAMR\, we collected Great Lakes metagenomic\, metatranscriptomic\, and amplicon sequencing datasets “including many of our own” from public repositories while simultaneously collecting and standardizing all available sample metadata\, including associated environmental measurements. The GLAMR website\, greatlakesomics.org\, allows users to explore\, query\, and download datasets processed through standardized bioinformatics pipelines\, and provides links to the originating repositories. GLAMR currently houses nearly 2\,500 samples and we expect this number to grow rapidly as researchers increasingly rely on omics methods. By bringing together diverse datasets spanning 15 years from across the Great Lakes\, GLAMR provides researchers and other Great Lakes stakeholders a powerful but accessible tool for understanding this critical freshwater ecosystem.
URL:https://www.eristates.org/event/great-lakes-atlas-of-multi-omics-research/
CATEGORIES:Webinar
END:VEVENT
BEGIN:VEVENT
DTSTART;TZID=America/New_York:20241211T140000
DTEND;TZID=America/New_York:20241211T150000
DTSTAMP:20260419T192211
CREATED:20240213T175840Z
LAST-MODIFIED:20240213T175840Z
UID:2159-1733925600-1733929200@www.eristates.org
SUMMARY:Regional Research Partnerships to Address High Priority\, Near-Term Research Needs: Splash Pads & COTS Flight Simulator to Support Aerial Recon Training
DESCRIPTION:
URL:https://www.eristates.org/event/regional-research-partnerships-to-address-high-priority-near-term-research-needs-splash-pads-cots-flight-simulator-to-support-aerial-recon-training/
CATEGORIES:Webinar
END:VEVENT
END:VCALENDAR