BEGIN:VCALENDAR
VERSION:2.0
PRODID:-//ERIS - ECPv6.15.20//NONSGML v1.0//EN
CALSCALE:GREGORIAN
METHOD:PUBLISH
X-WR-CALNAME:ERIS
X-ORIGINAL-URL:https://www.eristates.org
X-WR-CALDESC:Events for ERIS
REFRESH-INTERVAL;VALUE=DURATION:PT1H
X-Robots-Tag:noindex
X-PUBLISHED-TTL:PT1H
BEGIN:VTIMEZONE
TZID:America/New_York
BEGIN:DAYLIGHT
TZOFFSETFROM:-0500
TZOFFSETTO:-0400
TZNAME:EDT
DTSTART:20200308T070000
END:DAYLIGHT
BEGIN:STANDARD
TZOFFSETFROM:-0400
TZOFFSETTO:-0500
TZNAME:EST
DTSTART:20201101T060000
END:STANDARD
BEGIN:DAYLIGHT
TZOFFSETFROM:-0500
TZOFFSETTO:-0400
TZNAME:EDT
DTSTART:20210314T070000
END:DAYLIGHT
BEGIN:STANDARD
TZOFFSETFROM:-0400
TZOFFSETTO:-0500
TZNAME:EST
DTSTART:20211107T060000
END:STANDARD
BEGIN:DAYLIGHT
TZOFFSETFROM:-0500
TZOFFSETTO:-0400
TZNAME:EDT
DTSTART:20220313T070000
END:DAYLIGHT
BEGIN:STANDARD
TZOFFSETFROM:-0400
TZOFFSETTO:-0500
TZNAME:EST
DTSTART:20221106T060000
END:STANDARD
BEGIN:DAYLIGHT
TZOFFSETFROM:-0500
TZOFFSETTO:-0400
TZNAME:EDT
DTSTART:20230312T070000
END:DAYLIGHT
BEGIN:STANDARD
TZOFFSETFROM:-0400
TZOFFSETTO:-0500
TZNAME:EST
DTSTART:20231105T060000
END:STANDARD
END:VTIMEZONE
BEGIN:VEVENT
DTSTART;TZID=America/New_York:20220614T130000
DTEND;TZID=America/New_York:20220614T150000
DTSTAMP:20260422T234331
CREATED:20220422T195153Z
LAST-MODIFIED:20220422T195153Z
UID:1614-1655211600-1655218800@www.eristates.org
SUMMARY:Vapor Intrusion Mitigation Session 2: Active Mitigation\, Passive Mitigation\, Installation/ OM&M/Exit
DESCRIPTION:
URL:https://www.eristates.org/event/vapor-intrusion-mitigation-session-2-active-mitigation-passive-mitigation-installation-omm-exit/
CATEGORIES:Online Training
END:VEVENT
BEGIN:VEVENT
DTSTART;TZID=America/New_York:20220608T140000
DTEND;TZID=America/New_York:20220608T150000
DTSTAMP:20260422T234331
CREATED:20220421T194256Z
LAST-MODIFIED:20220421T195521Z
UID:1560-1654696800-1654700400@www.eristates.org
SUMMARY:Trade-Off Tool for Sampling
DESCRIPTION:This webinar will look at the Trade-Off Tool for Sampling (TOTS) that aids planners\,\nresponders\, and subject matter experts in developing defensible\, yet practicable\, sample\ncollection plans. TOTS employs a user-friendly graphical interface that facilitates the design of\nsampling and analysis plans (SAPs) with immediate feedback on the cost\, time\, and resource\nrequirements for each SAP.
URL:https://www.eristates.org/event/trade-off-tool-for-sampling/
CATEGORIES:Webinar
END:VEVENT
BEGIN:VEVENT
DTSTART;TZID=America/New_York:20220607T130000
DTEND;TZID=America/New_York:20220607T150000
DTSTAMP:20260422T234331
CREATED:20220422T194948Z
LAST-MODIFIED:20220422T194948Z
UID:1612-1654606800-1654614000@www.eristates.org
SUMMARY:Connecting the Science to Managing LNAPL Sites 3-Part Series: Develop your LNAPL Conceptual Site Model
DESCRIPTION:
URL:https://www.eristates.org/event/connecting-the-science-to-managing-lnapl-sites-3-part-series-develop-your-lnapl-conceptual-site-model/
CATEGORIES:Online Training
END:VEVENT
BEGIN:VEVENT
DTSTART;TZID=America/New_York:20220602T150000
DTEND;TZID=America/New_York:20220602T160000
DTSTAMP:20260422T234331
CREATED:20220426T144945Z
LAST-MODIFIED:20220426T144945Z
UID:1629-1654182000-1654185600@www.eristates.org
SUMMARY:EPA Tools & Resources Training Webinar: Visualizing Ecosystem Land Management Assessments (VELMA)
DESCRIPTION:
URL:https://www.eristates.org/event/epa-tools-resources-training-webinar-visualizing-ecosystem-land-management-assessments-velma/
CATEGORIES:Webinar
END:VEVENT
BEGIN:VEVENT
DTSTART;TZID=America/New_York:20220602T150000
DTEND;TZID=America/New_York:20220602T160000
DTSTAMP:20260422T234331
CREATED:20220421T192513Z
LAST-MODIFIED:20220421T192513Z
UID:1550-1654182000-1654185600@www.eristates.org
SUMMARY:Visualizing Ecosystem Land Management Assets (VELMA)
DESCRIPTION:This webinar will look at how to use VELMA
URL:https://www.eristates.org/event/visualizing-ecosystem-land-management-assets-velma/
CATEGORIES:Webinar
END:VEVENT
BEGIN:VEVENT
DTSTART;TZID=America/New_York:20220602T130000
DTEND;TZID=America/New_York:20220602T150000
DTSTAMP:20260422T234331
CREATED:20220422T194833Z
LAST-MODIFIED:20220422T194833Z
UID:1610-1654174800-1654182000@www.eristates.org
SUMMARY:Vapor Intrusion Mitigation Session 1: Conceptual Site Model for Vapor Intrusion Mitigation
DESCRIPTION:
URL:https://www.eristates.org/event/vapor-intrusion-mitigation-session-1-conceptual-site-model-for-vapor-intrusion-mitigation/
CATEGORIES:Online Training
END:VEVENT
BEGIN:VEVENT
DTSTART;TZID=America/New_York:20220524T140000
DTEND;TZID=America/New_York:20220524T153000
DTSTAMP:20260422T234331
CREATED:20220421T200217Z
LAST-MODIFIED:20220421T200217Z
UID:1573-1653400800-1653406200@www.eristates.org
SUMMARY:Lead Service Lines
DESCRIPTION:
URL:https://www.eristates.org/event/lead-service-lines/
CATEGORIES:Webinar
END:VEVENT
BEGIN:VEVENT
DTSTART;TZID=America/New_York:20220519T120000
DTEND;TZID=America/New_York:20220519T130000
DTSTAMP:20260422T234331
CREATED:20220422T134514Z
LAST-MODIFIED:20220422T134514Z
UID:1586-1652961600-1652965200@www.eristates.org
SUMMARY:DoD Natural Resource Management Through Unmanned Aircraft System Technology
DESCRIPTION:This SERDP and ESTCP webinar focuses on DoD-funded research efforts to improve natural resource management with unmanned aircraft system (UAS) technology. Specifically\, the investigators will discuss an operational framework for integrating UAS into the management of natural resources at installations\, as well as a novel and cost-effective UAS technology that automates the process of collecting data from ground-based sensors.
URL:https://www.eristates.org/event/dod-natural-resource-management-through-unmanned-aircraft-system-technology/
CATEGORIES:Webinar
END:VEVENT
BEGIN:VEVENT
DTSTART;TZID=America/New_York:20220518T150000
DTEND;TZID=America/New_York:20220518T160000
DTSTAMP:20260422T234331
CREATED:20220426T144852Z
LAST-MODIFIED:20220426T144852Z
UID:1627-1652886000-1652889600@www.eristates.org
SUMMARY:EPA Tools & Resources Webinar: Preparing for Wildland Fire Smoke
DESCRIPTION:
URL:https://www.eristates.org/event/epa-tools-resources-webinar-preparing-for-wildland-fire-smoke/
CATEGORIES:Webinar
END:VEVENT
BEGIN:VEVENT
DTSTART;TZID=America/New_York:20220518T150000
DTEND;TZID=America/New_York:20220518T160000
DTSTAMP:20260422T234331
CREATED:20220421T191604Z
LAST-MODIFIED:20220421T191604Z
UID:1544-1652886000-1652889600@www.eristates.org
SUMMARY:Preparing for Wildland Fire Smoke
DESCRIPTION:This webinar highlights the American Society of Heating\, Refrigerating and Air-Conditioning Engineers (ASHRAE) Planning Framework for Protecting Commercial Building Occupants from Smoke During WildfiresEXITEXIT EPA WEBSITE. The Planning Framework is a publicly available resource developed by government and industry experts that provides building managers for public and commercial buildings\, including schools\, with advice on steps to reduce smoke exposures that can occur indoors during wildfires and prescribed burning. In addition\, EPA researchers will share examples from field studies in Missoula\, MT and the Hoopa Valley Tribe in Hoopa\, CA to better understand indoor air quality in public and commercial buildings under typical ambient conditions and when smoke events occur. These examples include the impact of building characteristics and ventilation systems on indoor air quality during smoke episodes.
URL:https://www.eristates.org/event/preparing-for-wildland-fire-smoke/
CATEGORIES:Webinar
END:VEVENT
BEGIN:VEVENT
DTSTART;TZID=America/New_York:20220517T130000
DTEND;TZID=America/New_York:20220517T150000
DTSTAMP:20260422T234331
CREATED:20220422T194650Z
LAST-MODIFIED:20220422T194650Z
UID:1608-1652792400-1652799600@www.eristates.org
SUMMARY:1\,4-Dioxane: Science\, Characterization & Analysis\, and Remediation
DESCRIPTION:
URL:https://www.eristates.org/event/14-dioxane-science-characterization-analysis-and-remediation-3/
CATEGORIES:Online Training
END:VEVENT
BEGIN:VEVENT
DTSTART;TZID=America/New_York:20220512T130000
DTEND;TZID=America/New_York:20220512T150000
DTSTAMP:20260422T234331
CREATED:20220422T140518Z
LAST-MODIFIED:20220422T140518Z
UID:1606-1652360400-1652367600@www.eristates.org
SUMMARY:Connecting the Science to Managing LNAPL Sites 3-Part Series: Build upon your Understanding of LNAPL
DESCRIPTION:
URL:https://www.eristates.org/event/connecting-the-science-to-managing-lnapl-sites-3-part-series-build-upon-your-understanding-of-lnapl/
CATEGORIES:Online Training
END:VEVENT
BEGIN:VEVENT
DTSTART;TZID=America/New_York:20220511T120000
DTEND;TZID=America/New_York:20220511T130000
DTSTAMP:20260422T234331
CREATED:20220509T174122Z
LAST-MODIFIED:20220509T174122Z
UID:1642-1652270400-1652274000@www.eristates.org
SUMMARY:Case Studies for the Atmospheric Transport of Environmental Contaminants: PFAS and Pesticides in Precipitation
DESCRIPTION:Title: Case Studies for the Atmospheric Transport of Environmental Contaminants: PFAS and Pesticides in Precipitation\nNOAA Chemical Sciences Laboratory Seminar Series \nPresenter(s): Jennifer Faust\, College of Wooster \nSponsor(s): NOAA Chemical Sciences Laboratory. \nSeminar Contact(s): jan.kazil@noaa.gov \nAbstract: Here we will explore two stories of how chemicals move through the atmosphere: PFAS and pesticides. Per- and polyfluoroalkyl substances (PFAS) are long-lived environmental contaminants of concern for human health. When released into the atmosphere\, they can undergo long-range transport\, followed by return to Earth through deposition. We have quantified 15 PFAS in rainwater from the central United States. During summer 2019\, PFAS concentrations ranged from 50-850 ng/L\, as measured by liquid chromatography tandem mass spectrometry. Trifluoroacetic acid accounted for approximately 90% of all PFAS. Levels of perfluorooctanoic acid (PFOA) and perfluorosulfonic acid (PFOS) were comparable to levels observed over the past two decades in spite of regulatory restrictions. We also detected HFPO-DA (GenX)\, a replacement for legacy PFAS\, at all measurement sites. Analysis by ANOVA modeling and correlation matrices indicated statistically significant differences (p < 0.05) in PFAS profiles at sites separated by tens to hundreds of kilometers\, highlighting the importance of local point sources on deposition of PFAS in the United States. In our more recent work\, we have expanded our precipitation analysis to characterize pesticides in precipitation samples using suspect screening with high-resolution mass spectrometry and air mass back trajectory analysis. \nBio(s): Dr. Jennifer Faust (she/her/hers) joined the faculty at the College of Wooster in fall 2017 as an assistant professor of analytical and environmental chemistry. She previously obtained her PhD in physical chemistry from the University of Wisconsin-Madison in 2015\, and she completed a postdoctoral fellowship in atmospheric chemistry at the University of Toronto. Jennifer now leads an undergraduate research group in environmental chemistry at the College of Wooster\, where she has mentored one postdoctoral fellow and 29 undergraduate researchers\, including 16 senior thesis students. She received a National Science Foundation CAREER award in 2021 to characterize the transport and fate of pesticides in the atmosphere. Other research projects in the Faust group include the formation of brown carbon\, the oxidation of rubber\, and the occurrence of PFAS in rainwater.
URL:https://www.eristates.org/event/case-studies-for-the-atmospheric-transport-of-environmental-contaminants-pfas-and-pesticides-in-precipitation/
END:VEVENT
BEGIN:VEVENT
DTSTART;TZID=America/New_York:20220510T130000
DTEND;TZID=America/New_York:20220510T150000
DTSTAMP:20260422T234331
CREATED:20220422T140415Z
LAST-MODIFIED:20220422T140415Z
UID:1604-1652187600-1652194800@www.eristates.org
SUMMARY:Long-term Contaminant Management Using Institutional Controls
DESCRIPTION:
URL:https://www.eristates.org/event/long-term-contaminant-management-using-institutional-controls-6/
CATEGORIES:Online Training
END:VEVENT
BEGIN:VEVENT
DTSTART;TZID=America/New_York:20220510T120000
DTEND;TZID=America/New_York:20220510T150000
DTSTAMP:20260422T234331
CREATED:20220426T172120Z
LAST-MODIFIED:20220426T172120Z
UID:1636-1652184000-1652194800@www.eristates.org
SUMMARY:Researching Resilience: Science for the Largest Environmental\, Social\, and Economic Challenge of the Century
DESCRIPTION:
URL:https://www.eristates.org/event/researching-resilience-science-for-the-largest-environmental-social-and-economic-challenge-of-the-century/
CATEGORIES:Webinar
END:VEVENT
BEGIN:VEVENT
DTSTART;TZID=America/New_York:20220505T130000
DTEND;TZID=America/New_York:20220518T150000
DTSTAMP:20260422T234331
CREATED:20220422T140214Z
LAST-MODIFIED:20220422T140214Z
UID:1602-1651755600-1652886000@www.eristates.org
SUMMARY:Integrated DNAPL Site Characterization
DESCRIPTION:
URL:https://www.eristates.org/event/integrated-dnapl-site-characterization-5/
CATEGORIES:Online Training
END:VEVENT
BEGIN:VEVENT
DTSTART;TZID=America/New_York:20220505T120000
DTEND;TZID=America/New_York:20220505T133000
DTSTAMP:20260422T234331
CREATED:20220422T134309Z
LAST-MODIFIED:20220422T134309Z
UID:1584-1651752000-1651757400@www.eristates.org
SUMMARY:Predictive and Modeling Tools for Improved Assessments of PFAS Environmental Risks
DESCRIPTION:This SERDP and ESTCP webinar focuses on DoD-funded research to develop reliable tools for assessing the environmental risks of PFAS. Specifically\, investigators will discuss methods to evaluate fate-determining physico-chemical properties and an effective model for understanding the factors that influence bioaccumulation of PFAS in freshwater fish.
URL:https://www.eristates.org/event/predictive-and-modeling-tools-for-improved-assessments-of-pfas-environmental-risks/
CATEGORIES:Webinar
END:VEVENT
BEGIN:VEVENT
DTSTART;TZID=America/New_York:20220504T130000
DTEND;TZID=America/New_York:20220504T140000
DTSTAMP:20260422T234331
CREATED:20220426T171737Z
LAST-MODIFIED:20220426T171737Z
UID:1634-1651669200-1651672800@www.eristates.org
SUMMARY:The National Wetlands Inventory: Driving Conservation Through Mapping
DESCRIPTION:
URL:https://www.eristates.org/event/the-national-wetlands-inventory-driving-conservation-through-mapping/
CATEGORIES:Webinar
END:VEVENT
BEGIN:VEVENT
DTSTART;TZID=America/New_York:20220503T130000
DTEND;TZID=America/New_York:20220503T150000
DTSTAMP:20260422T234331
CREATED:20220422T140013Z
LAST-MODIFIED:20220422T140013Z
UID:1600-1651582800-1651590000@www.eristates.org
SUMMARY:Bioavailability of Contaminants in Soil: Considerations for Human Health Risk Assessment
DESCRIPTION:
URL:https://www.eristates.org/event/bioavailability-of-contaminants-in-soil-considerations-for-human-health-risk-assessment-8/
CATEGORIES:Online Training
END:VEVENT
BEGIN:VEVENT
DTSTART;TZID=America/New_York:20220428T130000
DTEND;TZID=America/New_York:20220428T150000
DTSTAMP:20260422T234331
CREATED:20220422T135847Z
LAST-MODIFIED:20220422T135847Z
UID:1598-1651150800-1651158000@www.eristates.org
SUMMARY:Strategies for Preventing and Managing Harmful Cyanobacteria Blooms (Two Part Series): Benthic HCBs
DESCRIPTION:
URL:https://www.eristates.org/event/strategies-for-preventing-and-managing-harmful-cyanobacteria-blooms-two-part-series-benthic-hcbs/
CATEGORIES:Online Training
END:VEVENT
BEGIN:VEVENT
DTSTART;TZID=America/New_York:20220426T160000
DTEND;TZID=America/New_York:20220426T170000
DTSTAMP:20260422T234331
CREATED:20220422T195727Z
LAST-MODIFIED:20220422T195727Z
UID:1618-1650988800-1650992400@www.eristates.org
SUMMARY:PFAS Science Call - ORD and States
DESCRIPTION:
URL:https://www.eristates.org/event/pfas-science-call-ord-and-states/
CATEGORIES:Webinar
END:VEVENT
BEGIN:VEVENT
DTSTART;TZID=America/New_York:20220426T140000
DTEND;TZID=America/New_York:20220426T150000
DTSTAMP:20260422T234331
CREATED:20220421T200056Z
LAST-MODIFIED:20220421T200056Z
UID:1571-1650981600-1650985200@www.eristates.org
SUMMARY:Source Water Protection and Harmful Algal Blooms
DESCRIPTION:
URL:https://www.eristates.org/event/source-water-protection-and-harmful-algal-blooms/
CATEGORIES:Webinar
END:VEVENT
BEGIN:VEVENT
DTSTART;TZID=America/New_York:20220426T130000
DTEND;TZID=America/New_York:20220426T150000
DTSTAMP:20260422T234331
CREATED:20220422T135733Z
LAST-MODIFIED:20220422T135733Z
UID:1596-1650978000-1650985200@www.eristates.org
SUMMARY:Strategies for Preventing and Managing Harmful Cyanobacteria Blooms (Two Part Series): HCBs
DESCRIPTION:
URL:https://www.eristates.org/event/strategies-for-preventing-and-managing-harmful-cyanobacteria-blooms-two-part-series-hcbs/
CATEGORIES:Online Training
END:VEVENT
BEGIN:VEVENT
DTSTART;TZID=America/New_York:20220119T150000
DTEND;TZID=America/New_York:20220119T160000
DTSTAMP:20260422T234331
CREATED:20211216T171732Z
LAST-MODIFIED:20211216T171732Z
UID:1523-1642604400-1642608000@www.eristates.org
SUMMARY:EPA Tools & Resources Webinar: The Opportunity for Prize Competitions at EPA
DESCRIPTION:
URL:https://www.eristates.org/event/epa-tools-resources-webinar-the-opportunity-for-prize-competitions-at-epa/
CATEGORIES:Webinar
END:VEVENT
BEGIN:VEVENT
DTSTART;TZID=America/New_York:20211215T150000
DTEND;TZID=America/New_York:20211215T160000
DTSTAMP:20260422T234331
CREATED:20211119T173424Z
LAST-MODIFIED:20211119T173424Z
UID:1516-1639580400-1639584000@www.eristates.org
SUMMARY:EPA Tools & Resources Webinar: Community and Citizen Science - Making Your Data Count
DESCRIPTION:
URL:https://www.eristates.org/event/epa-tools-resources-webinar-community-and-citizen-science-making-your-data-count/
CATEGORIES:Webinar
END:VEVENT
BEGIN:VEVENT
DTSTART;TZID=America/New_York:20211207T130000
DTEND;TZID=America/New_York:20211207T150000
DTSTAMP:20260422T234331
CREATED:20210106T211754Z
LAST-MODIFIED:20210106T211754Z
UID:1215-1638882000-1638889200@www.eristates.org
SUMMARY:Optimizing Injection Strategies and In Situ Remediation Performance
DESCRIPTION:
URL:https://www.eristates.org/event/optimizing-injection-strategies-and-in-situ-remediation-performance-6/
CATEGORIES:Online Training
END:VEVENT
BEGIN:VEVENT
DTSTART;TZID=America/New_York:20211118T130000
DTEND;TZID=America/New_York:20211118T150000
DTSTAMP:20260422T234331
CREATED:20210106T211641Z
LAST-MODIFIED:20210106T211641Z
UID:1213-1637240400-1637247600@www.eristates.org
SUMMARY:TPH Risk Evaluation at Petroleum-Contaminated Sites
DESCRIPTION:
URL:https://www.eristates.org/event/tph-risk-evaluation-at-petroleum-contaminated-sites-8/
CATEGORIES:Online Training
END:VEVENT
BEGIN:VEVENT
DTSTART;TZID=America/New_York:20211117T160000
DTEND;TZID=America/New_York:20211117T170000
DTSTAMP:20260422T234331
CREATED:20211015T134928Z
LAST-MODIFIED:20211015T134928Z
UID:1510-1637164800-1637168400@www.eristates.org
SUMMARY:One Health Part 2
DESCRIPTION:
URL:https://www.eristates.org/event/one-health-part-2/
CATEGORIES:Webinar
END:VEVENT
BEGIN:VEVENT
DTSTART;TZID=America/New_York:20211116T130000
DTEND;TZID=America/New_York:20211116T150000
DTSTAMP:20260422T234331
CREATED:20210106T210835Z
LAST-MODIFIED:20210106T210835Z
UID:1211-1637067600-1637074800@www.eristates.org
SUMMARY:Bioavailability of Contaminants in Soil: Considerations for Human Health Risk Assessment
DESCRIPTION:
URL:https://www.eristates.org/event/bioavailability-of-contaminants-in-soil-considerations-for-human-health-risk-assessment-7/
CATEGORIES:Online Training
END:VEVENT
BEGIN:VEVENT
DTSTART;TZID=America/New_York:20211109T130000
DTEND;TZID=America/New_York:20211109T150000
DTSTAMP:20260422T234331
CREATED:20210106T210724Z
LAST-MODIFIED:20210106T210724Z
UID:1209-1636462800-1636470000@www.eristates.org
SUMMARY:Connecting the Science to Managing LNAPL Sites 3-Part Series - Part 3
DESCRIPTION:Select/implement LNAPL technologies
URL:https://www.eristates.org/event/connecting-the-science-to-managing-lnapl-sites-3-part-series-part-3-3/
CATEGORIES:Online Training
END:VEVENT
END:VCALENDAR