BEGIN:VCALENDAR
VERSION:2.0
PRODID:-//ERIS - ECPv6.15.20//NONSGML v1.0//EN
CALSCALE:GREGORIAN
METHOD:PUBLISH
X-WR-CALNAME:ERIS
X-ORIGINAL-URL:https://www.eristates.org
X-WR-CALDESC:Events for ERIS
REFRESH-INTERVAL;VALUE=DURATION:PT1H
X-Robots-Tag:noindex
X-PUBLISHED-TTL:PT1H
BEGIN:VTIMEZONE
TZID:America/New_York
BEGIN:DAYLIGHT
TZOFFSETFROM:-0500
TZOFFSETTO:-0400
TZNAME:EDT
DTSTART:20230312T070000
END:DAYLIGHT
BEGIN:STANDARD
TZOFFSETFROM:-0400
TZOFFSETTO:-0500
TZNAME:EST
DTSTART:20231105T060000
END:STANDARD
BEGIN:DAYLIGHT
TZOFFSETFROM:-0500
TZOFFSETTO:-0400
TZNAME:EDT
DTSTART:20240310T070000
END:DAYLIGHT
BEGIN:STANDARD
TZOFFSETFROM:-0400
TZOFFSETTO:-0500
TZNAME:EST
DTSTART:20241103T060000
END:STANDARD
BEGIN:DAYLIGHT
TZOFFSETFROM:-0500
TZOFFSETTO:-0400
TZNAME:EDT
DTSTART:20250309T070000
END:DAYLIGHT
BEGIN:STANDARD
TZOFFSETFROM:-0400
TZOFFSETTO:-0500
TZNAME:EST
DTSTART:20251102T060000
END:STANDARD
END:VTIMEZONE
BEGIN:VEVENT
DTSTART;TZID=America/New_York:20240220T113000
DTEND;TZID=America/New_York:20240220T120000
DTSTAMP:20260422T182955
CREATED:20240207T182526Z
LAST-MODIFIED:20240207T182526Z
UID:2130-1708428600-1708430400@www.eristates.org
SUMMARY:Using Oyster Aquaculture as a Nitrogen Mitigation Tool
DESCRIPTION:
URL:https://www.eristates.org/event/using-oyster-aquaculture-as-a-nitrogen-mitigation-tool/
CATEGORIES:Webinar
END:VEVENT
BEGIN:VEVENT
DTSTART;TZID=America/New_York:20240220T130000
DTEND;TZID=America/New_York:20240220T143000
DTSTAMP:20260422T182955
CREATED:20240108T215745Z
LAST-MODIFIED:20240108T215745Z
UID:2082-1708434000-1708439400@www.eristates.org
SUMMARY:EtO and What You Need to Know
DESCRIPTION:
URL:https://www.eristates.org/event/eto-and-what-you-need-to-know/
CATEGORIES:Online Training,Webinar
END:VEVENT
BEGIN:VEVENT
DTSTART;TZID=America/New_York:20240220T150000
DTEND;TZID=America/New_York:20240220T160000
DTSTAMP:20260422T182955
CREATED:20240213T174115Z
LAST-MODIFIED:20240213T174115Z
UID:2133-1708441200-1708444800@www.eristates.org
SUMMARY:Cleaner Indoor Air During Wildfires: Phase II Challenge Winners
DESCRIPTION:Winners will share their innovative prototypes for low-cost solutions that safely reduce indoor fine particulate matter during periods when outdoor PM2.5 concentrations are high. Attendees will have an opportunity to ask questions during a fifteen-minute Q&A session following presentations. ​
URL:https://www.eristates.org/event/cleaner-indoor-air-during-wildfires-phase-ii-challenge-winners/
CATEGORIES:Webinar
END:VEVENT
BEGIN:VEVENT
DTSTART;TZID=America/New_York:20240222T120000
DTEND;TZID=America/New_York:20240222T133000
DTSTAMP:20260422T182955
CREATED:20240131T153738Z
LAST-MODIFIED:20240131T153738Z
UID:2087-1708603200-1708608600@www.eristates.org
SUMMARY:Novel Research on PFAS Adsorptive Technologies
DESCRIPTION:
URL:https://www.eristates.org/event/novel-research-on-pfas-adsorptive-technologies/
CATEGORIES:Webinar
END:VEVENT
BEGIN:VEVENT
DTSTART;TZID=America/New_York:20240227T130000
DTEND;TZID=America/New_York:20240227T153000
DTSTAMP:20260422T182955
CREATED:20231127T194206Z
LAST-MODIFIED:20231127T194206Z
UID:2009-1709038800-1709047800@www.eristates.org
SUMMARY:Microplastics
DESCRIPTION:
URL:https://www.eristates.org/event/microplastics-4/
CATEGORIES:Online Training
END:VEVENT
BEGIN:VEVENT
DTSTART;TZID=America/New_York:20240227T140000
DTEND;TZID=America/New_York:20240227T153000
DTSTAMP:20260422T182955
CREATED:20240108T213646Z
LAST-MODIFIED:20240108T213646Z
UID:2064-1709042400-1709047800@www.eristates.org
SUMMARY:Lead Service Line Inventory Guidance
DESCRIPTION:
URL:https://www.eristates.org/event/lead-service-line-inventory-guidance/
CATEGORIES:Webinar
END:VEVENT
BEGIN:VEVENT
DTSTART;TZID=America/New_York:20240228T140000
DTEND;TZID=America/New_York:20240228T150000
DTSTAMP:20260422T182955
CREATED:20240213T181742Z
LAST-MODIFIED:20240213T181742Z
UID:2174-1709128800-1709132400@www.eristates.org
SUMMARY:Effectiveness of Nutrient Management for Reducing Nutrient Losses from Agricultural Fields
DESCRIPTION:
URL:https://www.eristates.org/event/effectiveness-of-nutrient-management-for-reducing-nutrient-losses-from-agricultural-fields/
CATEGORIES:Webinar
END:VEVENT
BEGIN:VEVENT
DTSTART;TZID=America/New_York:20240229T130000
DTEND;TZID=America/New_York:20240229T150000
DTSTAMP:20260422T182955
CREATED:20231127T194427Z
LAST-MODIFIED:20231127T194427Z
UID:2011-1709211600-1709218800@www.eristates.org
SUMMARY:PFAS Introductory Training
DESCRIPTION:
URL:https://www.eristates.org/event/pfas-introductory-training-2/
CATEGORIES:Online Training
END:VEVENT
BEGIN:VEVENT
DTSTART;TZID=America/New_York:20240305T130000
DTEND;TZID=America/New_York:20240305T153000
DTSTAMP:20260422T182955
CREATED:20231127T194638Z
LAST-MODIFIED:20231127T194638Z
UID:2013-1709643600-1709652600@www.eristates.org
SUMMARY:1\,4-Dioxane: Science\, Characterization & Analysis\, and Remediation
DESCRIPTION:
URL:https://www.eristates.org/event/14-dioxane-science-characterization-analysis-and-remediation-8/
CATEGORIES:Online Training
END:VEVENT
BEGIN:VEVENT
DTSTART;TZID=America/New_York:20240312T150000
DTEND;TZID=America/New_York:20240312T160000
DTSTAMP:20260422T182955
CREATED:20240108T212555Z
LAST-MODIFIED:20240108T212555Z
UID:2054-1710255600-1710259200@www.eristates.org
SUMMARY:Human Social Systems and Justice in the 5th U.S. National Climate Assessment
DESCRIPTION:
URL:https://www.eristates.org/event/human-social-systems-and-justice-in-the-5th-u-s-national-climate-assessment/
CATEGORIES:Webinar
END:VEVENT
BEGIN:VEVENT
DTSTART;TZID=America/New_York:20240313T150000
DTEND;TZID=America/New_York:20240313T160000
DTSTAMP:20260422T182955
CREATED:20240206T193230Z
LAST-MODIFIED:20240206T193230Z
UID:2099-1710342000-1710345600@www.eristates.org
SUMMARY:Nutrient Explorer
DESCRIPTION:
URL:https://www.eristates.org/event/nutrient-explorer/
CATEGORIES:Online Training,Webinar
END:VEVENT
BEGIN:VEVENT
DTSTART;TZID=America/New_York:20240314T130000
DTEND;TZID=America/New_York:20240314T150000
DTSTAMP:20260422T182955
CREATED:20231127T194806Z
LAST-MODIFIED:20231127T194806Z
UID:2015-1710421200-1710428400@www.eristates.org
SUMMARY:Vapor Intrusion Mitigation - Part 1 of 2
DESCRIPTION:
URL:https://www.eristates.org/event/vapor-intrusion-mitigation-part-1-of-2/
CATEGORIES:Online Training
END:VEVENT
BEGIN:VEVENT
DTSTART;TZID=America/New_York:20240319T130000
DTEND;TZID=America/New_York:20240319T143000
DTSTAMP:20260422T182955
CREATED:20231127T194927Z
LAST-MODIFIED:20231127T194927Z
UID:2017-1710853200-1710858600@www.eristates.org
SUMMARY:Environmental Data Management (EDM): Best Practices for Achieving and Maintaining Quality within Environmental Data Management
DESCRIPTION:
URL:https://www.eristates.org/event/environmental-data-management-edm-best-practices-for-achieving-and-maintaining-quality-within-environmental-data-management/
CATEGORIES:Online Training
END:VEVENT
BEGIN:VEVENT
DTSTART;TZID=America/New_York:20240319T150000
DTEND;TZID=America/New_York:20240319T160000
DTSTAMP:20260422T182955
CREATED:20240213T174236Z
LAST-MODIFIED:20240213T174236Z
UID:2135-1710860400-1710864000@www.eristates.org
SUMMARY:Wildfire Impacts: Beyond Ambient PM2.5 (toxics\, water quality)
DESCRIPTION:
URL:https://www.eristates.org/event/wildfire-impacts-beyond-ambient-pm2-5-toxics-water-quality/
CATEGORIES:Webinar
END:VEVENT
BEGIN:VEVENT
DTSTART;TZID=America/New_York:20240326T130000
DTEND;TZID=America/New_York:20240326T153000
DTSTAMP:20260422T182955
CREATED:20231127T195037Z
LAST-MODIFIED:20231127T195037Z
UID:2019-1711458000-1711467000@www.eristates.org
SUMMARY:Sustainable Resilient Remediation
DESCRIPTION:
URL:https://www.eristates.org/event/sustainable-resilient-remediation-2/
CATEGORIES:Online Training
END:VEVENT
BEGIN:VEVENT
DTSTART;TZID=America/New_York:20240326T140000
DTEND;TZID=America/New_York:20240326T153000
DTSTAMP:20260422T182955
CREATED:20240108T213809Z
LAST-MODIFIED:20240108T213809Z
UID:2066-1711461600-1711467000@www.eristates.org
SUMMARY:Technical Assistance for Lead
DESCRIPTION:
URL:https://www.eristates.org/event/technical-assistance-for-lead/
CATEGORIES:Webinar
END:VEVENT
BEGIN:VEVENT
DTSTART;TZID=America/New_York:20240327T140000
DTEND;TZID=America/New_York:20240327T150000
DTSTAMP:20260422T182955
CREATED:20240108T212209Z
LAST-MODIFIED:20240108T212209Z
UID:2050-1711548000-1711551600@www.eristates.org
SUMMARY:Genetic Science Applications in Predicting Cyanobacterial Blooms
DESCRIPTION:
URL:https://www.eristates.org/event/genetic-science-applications-in-predicting-cyanobacterial-blooms/
CATEGORIES:Webinar
END:VEVENT
BEGIN:VEVENT
DTSTART;TZID=America/New_York:20240328T130000
DTEND;TZID=America/New_York:20240328T150000
DTSTAMP:20260422T182955
CREATED:20231127T195148Z
LAST-MODIFIED:20231127T195148Z
UID:2021-1711630800-1711638000@www.eristates.org
SUMMARY:Vapor Intrusion Mitigation - Part 2
DESCRIPTION:
URL:https://www.eristates.org/event/vapor-intrusion-mitigation-part-2-2/
CATEGORIES:Online Training
END:VEVENT
BEGIN:VEVENT
DTSTART;TZID=America/New_York:20240404T120000
DTEND;TZID=America/New_York:20240404T133000
DTSTAMP:20260422T182955
CREATED:20240131T154030Z
LAST-MODIFIED:20240131T154030Z
UID:2089-1712232000-1712237400@www.eristates.org
SUMMARY:Novel Technologies for Ex Situ and In Situ PFAS Treatment
DESCRIPTION:
URL:https://www.eristates.org/event/novel-technologies-for-ex-situ-and-in-situ-pfas-treatment/
CATEGORIES:Webinar
END:VEVENT
BEGIN:VEVENT
DTSTART;TZID=America/New_York:20240404T150000
DTEND;TZID=America/New_York:20240404T160000
DTSTAMP:20260422T182955
CREATED:20240206T194352Z
LAST-MODIFIED:20240206T194352Z
UID:2122-1712242800-1712246400@www.eristates.org
SUMMARY:Report on the Environment
DESCRIPTION:
URL:https://www.eristates.org/event/report-on-the-environment/
CATEGORIES:Online Training,Webinar
END:VEVENT
BEGIN:VEVENT
DTSTART;TZID=America/New_York:20240410T140000
DTEND;TZID=America/New_York:20240410T150000
DTSTAMP:20260422T182955
CREATED:20240213T175056Z
LAST-MODIFIED:20240213T175056Z
UID:2145-1712757600-1712761200@www.eristates.org
SUMMARY:Oil Spill Monitoring Tools
DESCRIPTION:
URL:https://www.eristates.org/event/oil-spill-monitoring-tools/
CATEGORIES:Webinar
END:VEVENT
BEGIN:VEVENT
DTSTART;TZID=America/New_York:20240416T130000
DTEND;TZID=America/New_York:20240416T143000
DTSTAMP:20260422T182955
CREATED:20231127T195302Z
LAST-MODIFIED:20231127T195302Z
UID:2023-1713272400-1713277800@www.eristates.org
SUMMARY:Environmental Data Management (EDM): Best Practices for Exchanging Environmental Data
DESCRIPTION:
URL:https://www.eristates.org/event/environmental-data-management-edm-best-practices-for-exchanging-environmental-data/
CATEGORIES:Online Training
END:VEVENT
BEGIN:VEVENT
DTSTART;TZID=America/New_York:20240417T150000
DTEND;TZID=America/New_York:20240417T160000
DTSTAMP:20260422T182955
CREATED:20240108T211628Z
LAST-MODIFIED:20240206T193023Z
UID:2046-1713366000-1713369600@www.eristates.org
SUMMARY:Tire Crumb Research
DESCRIPTION:
URL:https://www.eristates.org/event/tire-crumb-research/
CATEGORIES:Online Training,Webinar
END:VEVENT
BEGIN:VEVENT
DTSTART;TZID=America/New_York:20240418T130000
DTEND;TZID=America/New_York:20240418T140000
DTSTAMP:20260422T182955
CREATED:20240402T183711Z
LAST-MODIFIED:20240402T183711Z
UID:2202-1713445200-1713448800@www.eristates.org
SUMMARY:Chemicals in Plastics: Human Health Costs
DESCRIPTION:
URL:https://www.eristates.org/event/chemicals-in-plastics-human-health-costs/
CATEGORIES:Webinar
END:VEVENT
BEGIN:VEVENT
DTSTART;TZID=America/New_York:20240424T140000
DTEND;TZID=America/New_York:20240424T150000
DTSTAMP:20260422T182955
CREATED:20240108T215013Z
LAST-MODIFIED:20240108T215013Z
UID:2078-1713967200-1713970800@www.eristates.org
SUMMARY:Development and Implementation of DNA-Based Biomonitoring to Support Assessment of Aquatic and Human Health
DESCRIPTION:
URL:https://www.eristates.org/event/development-and-implementation-of-dna-based-biomonitoring-to-support-assessment-of-aquatic-and-human-health/
CATEGORIES:Webinar
END:VEVENT
BEGIN:VEVENT
DTSTART;TZID=America/New_York:20240425T130000
DTEND;TZID=America/New_York:20240425T143000
DTSTAMP:20260422T182955
CREATED:20231127T195415Z
LAST-MODIFIED:20231127T195415Z
UID:2025-1714050000-1714055400@www.eristates.org
SUMMARY:Environmental Data Management (EDM): Real Life Application of Data Management Planning and Field Data Collection Best Practices
DESCRIPTION:
URL:https://www.eristates.org/event/environmental-data-management-edm-real-life-application-of-data-management-planning-and-field-data-collection-best-practices/
CATEGORIES:Online Training
END:VEVENT
BEGIN:VEVENT
DTSTART;TZID=America/New_York:20240425T150000
DTEND;TZID=America/New_York:20240425T160000
DTSTAMP:20260422T182955
CREATED:20240131T204938Z
LAST-MODIFIED:20240131T204938Z
UID:2093-1714057200-1714060800@www.eristates.org
SUMMARY:Environmental Justice Tools and Evaluation
DESCRIPTION:
URL:https://www.eristates.org/event/environmental-justice-tools-and-evaluation/
CATEGORIES:Webinar
END:VEVENT
BEGIN:VEVENT
DTSTART;TZID=America/New_York:20240430T140000
DTEND;TZID=America/New_York:20240430T153000
DTSTAMP:20260422T182955
CREATED:20240108T213921Z
LAST-MODIFIED:20240423T165624Z
UID:2068-1714485600-1714491000@www.eristates.org
SUMMARY:PFAS Treatment - Small Drinking Water Systems
DESCRIPTION:
URL:https://www.eristates.org/event/pfas-treatment/
CATEGORIES:Webinar
END:VEVENT
BEGIN:VEVENT
DTSTART;TZID=America/New_York:20240502T120000
DTEND;TZID=America/New_York:20240502T133000
DTSTAMP:20260422T182955
CREATED:20240213T182053Z
LAST-MODIFIED:20240213T182053Z
UID:2176-1714651200-1714656600@www.eristates.org
SUMMARY:Advances in PFAS Destructive Technologies
DESCRIPTION:
URL:https://www.eristates.org/event/advances-in-pfas-destructive-technologies-2/
CATEGORIES:Webinar
END:VEVENT
BEGIN:VEVENT
DTSTART;TZID=America/New_York:20240508T140000
DTEND;TZID=America/New_York:20240508T150000
DTSTAMP:20260422T182955
CREATED:20240213T175217Z
LAST-MODIFIED:20240213T175217Z
UID:2147-1715176800-1715180400@www.eristates.org
SUMMARY:Contaminant Fate in Wastewater Systems/Treatment Plants and Aerosolization
DESCRIPTION:
URL:https://www.eristates.org/event/contaminant-fate-in-wastewater-systems-treatment-plants-and-aerosolization/
CATEGORIES:Webinar
END:VEVENT
END:VCALENDAR