BEGIN:VCALENDAR
VERSION:2.0
PRODID:-//ERIS - ECPv6.15.20//NONSGML v1.0//EN
CALSCALE:GREGORIAN
METHOD:PUBLISH
X-WR-CALNAME:ERIS
X-ORIGINAL-URL:https://www.eristates.org
X-WR-CALDESC:Events for ERIS
REFRESH-INTERVAL;VALUE=DURATION:PT1H
X-Robots-Tag:noindex
X-PUBLISHED-TTL:PT1H
BEGIN:VTIMEZONE
TZID:America/New_York
BEGIN:DAYLIGHT
TZOFFSETFROM:-0500
TZOFFSETTO:-0400
TZNAME:EDT
DTSTART:20200308T070000
END:DAYLIGHT
BEGIN:STANDARD
TZOFFSETFROM:-0400
TZOFFSETTO:-0500
TZNAME:EST
DTSTART:20201101T060000
END:STANDARD
BEGIN:DAYLIGHT
TZOFFSETFROM:-0500
TZOFFSETTO:-0400
TZNAME:EDT
DTSTART:20210314T070000
END:DAYLIGHT
BEGIN:STANDARD
TZOFFSETFROM:-0400
TZOFFSETTO:-0500
TZNAME:EST
DTSTART:20211107T060000
END:STANDARD
BEGIN:DAYLIGHT
TZOFFSETFROM:-0500
TZOFFSETTO:-0400
TZNAME:EDT
DTSTART:20220313T070000
END:DAYLIGHT
BEGIN:STANDARD
TZOFFSETFROM:-0400
TZOFFSETTO:-0500
TZNAME:EST
DTSTART:20221106T060000
END:STANDARD
END:VTIMEZONE
BEGIN:VEVENT
DTSTART;TZID=America/New_York:20211215T150000
DTEND;TZID=America/New_York:20211215T160000
DTSTAMP:20260423T060936
CREATED:20211119T173424Z
LAST-MODIFIED:20211119T173424Z
UID:1516-1639580400-1639584000@www.eristates.org
SUMMARY:EPA Tools & Resources Webinar: Community and Citizen Science - Making Your Data Count
DESCRIPTION:
URL:https://www.eristates.org/event/epa-tools-resources-webinar-community-and-citizen-science-making-your-data-count/
CATEGORIES:Webinar
END:VEVENT
BEGIN:VEVENT
DTSTART;TZID=America/New_York:20211207T130000
DTEND;TZID=America/New_York:20211207T150000
DTSTAMP:20260423T060936
CREATED:20210106T211754Z
LAST-MODIFIED:20210106T211754Z
UID:1215-1638882000-1638889200@www.eristates.org
SUMMARY:Optimizing Injection Strategies and In Situ Remediation Performance
DESCRIPTION:
URL:https://www.eristates.org/event/optimizing-injection-strategies-and-in-situ-remediation-performance-6/
CATEGORIES:Online Training
END:VEVENT
BEGIN:VEVENT
DTSTART;TZID=America/New_York:20211118T130000
DTEND;TZID=America/New_York:20211118T150000
DTSTAMP:20260423T060936
CREATED:20210106T211641Z
LAST-MODIFIED:20210106T211641Z
UID:1213-1637240400-1637247600@www.eristates.org
SUMMARY:TPH Risk Evaluation at Petroleum-Contaminated Sites
DESCRIPTION:
URL:https://www.eristates.org/event/tph-risk-evaluation-at-petroleum-contaminated-sites-8/
CATEGORIES:Online Training
END:VEVENT
BEGIN:VEVENT
DTSTART;TZID=America/New_York:20211117T160000
DTEND;TZID=America/New_York:20211117T170000
DTSTAMP:20260423T060936
CREATED:20211015T134928Z
LAST-MODIFIED:20211015T134928Z
UID:1510-1637164800-1637168400@www.eristates.org
SUMMARY:One Health Part 2
DESCRIPTION:
URL:https://www.eristates.org/event/one-health-part-2/
CATEGORIES:Webinar
END:VEVENT
BEGIN:VEVENT
DTSTART;TZID=America/New_York:20211116T130000
DTEND;TZID=America/New_York:20211116T150000
DTSTAMP:20260423T060936
CREATED:20210106T210835Z
LAST-MODIFIED:20210106T210835Z
UID:1211-1637067600-1637074800@www.eristates.org
SUMMARY:Bioavailability of Contaminants in Soil: Considerations for Human Health Risk Assessment
DESCRIPTION:
URL:https://www.eristates.org/event/bioavailability-of-contaminants-in-soil-considerations-for-human-health-risk-assessment-7/
CATEGORIES:Online Training
END:VEVENT
BEGIN:VEVENT
DTSTART;TZID=America/New_York:20211109T130000
DTEND;TZID=America/New_York:20211109T150000
DTSTAMP:20260423T060936
CREATED:20210106T210724Z
LAST-MODIFIED:20210106T210724Z
UID:1209-1636462800-1636470000@www.eristates.org
SUMMARY:Connecting the Science to Managing LNAPL Sites 3-Part Series - Part 3
DESCRIPTION:Select/implement LNAPL technologies
URL:https://www.eristates.org/event/connecting-the-science-to-managing-lnapl-sites-3-part-series-part-3-3/
CATEGORIES:Online Training
END:VEVENT
BEGIN:VEVENT
DTSTART;TZID=America/New_York:20211104T130000
DTEND;TZID=America/New_York:20211104T150000
DTSTAMP:20260423T060936
CREATED:20210106T210544Z
LAST-MODIFIED:20210106T210544Z
UID:1207-1636030800-1636038000@www.eristates.org
SUMMARY:Integrated DNAPL Site Characterization
DESCRIPTION:
URL:https://www.eristates.org/event/integrated-dnapl-site-characterization-4/
CATEGORIES:Online Training
END:VEVENT
BEGIN:VEVENT
DTSTART;TZID=America/New_York:20211103T160000
DTEND;TZID=America/New_York:20211103T170000
DTSTAMP:20260423T060936
CREATED:20211015T134820Z
LAST-MODIFIED:20211015T134820Z
UID:1505-1635955200-1635958800@www.eristates.org
SUMMARY:One Health Part 1
DESCRIPTION:
URL:https://www.eristates.org/event/one-health-part-1/
CATEGORIES:Webinar
END:VEVENT
BEGIN:VEVENT
DTSTART;TZID=America/New_York:20211102T130000
DTEND;TZID=America/New_York:20211102T150000
DTSTAMP:20260423T060936
CREATED:20210106T210450Z
LAST-MODIFIED:20210106T210450Z
UID:1205-1635858000-1635865200@www.eristates.org
SUMMARY:Connecting the Science to Managing LNAPL Sites 3-Part Series - Part 2
DESCRIPTION:Develop your LNAPL conceptual site model and LNAPL remedial goals
URL:https://www.eristates.org/event/connecting-the-science-to-managing-lnapl-sites-3-part-series-part-2-2/
CATEGORIES:Online Training
END:VEVENT
BEGIN:VEVENT
DTSTART;TZID=America/New_York:20211026T130000
DTEND;TZID=America/New_York:20211026T150000
DTSTAMP:20260423T060936
CREATED:20210106T205954Z
LAST-MODIFIED:20210106T205954Z
UID:1203-1635253200-1635260400@www.eristates.org
SUMMARY:Connecting the Science to Managing LNAPL Sites 3-Part Series: Part 1
DESCRIPTION:Build upon your understanding of LNAPL behavior in the subsurface
URL:https://www.eristates.org/event/connecting-the-science-to-managing-lnapl-sites-3-part-series-part-1-3/
CATEGORIES:Online Training
END:VEVENT
BEGIN:VEVENT
DTSTART;TZID=America/New_York:20211021T120000
DTEND;TZID=America/New_York:20211021T133000
DTSTAMP:20260423T060936
CREATED:20210106T223401Z
LAST-MODIFIED:20210106T223401Z
UID:1243-1634817600-1634823000@www.eristates.org
SUMMARY:Advances in Stormwater Monitoring and the Development of Best Management Practices for Treatment
DESCRIPTION:
URL:https://www.eristates.org/event/advances-in-stormwater-monitoring-and-the-development-of-best-management-practices-for-treatment/
CATEGORIES:Webinar
END:VEVENT
BEGIN:VEVENT
DTSTART;TZID=America/New_York:20211021T120000
DTEND;TZID=America/New_York:20211021T120000
DTSTAMP:20260423T060936
CREATED:20210330T155835Z
LAST-MODIFIED:20210330T155835Z
UID:1396-1634817600-1634817600@www.eristates.org
SUMMARY:Advances in Stormwater Monitoring and the Development of Best Management Practices for Treatment
DESCRIPTION:
URL:https://www.eristates.org/event/advances-in-stormwater-monitoring-and-the-development-of-best-management-practices-for-treatment-2/
CATEGORIES:Webinar
END:VEVENT
BEGIN:VEVENT
DTSTART;TZID=America/New_York:20211020T150000
DTEND;TZID=America/New_York:20211020T160000
DTSTAMP:20260423T060936
CREATED:20210923T135023Z
LAST-MODIFIED:20210923T135023Z
UID:1497-1634742000-1634745600@www.eristates.org
SUMMARY:EPA Tools & Resources Webinar: Freshwater Explorer
DESCRIPTION:
URL:https://www.eristates.org/event/epa-tools-resources-webinar-freshwater-explorer/
CATEGORIES:Webinar
END:VEVENT
BEGIN:VEVENT
DTSTART;TZID=America/New_York:20211019T130000
DTEND;TZID=America/New_York:20211019T150000
DTSTAMP:20260423T060936
CREATED:20210106T205812Z
LAST-MODIFIED:20210106T205812Z
UID:1201-1634648400-1634655600@www.eristates.org
SUMMARY:Characterization and Remediation in Fractured Rock
DESCRIPTION:
URL:https://www.eristates.org/event/characterization-and-remediation-in-fractured-rock-6/
CATEGORIES:Online Training
END:VEVENT
BEGIN:VEVENT
DTSTART;TZID=America/New_York:20211014T130000
DTEND;TZID=America/New_York:20211014T150000
DTSTAMP:20260423T060936
CREATED:20210106T205435Z
LAST-MODIFIED:20210106T205435Z
UID:1199-1634216400-1634223600@www.eristates.org
SUMMARY:Long-term Contaminant Management Using Institutional Controls
DESCRIPTION:
URL:https://www.eristates.org/event/long-term-contaminant-management-using-institutional-controls-5/
CATEGORIES:Online Training
END:VEVENT
BEGIN:VEVENT
DTSTART;TZID=America/New_York:20211012T133000
DTEND;TZID=America/New_York:20211110T150000
DTSTAMP:20260423T060936
CREATED:20210913T194244Z
LAST-MODIFIED:20210913T194244Z
UID:1492-1634045400-1636556400@www.eristates.org
SUMMARY:Our Changing Precipitation: Peer Examples: Evaluating Changing Precipitation Trends for Managing Water Infrastructure
DESCRIPTION:Provide examples of how some communities are moving forward\, using future precipitation considerations for local decision making.
URL:https://www.eristates.org/event/our-changing-precipitation-peer-examples-evaluating-changing-precipitation-trends-for-managing-water-infrastructure/
CATEGORIES:Webinar
END:VEVENT
BEGIN:VEVENT
DTSTART;TZID=America/New_York:20211007T150000
DTEND;TZID=America/New_York:20211007T160000
DTSTAMP:20260423T060936
CREATED:20210923T134932Z
LAST-MODIFIED:20210923T134932Z
UID:1496-1633618800-1633622400@www.eristates.org
SUMMARY:EPA Tools & Resources Training Webinar: Chemical Transformation Simulator
DESCRIPTION:
URL:https://www.eristates.org/event/epa-tools-resources-training-webinar-chemical-transformation-simulator/
CATEGORIES:Online Training
END:VEVENT
BEGIN:VEVENT
DTSTART;TZID=America/New_York:20211007T130000
DTEND;TZID=America/New_York:20211007T150000
DTSTAMP:20260423T060936
CREATED:20210106T205323Z
LAST-MODIFIED:20210106T205323Z
UID:1197-1633611600-1633618800@www.eristates.org
SUMMARY:Remediation Management of Complex Sites
DESCRIPTION:
URL:https://www.eristates.org/event/remediation-management-of-complex-sites-6/
CATEGORIES:Online Training
END:VEVENT
BEGIN:VEVENT
DTSTART;TZID=America/New_York:20211005T133000
DTEND;TZID=America/New_York:20211005T150000
DTSTAMP:20260423T060936
CREATED:20210913T194035Z
LAST-MODIFIED:20210913T194035Z
UID:1490-1633440600-1633446000@www.eristates.org
SUMMARY:Our Changing Precipitation: What's on the Horizon for Science and Application of Climate Change Information for Water Infrastructure Managers
DESCRIPTION:An interdisciplinary conversation among thought leaders to provide participants an idea of what is on the horizon for helping communities build resilience of water management infrastructure and how we can move forward as a nation.
URL:https://www.eristates.org/event/our-changing-precipitation-whats-on-the-horizon-for-science-and-application-of-climate-change-information-for-water-infrastructure-managers/
CATEGORIES:Webinar
END:VEVENT
BEGIN:VEVENT
DTSTART;TZID=America/New_York:20210930T130000
DTEND;TZID=America/New_York:20210930T150000
DTSTAMP:20260423T060936
CREATED:20210106T205158Z
LAST-MODIFIED:20210106T205158Z
UID:1195-1633006800-1633014000@www.eristates.org
SUMMARY:1\,4 Dioxane: Science\, Characterization & Analysis\, and Remediation
DESCRIPTION:
URL:https://www.eristates.org/event/14-dioxane-science-characterization-analysis-and-remediation-2/
CATEGORIES:Online Training
END:VEVENT
BEGIN:VEVENT
DTSTART;TZID=America/New_York:20210928T140000
DTEND;TZID=America/New_York:20210928T160000
DTSTAMP:20260423T060936
CREATED:20210913T180053Z
LAST-MODIFIED:20210913T180053Z
UID:1488-1632837600-1632844800@www.eristates.org
SUMMARY:Our Changing Precipitation: From Science to Application: Climate Science\, Hydrology\, and Planning - Part 2
DESCRIPTION:Learn about some of the ways researchers are helping communities consider climate change in local planning. Participants will gain insights into approaches for evaluating climate change impacts on hydrology for planning.
URL:https://www.eristates.org/event/our-changing-precipitation-from-science-to-application-climate-science-hydrology-and-planning-part-2/
CATEGORIES:Webinar
END:VEVENT
BEGIN:VEVENT
DTSTART;TZID=America/New_York:20210928T130000
DTEND;TZID=America/New_York:20210928T130000
DTSTAMP:20260423T060936
CREATED:20210106T205052Z
LAST-MODIFIED:20210106T205052Z
UID:1193-1632834000-1632834000@www.eristates.org
SUMMARY:Vapor Intrusion Mitigation Session 2: Active Mitigation\, Passive Mitigation\, Installation/OM&M/Exit Strategy
DESCRIPTION:
URL:https://www.eristates.org/event/vapor-intrusion-mitigation-session-2-active-mitigation-passive-mitigation-installation-omm-exit-strategy/
CATEGORIES:Online Training
END:VEVENT
BEGIN:VEVENT
DTSTART;TZID=America/New_York:20210923T123000
DTEND;TZID=America/New_York:20210923T143000
DTSTAMP:20260423T060936
CREATED:20210913T171645Z
LAST-MODIFIED:20210913T171645Z
UID:1482-1632400200-1632407400@www.eristates.org
SUMMARY:State/Local Listening Session on Cumulative Impacts: Regions 6-10
DESCRIPTION:The purpose of these sessions is to give states and local agencies the opportunity to convey concerns and research interests early in EPA’s research planning process. Your input can help inform the research needed to better protect human health and the environment in ways that assess and account for cumulative impacts.
URL:https://www.eristates.org/event/state-local-listening-session-on-cumulative-impacts-regions-6-10/
CATEGORIES:Webinar
END:VEVENT
BEGIN:VEVENT
DTSTART;TZID=America/New_York:20210921T140000
DTEND;TZID=America/New_York:20210921T153000
DTSTAMP:20260423T060936
CREATED:20210913T175609Z
LAST-MODIFIED:20210913T175609Z
UID:1486-1632232800-1632238200@www.eristates.org
SUMMARY:Our Changing Precipitation: From Science to Application: Climate Science\, Hydrology\, and Planning - Part 1
DESCRIPTION:Learn about: results of studies evaluating local and regional trends in extreme events\, different approaches for evaluating future precipitation\, an analysis of current State stormwater infrastructure standards\, and a method being considered by the American Society of Civil Engineers (ASCE) for a Climate-Resilient Infrastructure standard.
URL:https://www.eristates.org/event/our-changing-precipitation-from-science-to-application-climate-science-hydrology-and-planning-part-1/
CATEGORIES:Webinar
END:VEVENT
BEGIN:VEVENT
DTSTART;TZID=America/New_York:20210920T150000
DTEND;TZID=America/New_York:20210920T173000
DTSTAMP:20260423T060936
CREATED:20210913T171519Z
LAST-MODIFIED:20210913T171519Z
UID:1480-1632150000-1632159000@www.eristates.org
SUMMARY:State/Local Listening Session on Cumulative Impacts: Regions 1-5
DESCRIPTION:The purpose of these sessions is to give states and local agencies the opportunity to convey concerns and research interests early in EPA’s research planning process. Your input can help inform the research needed to better protect human health and the environment in ways that assess and account for cumulative impacts. \n 
URL:https://www.eristates.org/event/state-local-listening-session-on-cumulative-impacts-regions-1-5/
CATEGORIES:Webinar
END:VEVENT
BEGIN:VEVENT
DTSTART;TZID=America/New_York:20210916T130000
DTEND;TZID=America/New_York:20210916T150000
DTSTAMP:20260423T060936
CREATED:20210106T204843Z
LAST-MODIFIED:20210106T204843Z
UID:1191-1631797200-1631804400@www.eristates.org
SUMMARY:Bioavailability of Contaminants in Soil: Considerations for Human Health Risk Assessment
DESCRIPTION:
URL:https://www.eristates.org/event/bioavailability-of-contaminants-in-soil-considerations-for-human-health-risk-assessment-6/
CATEGORIES:Online Training
END:VEVENT
BEGIN:VEVENT
DTSTART;TZID=America/New_York:20210915T150000
DTEND;TZID=America/New_York:20210915T160000
DTSTAMP:20260423T060936
CREATED:20210830T190706Z
LAST-MODIFIED:20210830T190706Z
UID:1471-1631718000-1631721600@www.eristates.org
SUMMARY:EPA Tools and Resources Webinar: Strategies for Effective Health Risk Communication During Wildfire Smoke
DESCRIPTION:
URL:https://www.eristates.org/event/epa-tools-and-resources-webinar-strategies-for-effective-health-risk-communication-during-wildfire-smoke/
CATEGORIES:Webinar
END:VEVENT
BEGIN:VEVENT
DTSTART;TZID=America/New_York:20210915T130000
DTEND;TZID=America/New_York:20210915T140000
DTSTAMP:20260423T060936
CREATED:20210913T171118Z
LAST-MODIFIED:20210913T171118Z
UID:1477-1631710800-1631714400@www.eristates.org
SUMMARY:Make Your Citizen Science Project Count: Strategies to Produce Quality Data
DESCRIPTION:Citizen science encompasses a wide variety of kinds of projects that produce data — from community science activities to public participation in scientific research. A goal of the scientific process is to produce unbiased\, transparent\, and reproducible data\, regardless of who is doing the work and when it is occurring. A quality assurance project plan\, or project plan\, provides the framework to produce these type of data\, increasing the chance they can used for their intended purpose and maximum impact. Join this webinar to learn how citizen science groups have successfully integrated quality assurance approaches into their projects to help answer their community’s environmental and public health questions.
URL:https://www.eristates.org/event/make-your-citizen-science-project-count-strategies-to-produce-quality-data/
CATEGORIES:Webinar
END:VEVENT
BEGIN:VEVENT
DTSTART;TZID=America/New_York:20210914T140000
DTEND;TZID=America/New_York:20210914T150000
DTSTAMP:20260423T060936
CREATED:20210913T175251Z
LAST-MODIFIED:20210913T175251Z
UID:1484-1631628000-1631631600@www.eristates.org
SUMMARY:Our Changing Precipitation: Focus on Science
DESCRIPTION:NOAA’s Climate Program Office and National Centers for Environmental Information\, in partnership with The Water Research Foundation\, are hosting a five-part webinar series on Our Changing Precipitation. The webinars will take place on Tuesday afternoons (Eastern). Join us to learn more about some of the considerations and methods for working with available precipitation science and information to advance resilience planning. \nAttendees will hear in lay terms\, and help advance the conversation about\, our current ability to project precipitation at temporal and spatial scales relevant for local water infrastructure decision making. You will also learn about some practical ways to take action to build resilience to climate change.
URL:https://www.eristates.org/event/our-changing-precipitation-focus-on-science/
CATEGORIES:Webinar
END:VEVENT
BEGIN:VEVENT
DTSTART;TZID=America/New_York:20210914T130000
DTEND;TZID=America/New_York:20210914T150000
DTSTAMP:20260423T060936
CREATED:20210106T204716Z
LAST-MODIFIED:20210106T204716Z
UID:1189-1631624400-1631631600@www.eristates.org
SUMMARY:Vapor Intrusion Mitigation Session 1
DESCRIPTION:Conceptual site model for vapor intrusion mitigation\, public outreach\, rapid response\, remediation and institutional controls
URL:https://www.eristates.org/event/vapor-intrusion-mitigation-session-1-2/
CATEGORIES:Online Training
END:VEVENT
END:VCALENDAR