BEGIN:VCALENDAR
VERSION:2.0
PRODID:-//ERIS - ECPv6.15.20//NONSGML v1.0//EN
CALSCALE:GREGORIAN
METHOD:PUBLISH
X-WR-CALNAME:ERIS
X-ORIGINAL-URL:https://www.eristates.org
X-WR-CALDESC:Events for ERIS
REFRESH-INTERVAL;VALUE=DURATION:PT1H
X-Robots-Tag:noindex
X-PUBLISHED-TTL:PT1H
BEGIN:VTIMEZONE
TZID:America/New_York
BEGIN:DAYLIGHT
TZOFFSETFROM:-0500
TZOFFSETTO:-0400
TZNAME:EDT
DTSTART:20230312T070000
END:DAYLIGHT
BEGIN:STANDARD
TZOFFSETFROM:-0400
TZOFFSETTO:-0500
TZNAME:EST
DTSTART:20231105T060000
END:STANDARD
BEGIN:DAYLIGHT
TZOFFSETFROM:-0500
TZOFFSETTO:-0400
TZNAME:EDT
DTSTART:20240310T070000
END:DAYLIGHT
BEGIN:STANDARD
TZOFFSETFROM:-0400
TZOFFSETTO:-0500
TZNAME:EST
DTSTART:20241103T060000
END:STANDARD
BEGIN:DAYLIGHT
TZOFFSETFROM:-0500
TZOFFSETTO:-0400
TZNAME:EDT
DTSTART:20250309T070000
END:DAYLIGHT
BEGIN:STANDARD
TZOFFSETFROM:-0400
TZOFFSETTO:-0500
TZNAME:EST
DTSTART:20251102T060000
END:STANDARD
END:VTIMEZONE
BEGIN:VEVENT
DTSTART;TZID=America/New_York:20240625T140000
DTEND;TZID=America/New_York:20240625T153000
DTSTAMP:20260423T061024
CREATED:20240108T214149Z
LAST-MODIFIED:20240108T214149Z
UID:2072-1719324000-1719329400@www.eristates.org
SUMMARY:Climate Change
DESCRIPTION:
URL:https://www.eristates.org/event/climate-change/
CATEGORIES:Webinar
END:VEVENT
BEGIN:VEVENT
DTSTART;TZID=America/New_York:20240626T140000
DTEND;TZID=America/New_York:20240626T150000
DTSTAMP:20260423T061024
CREATED:20240108T215141Z
LAST-MODIFIED:20240108T215141Z
UID:2080-1719410400-1719414000@www.eristates.org
SUMMARY:Ecosystem and Human Health Risks from Tires as a Complex Pollutant
DESCRIPTION:
URL:https://www.eristates.org/event/ecosystem-and-human-health-risks-from-tires-as-a-complex-pollutant/
CATEGORIES:Webinar
END:VEVENT
BEGIN:VEVENT
DTSTART;TZID=America/New_York:20240627T120000
DTEND;TZID=America/New_York:20240627T133000
DTSTAMP:20260423T061024
CREATED:20240131T154155Z
LAST-MODIFIED:20240131T154155Z
UID:2091-1719489600-1719495000@www.eristates.org
SUMMARY:Advances in PFAS Destructive Technologies
DESCRIPTION:
URL:https://www.eristates.org/event/advances-in-pfas-destructive-technologies/
CATEGORIES:Webinar
END:VEVENT
BEGIN:VEVENT
DTSTART;TZID=America/New_York:20240717T150000
DTEND;TZID=America/New_York:20240717T160000
DTSTAMP:20260423T061024
CREATED:20240206T193756Z
LAST-MODIFIED:20240206T193756Z
UID:2105-1721228400-1721232000@www.eristates.org
SUMMARY:Temperature\, Precipitation and Beyond: Introducing Datasets Suitable for Comprehensive Analysis of Local Climate Change Impacts
DESCRIPTION:
URL:https://www.eristates.org/event/temperature-precipitation-and-beyond-introducing-datasets-suitable-for-comprehensive-analysis-of-local-climate-change-impacts/
CATEGORIES:Online Training,Webinar
END:VEVENT
BEGIN:VEVENT
DTSTART;TZID=America/New_York:20240730T140000
DTEND;TZID=America/New_York:20240730T150000
DTSTAMP:20260423T061024
CREATED:20240108T214256Z
LAST-MODIFIED:20240108T214256Z
UID:2074-1722348000-1722351600@www.eristates.org
SUMMARY:Disinfection Byproducts
DESCRIPTION:
URL:https://www.eristates.org/event/disinfection-byproducts/
CATEGORIES:Webinar
END:VEVENT
BEGIN:VEVENT
DTSTART;TZID=America/New_York:20240731T140000
DTEND;TZID=America/New_York:20240731T150000
DTSTAMP:20260423T061024
CREATED:20240213T180231Z
LAST-MODIFIED:20240213T180231Z
UID:2162-1722434400-1722438000@www.eristates.org
SUMMARY:Nutrients and Climate Interactions
DESCRIPTION:
URL:https://www.eristates.org/event/nutrients-and-climate-interactions/
CATEGORIES:Webinar
END:VEVENT
BEGIN:VEVENT
DTSTART;TZID=America/New_York:20240801T150000
DTEND;TZID=America/New_York:20240801T160000
DTSTAMP:20260423T061024
CREATED:20240206T194448Z
LAST-MODIFIED:20240206T194448Z
UID:2120-1722524400-1722528000@www.eristates.org
SUMMARY:Tools for Adaptation Planning: LASSO and ICLUS\, and the Global Change Explorer
DESCRIPTION:
URL:https://www.eristates.org/event/tools-for-adaptation-planning-lasso-and-iclus-and-the-global-change-explorer/
CATEGORIES:Online Training,Webinar
END:VEVENT
BEGIN:VEVENT
DTSTART;TZID=America/New_York:20240808T120000
DTEND;TZID=America/New_York:20240808T133000
DTSTAMP:20260423T061024
CREATED:20240306T215427Z
LAST-MODIFIED:20240306T215427Z
UID:2186-1723118400-1723123800@www.eristates.org
SUMMARY:Improving Measurement Accuracy for PFAS Passive Samplers
DESCRIPTION:
URL:https://www.eristates.org/event/improving-measurement-accuracy-for-pfas-passive-samplers/
CATEGORIES:Webinar
END:VEVENT
BEGIN:VEVENT
DTSTART;TZID=America/New_York:20240814T140000
DTEND;TZID=America/New_York:20240814T150000
DTSTAMP:20260423T061024
CREATED:20240213T175423Z
LAST-MODIFIED:20240213T175423Z
UID:2151-1723644000-1723647600@www.eristates.org
SUMMARY:EPA's Operational Testing and Evaluation of Chemical Remediation Activities (OTECRA) Project
DESCRIPTION:
URL:https://www.eristates.org/event/epas-operational-testing-and-evaluation-of-chemical-remediation-activities-otecra-project/
CATEGORIES:Webinar
END:VEVENT
BEGIN:VEVENT
DTSTART;TZID=America/New_York:20240814T150000
DTEND;TZID=America/New_York:20240814T160000
DTSTAMP:20260423T061024
CREATED:20240206T193824Z
LAST-MODIFIED:20240206T193824Z
UID:2111-1723647600-1723651200@www.eristates.org
SUMMARY:New Approach Methods (NAMs)
DESCRIPTION:
URL:https://www.eristates.org/event/new-approach-methods-nams/
CATEGORIES:Online Training,Webinar
END:VEVENT
BEGIN:VEVENT
DTSTART;TZID=America/New_York:20240820T150000
DTEND;TZID=America/New_York:20240820T160000
DTSTAMP:20260423T061024
CREATED:20240213T174504Z
LAST-MODIFIED:20240213T174504Z
UID:2139-1724166000-1724169600@www.eristates.org
SUMMARY:Air Pollution Health Impacts Beyond Cardiovascular and Respiratory (Reproductive\, Neurological/Mental Health)
DESCRIPTION:
URL:https://www.eristates.org/event/air-pollution-health-impacts-beyond-cardiovascular-and-respiratory-reproductive-neurological-mental-health/
CATEGORIES:Webinar
END:VEVENT
BEGIN:VEVENT
DTSTART;TZID=America/New_York:20240821T150000
DTEND;TZID=America/New_York:20240821T160000
DTSTAMP:20260423T061024
CREATED:20240423T165321Z
LAST-MODIFIED:20240423T165321Z
UID:2213-1724252400-1724256000@www.eristates.org
SUMMARY:New Approach Methods
DESCRIPTION:
URL:https://www.eristates.org/event/new-approach-methods/
CATEGORIES:Webinar
END:VEVENT
BEGIN:VEVENT
DTSTART;TZID=America/New_York:20240827T140000
DTEND;TZID=America/New_York:20240827T150000
DTSTAMP:20260423T061024
CREATED:20240213T180941Z
LAST-MODIFIED:20240213T180941Z
UID:2168-1724767200-1724770800@www.eristates.org
SUMMARY:PFAS Regulatory Updates
DESCRIPTION:
URL:https://www.eristates.org/event/pfas-regulatory-updates/
CATEGORIES:Webinar
END:VEVENT
BEGIN:VEVENT
DTSTART;TZID=America/New_York:20240905T130000
DTEND;TZID=America/New_York:20240905T143000
DTSTAMP:20260423T061024
CREATED:20240812T141658Z
LAST-MODIFIED:20240812T141658Z
UID:2243-1725541200-1725546600@www.eristates.org
SUMMARY:1\,4-Dioxane: Science\, Characterization & Analysis\, and Remediation
DESCRIPTION:1
URL:https://www.eristates.org/event/14-dioxane-science-characterization-analysis-and-remediation-9/
CATEGORIES:Online Training
END:VEVENT
BEGIN:VEVENT
DTSTART;TZID=America/New_York:20240910T150000
DTEND;TZID=America/New_York:20240910T160000
DTSTAMP:20260423T061024
CREATED:20240108T212925Z
LAST-MODIFIED:20240108T212925Z
UID:2058-1725980400-1725984000@www.eristates.org
SUMMARY:Cumulative Impacts of Potential Flood Exposures\, Resource Access\, and Social Vulnerability on Health Outcomes
DESCRIPTION:
URL:https://www.eristates.org/event/cumulative-impacts-of-potential-flood-exposures-resource-access-and-social-vulnerability-on-health-outcomes/
CATEGORIES:Webinar
END:VEVENT
BEGIN:VEVENT
DTSTART;TZID=America/New_York:20240911T140000
DTEND;TZID=America/New_York:20240911T150000
DTSTAMP:20260423T061024
CREATED:20240213T175518Z
LAST-MODIFIED:20240213T175518Z
UID:2153-1726063200-1726066800@www.eristates.org
SUMMARY:Premise Plumbing & Wildfires
DESCRIPTION:
URL:https://www.eristates.org/event/premise-plumbing-wildfires/
CATEGORIES:Webinar
END:VEVENT
BEGIN:VEVENT
DTSTART;TZID=America/New_York:20240912T120000
DTEND;TZID=America/New_York:20240912T133000
DTSTAMP:20260423T061024
CREATED:20240306T215633Z
LAST-MODIFIED:20240306T215633Z
UID:2188-1726142400-1726147800@www.eristates.org
SUMMARY:Developing and Demonstrating PFAS Destructive Technologies
DESCRIPTION:
URL:https://www.eristates.org/event/developing-and-demonstrating-pfas-destructive-technologies/
CATEGORIES:Webinar
END:VEVENT
BEGIN:VEVENT
DTSTART;TZID=America/New_York:20240918T150000
DTEND;TZID=America/New_York:20240918T160000
DTSTAMP:20260423T061024
CREATED:20240206T193907Z
LAST-MODIFIED:20240206T193907Z
UID:2110-1726671600-1726675200@www.eristates.org
SUMMARY:Assessing Community Vulnerabilities to Potential Contaminant Releases from Extreme Events
DESCRIPTION:
URL:https://www.eristates.org/event/assessing-community-vulnerabilities-to-potential-contaminant-releases-from-extreme-events/
CATEGORIES:Online Training,Webinar
END:VEVENT
BEGIN:VEVENT
DTSTART;TZID=America/New_York:20240919T130000
DTEND;TZID=America/New_York:20240919T143000
DTSTAMP:20260423T061024
CREATED:20240812T141837Z
LAST-MODIFIED:20240812T141837Z
UID:2245-1726750800-1726756200@www.eristates.org
SUMMARY:Vapor Intrusion Mitigation: A Two Part Training Series - Session 1
DESCRIPTION:
URL:https://www.eristates.org/event/vapor-intrusion-mitigation-a-two-part-training-series-session-1/
CATEGORIES:Online Training
END:VEVENT
BEGIN:VEVENT
DTSTART;TZID=America/New_York:20240924T130000
DTEND;TZID=America/New_York:20240924T143000
DTSTAMP:20260423T061024
CREATED:20240812T141953Z
LAST-MODIFIED:20240812T141953Z
UID:2247-1727182800-1727188200@www.eristates.org
SUMMARY:Pump & Treat Optimization
DESCRIPTION:
URL:https://www.eristates.org/event/pump-treat-optimization-3/
CATEGORIES:Online Training
END:VEVENT
BEGIN:VEVENT
DTSTART;TZID=America/New_York:20240924T140000
DTEND;TZID=America/New_York:20240924T150000
DTSTAMP:20260423T061024
CREATED:20240213T181058Z
LAST-MODIFIED:20240213T181058Z
UID:2170-1727186400-1727190000@www.eristates.org
SUMMARY:Consolidation and Restructuring
DESCRIPTION:
URL:https://www.eristates.org/event/consolidation-and-restructuring/
CATEGORIES:Webinar
END:VEVENT
BEGIN:VEVENT
DTSTART;TZID=America/New_York:20240925T140000
DTEND;TZID=America/New_York:20240925T150000
DTSTAMP:20260423T061024
CREATED:20240423T171106Z
LAST-MODIFIED:20240423T171106Z
UID:2220-1727272800-1727276400@www.eristates.org
SUMMARY:Coastal Dissolved Oxygen Dynamics and a Brief Introduction to the Hypoxia Task Force
DESCRIPTION:
URL:https://www.eristates.org/event/coastal-dissolved-oxygen-dynamics-and-a-brief-introduction-to-the-hypoxia-task-force/
CATEGORIES:Webinar
END:VEVENT
BEGIN:VEVENT
DTSTART;TZID=America/New_York:20241003T130000
DTEND;TZID=America/New_York:20241003T143000
DTSTAMP:20260423T061024
CREATED:20240812T142112Z
LAST-MODIFIED:20240812T142112Z
UID:2249-1727960400-1727965800@www.eristates.org
SUMMARY:Vapor Intrusion Mitigation: A Two Part Training Series - Session 2
DESCRIPTION:
URL:https://www.eristates.org/event/vapor-intrusion-mitigation-a-two-part-training-series-session-2/
CATEGORIES:Online Training
END:VEVENT
BEGIN:VEVENT
DTSTART;TZID=America/New_York:20241003T150000
DTEND;TZID=America/New_York:20241003T160000
DTSTAMP:20260423T061024
CREATED:20240206T194510Z
LAST-MODIFIED:20240206T194510Z
UID:2119-1727967600-1727971200@www.eristates.org
SUMMARY:Equitable Resilience Builder
DESCRIPTION:
URL:https://www.eristates.org/event/equitable-resilience-builder-2/
CATEGORIES:Online Training,Webinar
END:VEVENT
BEGIN:VEVENT
DTSTART;TZID=America/New_York:20241003T150000
DTEND;TZID=America/New_York:20241003T160000
DTSTAMP:20260423T061024
CREATED:20240925T141142Z
LAST-MODIFIED:20240925T141142Z
UID:2270-1727967600-1727971200@www.eristates.org
SUMMARY:EPA Tools & Resources Training Webinar on Equitable Resilience Builder
DESCRIPTION:
URL:https://www.eristates.org/event/epa-tools-resources-training-webinar-on-equitable-resilience-builder/
CATEGORIES:Online Training,Webinar
END:VEVENT
BEGIN:VEVENT
DTSTART;TZID=America/New_York:20241008T130000
DTEND;TZID=America/New_York:20241008T143000
DTSTAMP:20260423T061024
CREATED:20240812T142404Z
LAST-MODIFIED:20240812T142404Z
UID:2251-1728392400-1728397800@www.eristates.org
SUMMARY:Optimizing Injection Strategies and In Situ Remediation Performance
DESCRIPTION:
URL:https://www.eristates.org/event/optimizing-injection-strategies-and-in-situ-remediation-performance-9/
CATEGORIES:Online Training
END:VEVENT
BEGIN:VEVENT
DTSTART;TZID=America/New_York:20241009T140000
DTEND;TZID=America/New_York:20241009T150000
DTSTAMP:20260423T061024
CREATED:20240213T175628Z
LAST-MODIFIED:20240213T175628Z
UID:2155-1728482400-1728486000@www.eristates.org
SUMMARY:Cybersecurity & the Water Security Test Bed
DESCRIPTION:
URL:https://www.eristates.org/event/cybersecurity-the-water-security-test-bed/
CATEGORIES:Webinar
END:VEVENT
BEGIN:VEVENT
DTSTART;TZID=America/New_York:20241010T120000
DTEND;TZID=America/New_York:20241010T133000
DTSTAMP:20260423T061024
CREATED:20240306T215802Z
LAST-MODIFIED:20240306T215802Z
UID:2190-1728561600-1728567000@www.eristates.org
SUMMARY:Understanding PFAS Bioaccumulation and Toxicity in Marine Environments
DESCRIPTION:
URL:https://www.eristates.org/event/understanding-pfas-bioaccumulation-and-toxicity-in-marine-environments/
CATEGORIES:Webinar
END:VEVENT
BEGIN:VEVENT
DTSTART;TZID=America/New_York:20241016T150000
DTEND;TZID=America/New_York:20241016T160000
DTSTAMP:20260423T061024
CREATED:20240206T193931Z
LAST-MODIFIED:20240206T193931Z
UID:2109-1729090800-1729094400@www.eristates.org
SUMMARY:Participatory Science at EPA
DESCRIPTION:
URL:https://www.eristates.org/event/participatory-science-at-epa/
CATEGORIES:Online Training,Webinar
END:VEVENT
BEGIN:VEVENT
DTSTART;TZID=America/New_York:20241016T150000
DTEND;TZID=America/New_York:20241016T160000
DTSTAMP:20260423T061024
CREATED:20240925T141104Z
LAST-MODIFIED:20240925T141104Z
UID:2269-1729090800-1729094400@www.eristates.org
SUMMARY:EPA Tools & Resources Webinar on PFAS Air Emissions Measurement Methods
DESCRIPTION:
URL:https://www.eristates.org/event/epa-tools-resources-webinar-on-pfas-air-emissions-measurement-methods/
CATEGORIES:Webinar
END:VEVENT
END:VCALENDAR