BEGIN:VCALENDAR
VERSION:2.0
PRODID:-//ERIS - ECPv6.15.20//NONSGML v1.0//EN
CALSCALE:GREGORIAN
METHOD:PUBLISH
X-WR-CALNAME:ERIS
X-ORIGINAL-URL:https://www.eristates.org
X-WR-CALDESC:Events for ERIS
REFRESH-INTERVAL;VALUE=DURATION:PT1H
X-Robots-Tag:noindex
X-PUBLISHED-TTL:PT1H
BEGIN:VTIMEZONE
TZID:America/New_York
BEGIN:DAYLIGHT
TZOFFSETFROM:-0500
TZOFFSETTO:-0400
TZNAME:EDT
DTSTART:20200308T070000
END:DAYLIGHT
BEGIN:STANDARD
TZOFFSETFROM:-0400
TZOFFSETTO:-0500
TZNAME:EST
DTSTART:20201101T060000
END:STANDARD
BEGIN:DAYLIGHT
TZOFFSETFROM:-0500
TZOFFSETTO:-0400
TZNAME:EDT
DTSTART:20210314T070000
END:DAYLIGHT
BEGIN:STANDARD
TZOFFSETFROM:-0400
TZOFFSETTO:-0500
TZNAME:EST
DTSTART:20211107T060000
END:STANDARD
BEGIN:DAYLIGHT
TZOFFSETFROM:-0500
TZOFFSETTO:-0400
TZNAME:EDT
DTSTART:20220313T070000
END:DAYLIGHT
BEGIN:STANDARD
TZOFFSETFROM:-0400
TZOFFSETTO:-0500
TZNAME:EST
DTSTART:20221106T060000
END:STANDARD
END:VTIMEZONE
BEGIN:VEVENT
DTSTART;TZID=America/New_York:20210920T150000
DTEND;TZID=America/New_York:20210920T173000
DTSTAMP:20260423T125037
CREATED:20210913T171519Z
LAST-MODIFIED:20210913T171519Z
UID:1480-1632150000-1632159000@www.eristates.org
SUMMARY:State/Local Listening Session on Cumulative Impacts: Regions 1-5
DESCRIPTION:The purpose of these sessions is to give states and local agencies the opportunity to convey concerns and research interests early in EPA’s research planning process. Your input can help inform the research needed to better protect human health and the environment in ways that assess and account for cumulative impacts. \n 
URL:https://www.eristates.org/event/state-local-listening-session-on-cumulative-impacts-regions-1-5/
CATEGORIES:Webinar
END:VEVENT
BEGIN:VEVENT
DTSTART;TZID=America/New_York:20210916T130000
DTEND;TZID=America/New_York:20210916T150000
DTSTAMP:20260423T125037
CREATED:20210106T204843Z
LAST-MODIFIED:20210106T204843Z
UID:1191-1631797200-1631804400@www.eristates.org
SUMMARY:Bioavailability of Contaminants in Soil: Considerations for Human Health Risk Assessment
DESCRIPTION:
URL:https://www.eristates.org/event/bioavailability-of-contaminants-in-soil-considerations-for-human-health-risk-assessment-6/
CATEGORIES:Online Training
END:VEVENT
BEGIN:VEVENT
DTSTART;TZID=America/New_York:20210915T150000
DTEND;TZID=America/New_York:20210915T160000
DTSTAMP:20260423T125037
CREATED:20210830T190706Z
LAST-MODIFIED:20210830T190706Z
UID:1471-1631718000-1631721600@www.eristates.org
SUMMARY:EPA Tools and Resources Webinar: Strategies for Effective Health Risk Communication During Wildfire Smoke
DESCRIPTION:
URL:https://www.eristates.org/event/epa-tools-and-resources-webinar-strategies-for-effective-health-risk-communication-during-wildfire-smoke/
CATEGORIES:Webinar
END:VEVENT
BEGIN:VEVENT
DTSTART;TZID=America/New_York:20210915T130000
DTEND;TZID=America/New_York:20210915T140000
DTSTAMP:20260423T125037
CREATED:20210913T171118Z
LAST-MODIFIED:20210913T171118Z
UID:1477-1631710800-1631714400@www.eristates.org
SUMMARY:Make Your Citizen Science Project Count: Strategies to Produce Quality Data
DESCRIPTION:Citizen science encompasses a wide variety of kinds of projects that produce data — from community science activities to public participation in scientific research. A goal of the scientific process is to produce unbiased\, transparent\, and reproducible data\, regardless of who is doing the work and when it is occurring. A quality assurance project plan\, or project plan\, provides the framework to produce these type of data\, increasing the chance they can used for their intended purpose and maximum impact. Join this webinar to learn how citizen science groups have successfully integrated quality assurance approaches into their projects to help answer their community’s environmental and public health questions.
URL:https://www.eristates.org/event/make-your-citizen-science-project-count-strategies-to-produce-quality-data/
CATEGORIES:Webinar
END:VEVENT
BEGIN:VEVENT
DTSTART;TZID=America/New_York:20210914T140000
DTEND;TZID=America/New_York:20210914T150000
DTSTAMP:20260423T125037
CREATED:20210913T175251Z
LAST-MODIFIED:20210913T175251Z
UID:1484-1631628000-1631631600@www.eristates.org
SUMMARY:Our Changing Precipitation: Focus on Science
DESCRIPTION:NOAA’s Climate Program Office and National Centers for Environmental Information\, in partnership with The Water Research Foundation\, are hosting a five-part webinar series on Our Changing Precipitation. The webinars will take place on Tuesday afternoons (Eastern). Join us to learn more about some of the considerations and methods for working with available precipitation science and information to advance resilience planning. \nAttendees will hear in lay terms\, and help advance the conversation about\, our current ability to project precipitation at temporal and spatial scales relevant for local water infrastructure decision making. You will also learn about some practical ways to take action to build resilience to climate change.
URL:https://www.eristates.org/event/our-changing-precipitation-focus-on-science/
CATEGORIES:Webinar
END:VEVENT
BEGIN:VEVENT
DTSTART;TZID=America/New_York:20210914T130000
DTEND;TZID=America/New_York:20210914T150000
DTSTAMP:20260423T125037
CREATED:20210106T204716Z
LAST-MODIFIED:20210106T204716Z
UID:1189-1631624400-1631631600@www.eristates.org
SUMMARY:Vapor Intrusion Mitigation Session 1
DESCRIPTION:Conceptual site model for vapor intrusion mitigation\, public outreach\, rapid response\, remediation and institutional controls
URL:https://www.eristates.org/event/vapor-intrusion-mitigation-session-1-2/
CATEGORIES:Online Training
END:VEVENT
BEGIN:VEVENT
DTSTART;TZID=America/New_York:20210914T130000
DTEND;TZID=America/New_York:20210914T140000
DTSTAMP:20260423T125037
CREATED:20210823T192628Z
LAST-MODIFIED:20210823T192628Z
UID:1464-1631624400-1631628000@www.eristates.org
SUMMARY:Working Together to Improve Citizen Science Data Quality: A Webinar for Government Agencies
DESCRIPTION:Citizen science provides an opportunity for government agencies to expand data collection efforts in collaboration with community members to answer environmental and public health questions. Citizen science encompasses a wide variety of projects — from community science activities to public participation in scientific research. One of the best ways government agencies may contribute to these projects is to provide quality assurance guidance so the project data can be used for their intended purpose. Join this webinar to learn about successful state/federal agency-citizen science group collaborations and quality assurance resources to support these efforts.
URL:https://www.eristates.org/event/working-together-to-improve-citizen-science-data-quality-a-webinar-for-government-agencies/
CATEGORIES:Webinar
END:VEVENT
BEGIN:VEVENT
DTSTART;VALUE=DATE:20210824
DTEND;VALUE=DATE:20210826
DTSTAMP:20260423T125037
CREATED:20210823T195350Z
LAST-MODIFIED:20210823T195350Z
UID:1467-1629763200-1629935999@www.eristates.org
SUMMARY:ERIS Board - EPA ORD Annual Meeting
DESCRIPTION:
URL:https://www.eristates.org/event/eris-board-epa-ord-annual-meeting/
END:VEVENT
BEGIN:VEVENT
DTSTART;TZID=America/New_York:20210722T120000
DTEND;TZID=America/New_York:20210722T133000
DTSTAMP:20260423T125037
CREATED:20210330T155657Z
LAST-MODIFIED:20210330T155657Z
UID:1394-1626955200-1626960600@www.eristates.org
SUMMARY:Characterizing and Treating PFAS-Impacted Source Zones
DESCRIPTION:
URL:https://www.eristates.org/event/characterizing-and-treating-pfas-impacted-source-zones-2/
CATEGORIES:Webinar
END:VEVENT
BEGIN:VEVENT
DTSTART;TZID=America/New_York:20210722T120000
DTEND;TZID=America/New_York:20210722T133000
DTSTAMP:20260423T125037
CREATED:20210106T223220Z
LAST-MODIFIED:20210106T223220Z
UID:1241-1626955200-1626960600@www.eristates.org
SUMMARY:Characterizing and Treating PFAS-Impacted Source Zones
DESCRIPTION:
URL:https://www.eristates.org/event/characterizing-and-treating-pfas-impacted-source-zones/
CATEGORIES:Webinar
END:VEVENT
BEGIN:VEVENT
DTSTART;TZID=America/New_York:20210715T143000
DTEND;TZID=America/New_York:20210715T153000
DTSTAMP:20260423T125037
CREATED:20210203T212311Z
LAST-MODIFIED:20210203T212311Z
UID:1292-1626359400-1626363000@www.eristates.org
SUMMARY:Big Data for Trash Monitoring Programs Big or Small
DESCRIPTION:Learn how data science can help turn trash data (not trashy data) into knowledge. This knowledge\nneeded to help combat the global problem of trash impacting our aquatic environments. This\npresentation will discuss leveraging big data tools (open data\, Trash Taxonomy\, AI\, machine learning\,\nweb applications …) to turn data into action.
URL:https://www.eristates.org/event/big-data-for-trash-monitoring-programs-big-or-small/
CATEGORIES:Webinar
END:VEVENT
BEGIN:VEVENT
DTSTART;TZID=America/New_York:20210630T140000
DTEND;TZID=America/New_York:20210630T140000
DTSTAMP:20260423T125037
CREATED:20210330T153447Z
LAST-MODIFIED:20210330T153447Z
UID:1374-1625061600-1625061600@www.eristates.org
SUMMARY:Approach to Track Chemical Mixtures in Urban Waters Impacted by Road Salts
DESCRIPTION:
URL:https://www.eristates.org/event/approach-to-track-chemical-mixtures-in-urban-waters-impacted-by-road-salts/
CATEGORIES:Webinar
END:VEVENT
BEGIN:VEVENT
DTSTART;TZID=America/New_York:20210629T140000
DTEND;TZID=America/New_York:20210629T140000
DTSTAMP:20260423T125037
CREATED:20210330T154757Z
LAST-MODIFIED:20210330T154757Z
UID:1384-1624975200-1624975200@www.eristates.org
SUMMARY:Small Drinking Water Systems Series: Tribal Community Water Systems
DESCRIPTION:
URL:https://www.eristates.org/event/small-drinking-water-systems-series-tribal-community-water-systems/
CATEGORIES:Webinar
END:VEVENT
BEGIN:VEVENT
DTSTART;TZID=America/New_York:20210616T150000
DTEND;TZID=America/New_York:20210616T150000
DTSTAMP:20260423T125037
CREATED:20210610T152916Z
LAST-MODIFIED:20210610T152916Z
UID:1450-1623855600-1623855600@www.eristates.org
SUMMARY:EPA Tools & Resources Webinar: Community Exposure for COVID-19
DESCRIPTION:
URL:https://www.eristates.org/event/epa-tools-resources-webinar-community-exposure-for-covid-19/
CATEGORIES:Webinar
END:VEVENT
BEGIN:VEVENT
DTSTART;TZID=America/New_York:20210615T130000
DTEND;TZID=America/New_York:20210615T150000
DTSTAMP:20260423T125037
CREATED:20210106T204544Z
LAST-MODIFIED:20210106T204544Z
UID:1187-1623762000-1623769200@www.eristates.org
SUMMARY:Vapor Intrusion Mitigation Session 2
DESCRIPTION:Active mitigation\, passive mitigation\, installation/OM&M/exit strategy
URL:https://www.eristates.org/event/vapor-intrusion-mitigation-session-2/
CATEGORIES:Online Training
END:VEVENT
BEGIN:VEVENT
DTSTART;VALUE=DATE:20210614
DTEND;VALUE=DATE:20210616
DTSTAMP:20260423T125037
CREATED:20210528T190646Z
LAST-MODIFIED:20210528T190646Z
UID:1444-1623628800-1623801599@www.eristates.org
SUMMARY:Standards to Support an Enduring Capability in Wastewater Surveillance for Public Health
DESCRIPTION:The goal of this workshop is to identify and prioritize standards needs and technology/measurement gaps and propose a potential path forward to develop standards that help enable a robust\, comparable wastewater surveillance capability.  Topics to be discussed include lessons learned during the COVID-19 pandemic response\, the state of the art in measurement science and technology for the entire wastewater surveillance workflow\, and challenges in achieving comparable wastewater surveillance results across locations. Stakeholder input will inform future standards development activities\, including consensus-based documentary standards focused on best practices as well as reference materials\, and ensure that any standards developed are fit for purpose and aligned with the needs of the community.
URL:https://www.eristates.org/event/standards-to-support-an-enduring-capability-in-wastewater-surveillance-for-public-health/
CATEGORIES:Online Training
END:VEVENT
BEGIN:VEVENT
DTSTART;TZID=America/New_York:20210610T130000
DTEND;TZID=America/New_York:20210610T150000
DTSTAMP:20260423T125037
CREATED:20210106T204414Z
LAST-MODIFIED:20210106T204414Z
UID:1185-1623330000-1623337200@www.eristates.org
SUMMARY:PFAS Roundtable - Human and Eco Health Effects\, Site Risk Assessment\, Risk Communication and Stakeholder Perspectives
DESCRIPTION:
URL:https://www.eristates.org/event/pfas-roundtable-human-and-eco-health-effects-site-risk-assessment-risk-communication-and-stakeholder-perspectives/
CATEGORIES:Online Training
END:VEVENT
BEGIN:VEVENT
DTSTART;TZID=America/New_York:20210608T133000
DTEND;TZID=America/New_York:20210608T150000
DTSTAMP:20260423T125037
CREATED:20210211T221824Z
LAST-MODIFIED:20210211T221824Z
UID:1340-1623159000-1623164400@www.eristates.org
SUMMARY:PFAS in Water: Removal\, Treatment\, and Destruction
DESCRIPTION:
URL:https://www.eristates.org/event/pfas-in-water-removal-treatment-and-destruction/
CATEGORIES:Webinar
END:VEVENT
BEGIN:VEVENT
DTSTART;TZID=America/New_York:20210608T130000
DTEND;TZID=America/New_York:20210608T150000
DTSTAMP:20260423T125037
CREATED:20210106T204242Z
LAST-MODIFIED:20210106T204242Z
UID:1183-1623157200-1623164400@www.eristates.org
SUMMARY:Connecting the Science to Managing LNAPL Sites 3-Part Series: Part 3
DESCRIPTION:Select/implement LNAPL technologies
URL:https://www.eristates.org/event/connecting-the-science-to-managing-lnapl-sites-3-part-series-part-3-2/
CATEGORIES:Online Training
END:VEVENT
BEGIN:VEVENT
DTSTART;TZID=America/New_York:20210603T150000
DTEND;TZID=America/New_York:20210603T160000
DTSTAMP:20260423T125037
CREATED:20210513T171923Z
LAST-MODIFIED:20210513T171923Z
UID:1433-1622732400-1622736000@www.eristates.org
SUMMARY:EPA Tools & Resources Training Webinar: Virtual Beach
DESCRIPTION:
URL:https://www.eristates.org/event/epa-tools-resources-training-webinar-virtual-beach/
CATEGORIES:Webinar
END:VEVENT
BEGIN:VEVENT
DTSTART;TZID=America/New_York:20210603T150000
DTEND;TZID=America/New_York:20210603T160000
DTSTAMP:20260423T125037
CREATED:20210330T155432Z
LAST-MODIFIED:20210330T155432Z
UID:1392-1622732400-1622736000@www.eristates.org
SUMMARY:Virtual Beach
DESCRIPTION:
URL:https://www.eristates.org/event/virtual-beach/
CATEGORIES:Online Training
END:VEVENT
BEGIN:VEVENT
DTSTART;TZID=America/New_York:20210603T120000
DTEND;TZID=America/New_York:20210603T133000
DTSTAMP:20260423T125037
CREATED:20210106T223025Z
LAST-MODIFIED:20210106T223025Z
UID:1239-1622721600-1622727000@www.eristates.org
SUMMARY:PFAS Analytical Challenges and Opportunities
DESCRIPTION:
URL:https://www.eristates.org/event/pfas-analytical-challenges-and-opportunities/
CATEGORIES:Webinar
END:VEVENT
BEGIN:VEVENT
DTSTART;TZID=America/New_York:20210603T120000
DTEND;TZID=America/New_York:20210603T130000
DTSTAMP:20260423T125037
CREATED:20210211T222211Z
LAST-MODIFIED:20210211T222211Z
UID:1342-1622721600-1622725200@www.eristates.org
SUMMARY:PFAS Analytical Challenges and Opportunities
DESCRIPTION:
URL:https://www.eristates.org/event/pfas-analytical-challenges-and-opportunities-2/
CATEGORIES:Webinar
END:VEVENT
BEGIN:VEVENT
DTSTART;TZID=America/New_York:20210601T130000
DTEND;TZID=America/New_York:20210601T150000
DTSTAMP:20260423T125037
CREATED:20210106T204109Z
LAST-MODIFIED:20210106T204109Z
UID:1181-1622552400-1622559600@www.eristates.org
SUMMARY:Vapor Intrusion Mitigation Session 1
DESCRIPTION:Conceptual site model for vapor intrusion mitigation\, public outreach\, rapid response\, remediation and institutional controls
URL:https://www.eristates.org/event/vapor-intrusion-mitigation-session-1/
CATEGORIES:Online Training
END:VEVENT
BEGIN:VEVENT
DTSTART;TZID=America/New_York:20210527T130000
DTEND;TZID=America/New_York:20210527T150000
DTSTAMP:20260423T125037
CREATED:20210106T203920Z
LAST-MODIFIED:20210106T203920Z
UID:1179-1622120400-1622127600@www.eristates.org
SUMMARY:Connecting the Science to Managing LNAPL Sites 3-Part Series: Part 2
DESCRIPTION:Develop your conceptual site model and LNAPL remedial goals
URL:https://www.eristates.org/event/connecting-the-science-to-managing-lnapl-sites-3-part-series-part-2/
CATEGORIES:Online Training
END:VEVENT
BEGIN:VEVENT
DTSTART;TZID=America/New_York:20210526T140000
DTEND;TZID=America/New_York:20210526T140000
DTSTAMP:20260423T125037
CREATED:20210330T153221Z
LAST-MODIFIED:20210330T153221Z
UID:1372-1622037600-1622037600@www.eristates.org
SUMMARY:Lifecycle Costs of Water Infrastructure Alternatives: New Tools for Stormwater Infrastructure Life Cycle Cost Analysis
DESCRIPTION:
URL:https://www.eristates.org/event/lifecycle-costs-of-water-infrastructure-alternatives-new-tools-for-stormwater-infrastructure-life-cycle-cost-analysis/
CATEGORIES:Webinar
END:VEVENT
BEGIN:VEVENT
DTSTART;TZID=America/New_York:20210525T140000
DTEND;TZID=America/New_York:20210525T153000
DTSTAMP:20260423T125037
CREATED:20210330T154647Z
LAST-MODIFIED:20210330T154647Z
UID:1382-1621951200-1621956600@www.eristates.org
SUMMARY:Small Drinking Water Systems Series: Harmful Algal Blooms and Algal Toxins
DESCRIPTION:
URL:https://www.eristates.org/event/small-drinking-water-systems-series-harmful-algal-blooms-and-algal-toxins/
CATEGORIES:Webinar
END:VEVENT
BEGIN:VEVENT
DTSTART;TZID=America/New_York:20210525T133000
DTEND;TZID=America/New_York:20210525T150000
DTSTAMP:20260423T125037
CREATED:20210211T221701Z
LAST-MODIFIED:20210211T221701Z
UID:1338-1621949400-1621954800@www.eristates.org
SUMMARY:Destroying PFAS in Groundwater and Landfill Leachate
DESCRIPTION:
URL:https://www.eristates.org/event/destroying-pfas-in-groundwater-and-landfill-leachate/
END:VEVENT
BEGIN:VEVENT
DTSTART;TZID=America/New_York:20210525T130000
DTEND;TZID=America/New_York:20210525T150000
DTSTAMP:20260423T125037
CREATED:20210106T203735Z
LAST-MODIFIED:20210106T203735Z
UID:1177-1621947600-1621954800@www.eristates.org
SUMMARY:Integrated DNAPL Site Characterization
DESCRIPTION:
URL:https://www.eristates.org/event/integrated-dnapl-site-characterization-3/
CATEGORIES:Online Training
END:VEVENT
BEGIN:VEVENT
DTSTART;TZID=America/New_York:20210519T150000
DTEND;TZID=America/New_York:20210519T160000
DTSTAMP:20260423T125037
CREATED:20210429T202916Z
LAST-MODIFIED:20210429T202916Z
UID:1418-1621436400-1621440000@www.eristates.org
SUMMARY:EPA Tools & Resources Webinar on Air Sensors: Extension of the U.S.-Wide Correction for Purple PM2.5 sensor data during high concentration smoke events
DESCRIPTION:
URL:https://www.eristates.org/event/epa-tools-resources-webinar-on-air-sensors-extension-of-the-u-s-wide-correction-for-purple-pm2-5-sensor-data-during-high-concentration-smoke-events/
CATEGORIES:Webinar
END:VEVENT
END:VCALENDAR