BEGIN:VCALENDAR
VERSION:2.0
PRODID:-//ERIS - ECPv6.15.20//NONSGML v1.0//EN
CALSCALE:GREGORIAN
METHOD:PUBLISH
X-WR-CALNAME:ERIS
X-ORIGINAL-URL:https://www.eristates.org
X-WR-CALDESC:Events for ERIS
REFRESH-INTERVAL;VALUE=DURATION:PT1H
X-Robots-Tag:noindex
X-PUBLISHED-TTL:PT1H
BEGIN:VTIMEZONE
TZID:America/New_York
BEGIN:DAYLIGHT
TZOFFSETFROM:-0500
TZOFFSETTO:-0400
TZNAME:EDT
DTSTART:20200308T070000
END:DAYLIGHT
BEGIN:STANDARD
TZOFFSETFROM:-0400
TZOFFSETTO:-0500
TZNAME:EST
DTSTART:20201101T060000
END:STANDARD
BEGIN:DAYLIGHT
TZOFFSETFROM:-0500
TZOFFSETTO:-0400
TZNAME:EDT
DTSTART:20210314T070000
END:DAYLIGHT
BEGIN:STANDARD
TZOFFSETFROM:-0400
TZOFFSETTO:-0500
TZNAME:EST
DTSTART:20211107T060000
END:STANDARD
BEGIN:DAYLIGHT
TZOFFSETFROM:-0500
TZOFFSETTO:-0400
TZNAME:EDT
DTSTART:20220313T070000
END:DAYLIGHT
BEGIN:STANDARD
TZOFFSETFROM:-0400
TZOFFSETTO:-0500
TZNAME:EST
DTSTART:20221106T060000
END:STANDARD
END:VTIMEZONE
BEGIN:VEVENT
DTSTART;TZID=America/New_York:20210527T130000
DTEND;TZID=America/New_York:20210527T150000
DTSTAMP:20260423T190658
CREATED:20210106T203920Z
LAST-MODIFIED:20210106T203920Z
UID:1179-1622120400-1622127600@www.eristates.org
SUMMARY:Connecting the Science to Managing LNAPL Sites 3-Part Series: Part 2
DESCRIPTION:Develop your conceptual site model and LNAPL remedial goals
URL:https://www.eristates.org/event/connecting-the-science-to-managing-lnapl-sites-3-part-series-part-2/
CATEGORIES:Online Training
END:VEVENT
BEGIN:VEVENT
DTSTART;TZID=America/New_York:20210526T140000
DTEND;TZID=America/New_York:20210526T140000
DTSTAMP:20260423T190658
CREATED:20210330T153221Z
LAST-MODIFIED:20210330T153221Z
UID:1372-1622037600-1622037600@www.eristates.org
SUMMARY:Lifecycle Costs of Water Infrastructure Alternatives: New Tools for Stormwater Infrastructure Life Cycle Cost Analysis
DESCRIPTION:
URL:https://www.eristates.org/event/lifecycle-costs-of-water-infrastructure-alternatives-new-tools-for-stormwater-infrastructure-life-cycle-cost-analysis/
CATEGORIES:Webinar
END:VEVENT
BEGIN:VEVENT
DTSTART;TZID=America/New_York:20210525T140000
DTEND;TZID=America/New_York:20210525T153000
DTSTAMP:20260423T190658
CREATED:20210330T154647Z
LAST-MODIFIED:20210330T154647Z
UID:1382-1621951200-1621956600@www.eristates.org
SUMMARY:Small Drinking Water Systems Series: Harmful Algal Blooms and Algal Toxins
DESCRIPTION:
URL:https://www.eristates.org/event/small-drinking-water-systems-series-harmful-algal-blooms-and-algal-toxins/
CATEGORIES:Webinar
END:VEVENT
BEGIN:VEVENT
DTSTART;TZID=America/New_York:20210525T133000
DTEND;TZID=America/New_York:20210525T150000
DTSTAMP:20260423T190658
CREATED:20210211T221701Z
LAST-MODIFIED:20210211T221701Z
UID:1338-1621949400-1621954800@www.eristates.org
SUMMARY:Destroying PFAS in Groundwater and Landfill Leachate
DESCRIPTION:
URL:https://www.eristates.org/event/destroying-pfas-in-groundwater-and-landfill-leachate/
END:VEVENT
BEGIN:VEVENT
DTSTART;TZID=America/New_York:20210525T130000
DTEND;TZID=America/New_York:20210525T150000
DTSTAMP:20260423T190658
CREATED:20210106T203735Z
LAST-MODIFIED:20210106T203735Z
UID:1177-1621947600-1621954800@www.eristates.org
SUMMARY:Integrated DNAPL Site Characterization
DESCRIPTION:
URL:https://www.eristates.org/event/integrated-dnapl-site-characterization-3/
CATEGORIES:Online Training
END:VEVENT
BEGIN:VEVENT
DTSTART;TZID=America/New_York:20210519T150000
DTEND;TZID=America/New_York:20210519T160000
DTSTAMP:20260423T190658
CREATED:20210429T202916Z
LAST-MODIFIED:20210429T202916Z
UID:1418-1621436400-1621440000@www.eristates.org
SUMMARY:EPA Tools & Resources Webinar on Air Sensors: Extension of the U.S.-Wide Correction for Purple PM2.5 sensor data during high concentration smoke events
DESCRIPTION:
URL:https://www.eristates.org/event/epa-tools-resources-webinar-on-air-sensors-extension-of-the-u-s-wide-correction-for-purple-pm2-5-sensor-data-during-high-concentration-smoke-events/
CATEGORIES:Webinar
END:VEVENT
BEGIN:VEVENT
DTSTART;TZID=America/New_York:20210519T150000
DTEND;TZID=America/New_York:20210519T160000
DTSTAMP:20260423T190658
CREATED:20210330T155035Z
LAST-MODIFIED:20210330T155035Z
UID:1388-1621436400-1621440000@www.eristates.org
SUMMARY:Air Sensors: Extension of the U.S.-Wide Correction for Purple PM2.5 sensor data during high concentration smoke events
DESCRIPTION:
URL:https://www.eristates.org/event/air-sensors-extension-of-the-u-s-wide-correction-for-purple-pm2-5-sensor-data-during-high-concentration-smoke-events/
CATEGORIES:Webinar
END:VEVENT
BEGIN:VEVENT
DTSTART;TZID=America/New_York:20210518T150000
DTEND;TZID=America/New_York:20210518T160000
DTSTAMP:20260423T190658
CREATED:20210513T170544Z
LAST-MODIFIED:20210513T170544Z
UID:1431-1621350000-1621353600@www.eristates.org
SUMMARY:Modeling PFAS Air Emissions\, Chemistry\, and Deposition
DESCRIPTION:
URL:https://www.eristates.org/event/modeling-pfas-air-emissions-chemistry-and-deposition-2/
CATEGORIES:Webinar
END:VEVENT
BEGIN:VEVENT
DTSTART;TZID=America/New_York:20210518T150000
DTEND;TZID=America/New_York:20210518T160000
DTSTAMP:20260423T190658
CREATED:20210330T154034Z
LAST-MODIFIED:20210330T154034Z
UID:1376-1621350000-1621353600@www.eristates.org
SUMMARY:Modeling PFAS Air Emissions\, Chemistry\, and Deposition
DESCRIPTION:
URL:https://www.eristates.org/event/modeling-pfas-air-emissions-chemistry-and-deposition/
CATEGORIES:Webinar
END:VEVENT
BEGIN:VEVENT
DTSTART;TZID=America/New_York:20210518T133000
DTEND;TZID=America/New_York:20210518T150000
DTSTAMP:20260423T190658
CREATED:20210211T221539Z
LAST-MODIFIED:20210211T221539Z
UID:1336-1621344600-1621350000@www.eristates.org
SUMMARY:In Situ Treatment of PFAS in Groundwater
DESCRIPTION:
URL:https://www.eristates.org/event/in-situ-treatment-of-pfas-in-groundwater/
CATEGORIES:Webinar
END:VEVENT
BEGIN:VEVENT
DTSTART;TZID=America/New_York:20210513T130000
DTEND;TZID=America/New_York:20210513T150000
DTSTAMP:20260423T190658
CREATED:20210106T203632Z
LAST-MODIFIED:20210106T203632Z
UID:1175-1620910800-1620918000@www.eristates.org
SUMMARY:TPH Risk Evaluation at Petroleum-Contaminated Sites
DESCRIPTION:
URL:https://www.eristates.org/event/tph-risk-evaluation-at-petroleum-contaminated-sites-7/
CATEGORIES:Online Training
END:VEVENT
BEGIN:VEVENT
DTSTART;TZID=America/New_York:20210511T130000
DTEND;TZID=America/New_York:20210511T150000
DTSTAMP:20260423T190658
CREATED:20210106T203512Z
LAST-MODIFIED:20210106T203512Z
UID:1173-1620738000-1620745200@www.eristates.org
SUMMARY:Connecting the Science to Managing LNAPL Sites 3-Part Series: Part 1:
DESCRIPTION:Build upon your understanding of LNAPL behavior in the subsurface.
URL:https://www.eristates.org/event/connecting-the-science-to-managing-lnapl-sites-3-part-series-part-1-2/
CATEGORIES:Online Training
END:VEVENT
BEGIN:VEVENT
DTSTART;TZID=America/New_York:20210506T120000
DTEND;TZID=America/New_York:20210506T133000
DTSTAMP:20260423T190658
CREATED:20210106T222905Z
LAST-MODIFIED:20210106T222905Z
UID:1237-1620302400-1620307800@www.eristates.org
SUMMARY:Fate\, Transport\, and Treatment of Munitions Constituents in Soil and Groundwater
DESCRIPTION:
URL:https://www.eristates.org/event/fate-transport-and-treatment-of-munitions-constituents-in-soil-and-groundwater/
CATEGORIES:Webinar
END:VEVENT
BEGIN:VEVENT
DTSTART;TZID=America/New_York:20210504T133000
DTEND;TZID=America/New_York:20210504T150000
DTSTAMP:20260423T190658
CREATED:20210211T221418Z
LAST-MODIFIED:20210211T221418Z
UID:1334-1620135000-1620140400@www.eristates.org
SUMMARY:Understanding Usability of PFAS Data
DESCRIPTION:
URL:https://www.eristates.org/event/understanding-usability-of-pfas-data/
CATEGORIES:Webinar
END:VEVENT
BEGIN:VEVENT
DTSTART;TZID=America/New_York:20210429T150000
DTEND;TZID=America/New_York:20210429T160000
DTSTAMP:20260423T190658
CREATED:20210406T153606Z
LAST-MODIFIED:20210406T153606Z
UID:1407-1619708400-1619712000@www.eristates.org
SUMMARY:EPA Tools & Resources Training Webinar: Watershed Management Optimization Support Tool (WMOST)
DESCRIPTION:
URL:https://www.eristates.org/event/epa-tools-resources-training-webinar-watershed-management-optimization-support-tool-wmost/
CATEGORIES:Online Training
END:VEVENT
BEGIN:VEVENT
DTSTART;TZID=America/New_York:20210429T150000
DTEND;TZID=America/New_York:20210429T160000
DTSTAMP:20260423T190658
CREATED:20210330T155322Z
LAST-MODIFIED:20210330T155322Z
UID:1390-1619708400-1619712000@www.eristates.org
SUMMARY:Watershed Management Optimization Support Tool (WMOST)
DESCRIPTION:
URL:https://www.eristates.org/event/watershed-management-optimization-support-tool-wmost/
CATEGORIES:Online Training
END:VEVENT
BEGIN:VEVENT
DTSTART;TZID=America/New_York:20210429T150000
DTEND;TZID=America/New_York:20210429T160000
DTSTAMP:20260423T190658
CREATED:20210330T154312Z
LAST-MODIFIED:20210330T154312Z
UID:1378-1619708400-1619712000@www.eristates.org
SUMMARY:COVID-19: PPE Disinfection
DESCRIPTION:
URL:https://www.eristates.org/event/covid-19-ppe-disinfection/
CATEGORIES:Webinar
END:VEVENT
BEGIN:VEVENT
DTSTART;TZID=America/New_York:20210429T130000
DTEND;TZID=America/New_York:20210429T150000
DTSTAMP:20260423T190658
CREATED:20210106T203324Z
LAST-MODIFIED:20210106T203324Z
UID:1171-1619701200-1619708400@www.eristates.org
SUMMARY:Harmful Cyanobacterial Blooms Strategies for Preventing and Managing - Session 2
DESCRIPTION:
URL:https://www.eristates.org/event/harmful-cyanobacterial-blooms-strategies-for-preventing-and-managing-session-2/
CATEGORIES:Online Training
END:VEVENT
BEGIN:VEVENT
DTSTART;TZID=America/New_York:20210428T140000
DTEND;TZID=America/New_York:20210428T150000
DTSTAMP:20260423T190658
CREATED:20210330T152916Z
LAST-MODIFIED:20210330T152916Z
UID:1370-1619618400-1619622000@www.eristates.org
SUMMARY:Enhanced Aquifer Recharge: Influence of Stormwater on Groundwater Quality and Aquifer Recharge
DESCRIPTION:Enhanced aquifer recharge (EAR) has tremendous potential as a process to replenish and supplement existing groundwater supplies. EAR using stormwater\, however\, also presents a risk of groundwater contamination. In EAR application\, it is important to understand not only the quantity of water that can be replenished\, but also the potential impacts to water quality. \nThis webinar will highlight the following ongoing EPA and EPA supported research investigating the application and potential impacts to water quality using EAR technologies: (1) state of the science on information leading to best practices for EAR using stormwater; (2) methods currently being investigated to understand water movement and quality in karst aquifers; and (3) highlights of a recently completed field project supported by EPA to evaluate green infrastructure system pollutant removal performance in the arid Intermountain West and to document the potential for stormwater harvesting and groundwater recovery to enhance water availability in Utah’s Salt Lake Valley.
URL:https://www.eristates.org/event/enhanced-aquifer-recharge-influence-of-stormwater-on-groundwater-quality-and-aquifer-recharge/
CATEGORIES:Webinar
END:VEVENT
BEGIN:VEVENT
DTSTART;TZID=America/New_York:20210427T140000
DTEND;TZID=America/New_York:20210427T153000
DTSTAMP:20260423T190658
CREATED:20210330T154542Z
LAST-MODIFIED:20210330T154542Z
UID:1380-1619532000-1619537400@www.eristates.org
SUMMARY:Small Drinking Water Systems Series: Very Small Systems
DESCRIPTION:
URL:https://www.eristates.org/event/small-drinking-water-systems-series-very-small-systems/
CATEGORIES:Webinar
END:VEVENT
BEGIN:VEVENT
DTSTART;TZID=America/New_York:20210427T133000
DTEND;TZID=America/New_York:20210427T150000
DTSTAMP:20260423T190658
CREATED:20210211T221251Z
LAST-MODIFIED:20210211T221251Z
UID:1332-1619530200-1619535600@www.eristates.org
SUMMARY:PFAS: Aqueous Film Forming Foams (AFFF) and Alternatives
DESCRIPTION:
URL:https://www.eristates.org/event/pfas-aqueous-film-forming-foams-afff-and-alternatives/
CATEGORIES:Webinar
END:VEVENT
BEGIN:VEVENT
DTSTART;TZID=America/New_York:20210427T130000
DTEND;TZID=America/New_York:20210427T150000
DTSTAMP:20260423T190658
CREATED:20210106T203145Z
LAST-MODIFIED:20210106T203145Z
UID:1169-1619528400-1619535600@www.eristates.org
SUMMARY:Optimizing Injection Strategies and In Situ Remediation Performance
DESCRIPTION:
URL:https://www.eristates.org/event/optimizing-injection-strategies-and-in-situ-remediation-performance-5/
CATEGORIES:Online Training
END:VEVENT
BEGIN:VEVENT
DTSTART;TZID=America/New_York:20210422T143000
DTEND;TZID=America/New_York:20210422T153000
DTSTAMP:20260423T190658
CREATED:20210203T211957Z
LAST-MODIFIED:20210203T211957Z
UID:1290-1619101800-1619105400@www.eristates.org
SUMMARY:NOAA's Marine Debris Monitoring and Assessment Project
DESCRIPTION:The Trash Monitoring and Assessment Project (MDMAP)\, is a citizen science initiative that engages\nNOAA partners and volunteers across the nation to survey and record the amount and types of marine\ndebris on shorelines. Each passionate and dedicated partner in the MDMAP network selects a nearby\nshoreline monitoring site that they return to monthly to conduct surveys and submit meaningful data to\nNOAA’s MDMAP Database.\nHow big is the marine debris problem\, and how is it changing over time? What types of debris are most\ncommon in your region? MDMAP data can help to answer these questions and can be used to guide\nmarine debris policy development\, education\, and outreach\, and address important research questions.
URL:https://www.eristates.org/event/noaas-marine-debris-monitoring-and-assessment-project/
END:VEVENT
BEGIN:VEVENT
DTSTART;TZID=America/New_York:20210421T150000
DTEND;TZID=America/New_York:20210421T160000
DTSTAMP:20260423T190658
CREATED:20210406T153650Z
LAST-MODIFIED:20210406T153650Z
UID:1408-1619017200-1619020800@www.eristates.org
SUMMARY:EPA Tools & Resources Webinar: Proctor Creek Watershed Story Map
DESCRIPTION:
URL:https://www.eristates.org/event/epa-tools-resources-webinar-proctor-creek-watershed-story-map/
CATEGORIES:Webinar
END:VEVENT
BEGIN:VEVENT
DTSTART;TZID=America/New_York:20210421T150000
DTEND;TZID=America/New_York:20210421T160000
DTSTAMP:20260423T190658
CREATED:20210330T154936Z
LAST-MODIFIED:20210330T154936Z
UID:1386-1619017200-1619020800@www.eristates.org
SUMMARY:Proctor Creek Story Map
DESCRIPTION:
URL:https://www.eristates.org/event/proctor-creek-story-map/
CATEGORIES:Webinar
END:VEVENT
BEGIN:VEVENT
DTSTART;TZID=America/New_York:20210420T133000
DTEND;TZID=America/New_York:20210420T150000
DTSTAMP:20260423T190658
CREATED:20210211T221121Z
LAST-MODIFIED:20210211T221121Z
UID:1330-1618925400-1618930800@www.eristates.org
SUMMARY:PFAS Uses and Alternatives
DESCRIPTION:
URL:https://www.eristates.org/event/pfas-uses-and-alternatives/
CATEGORIES:Webinar
END:VEVENT
BEGIN:VEVENT
DTSTART;TZID=America/New_York:20210413T133000
DTEND;TZID=America/New_York:20210413T150000
DTSTAMP:20260423T190658
CREATED:20210211T220903Z
LAST-MODIFIED:20210211T220903Z
UID:1328-1618320600-1618326000@www.eristates.org
SUMMARY:PFAS in Surface Water\, Fish\, and Shellfish
DESCRIPTION:
URL:https://www.eristates.org/event/pfas-in-surface-water-fish-and-shellfish/
CATEGORIES:Webinar
END:VEVENT
BEGIN:VEVENT
DTSTART;TZID=America/New_York:20210413T130000
DTEND;TZID=America/New_York:20210413T150000
DTSTAMP:20260423T190658
CREATED:20210106T191917Z
LAST-MODIFIED:20210106T191917Z
UID:1167-1618318800-1618326000@www.eristates.org
SUMMARY:Harmful Cyanobacterial Blooms Strategies for Preventing and Managing: Session 1
DESCRIPTION:
URL:https://www.eristates.org/event/harmful-cyanobacterial-blooms-strategies-for-preventing-and-managing-session-1/
CATEGORIES:Online Training
END:VEVENT
BEGIN:VEVENT
DTSTART;TZID=America/New_York:20210408T130000
DTEND;TZID=America/New_York:20210408T150000
DTSTAMP:20260423T190658
CREATED:20210106T191749Z
LAST-MODIFIED:20210106T191749Z
UID:1165-1617886800-1617894000@www.eristates.org
SUMMARY:Characterization and Remediation in Fractured Rock
DESCRIPTION:
URL:https://www.eristates.org/event/characterization-and-remediation-in-fractured-rock-5/
CATEGORIES:Online Training
END:VEVENT
BEGIN:VEVENT
DTSTART;TZID=America/New_York:20210408T120000
DTEND;TZID=America/New_York:20210408T133000
DTSTAMP:20260423T190658
CREATED:20210106T222714Z
LAST-MODIFIED:20210106T222714Z
UID:1235-1617883200-1617888600@www.eristates.org
SUMMARY:Advances in Understanding PFAS Ecological Risk
DESCRIPTION:
URL:https://www.eristates.org/event/advances-in-understanding-pfas-ecological-risk/
END:VEVENT
END:VCALENDAR