BEGIN:VCALENDAR
VERSION:2.0
PRODID:-//ERIS - ECPv6.15.20//NONSGML v1.0//EN
CALSCALE:GREGORIAN
METHOD:PUBLISH
X-WR-CALNAME:ERIS
X-ORIGINAL-URL:https://www.eristates.org
X-WR-CALDESC:Events for ERIS
REFRESH-INTERVAL;VALUE=DURATION:PT1H
X-Robots-Tag:noindex
X-PUBLISHED-TTL:PT1H
BEGIN:VTIMEZONE
TZID:America/New_York
BEGIN:DAYLIGHT
TZOFFSETFROM:-0500
TZOFFSETTO:-0400
TZNAME:EDT
DTSTART:20210314T070000
END:DAYLIGHT
BEGIN:STANDARD
TZOFFSETFROM:-0400
TZOFFSETTO:-0500
TZNAME:EST
DTSTART:20211107T060000
END:STANDARD
BEGIN:DAYLIGHT
TZOFFSETFROM:-0500
TZOFFSETTO:-0400
TZNAME:EDT
DTSTART:20220313T070000
END:DAYLIGHT
BEGIN:STANDARD
TZOFFSETFROM:-0400
TZOFFSETTO:-0500
TZNAME:EST
DTSTART:20221106T060000
END:STANDARD
BEGIN:DAYLIGHT
TZOFFSETFROM:-0500
TZOFFSETTO:-0400
TZNAME:EDT
DTSTART:20230312T070000
END:DAYLIGHT
BEGIN:STANDARD
TZOFFSETFROM:-0400
TZOFFSETTO:-0500
TZNAME:EST
DTSTART:20231105T060000
END:STANDARD
BEGIN:DAYLIGHT
TZOFFSETFROM:-0500
TZOFFSETTO:-0400
TZNAME:EDT
DTSTART:20240310T070000
END:DAYLIGHT
BEGIN:STANDARD
TZOFFSETFROM:-0400
TZOFFSETTO:-0500
TZNAME:EST
DTSTART:20241103T060000
END:STANDARD
END:VTIMEZONE
BEGIN:VEVENT
DTSTART;TZID=America/New_York:20230322T140000
DTEND;TZID=America/New_York:20230322T150000
DTSTAMP:20260422T084423
CREATED:20230313T141729Z
LAST-MODIFIED:20230313T141729Z
UID:1808-1679493600-1679497200@www.eristates.org
SUMMARY:Wildland Fire Smoke Tools
DESCRIPTION:Wildland fire has shaped many of the ecosystems of the planet\, and for millennia humans have used it as a tool to manage the environment. When widespread wildfires occur\, the health and daily lives of millions of people can be affected by the smoke\, often at unhealthy to hazardous levels. Recent years have been quite notable in the continental scale of wildfire smoke affecting millions of people. These smoke impacts are highly episodic\, with great variability from day to day and year to year\, making it extremely difficult to simulate and predict. Land Managers also use prescribed fire to manage and restore the natural environment and to help mitigate the potential for large wildfires. The USDA Forest Service has been working for many years to develop tools and information to aid Land Managers conducting prescribed burning and the many agency personnel addressing wildfire smoke impacts. A smoke prediction system known as BlueSky has been under development for many years calculating fire emissions and running as a smoke dispersion forecast. It is based on fire ecology and combustion research\, calculating fire emissions using mapped fuel loadings from the Fuel Characteristic Classification System (FCCS)\, modeling combustion and heat released with the CONSUME consumption model\, and applying emission factors supplied from Smoke Emission Reference Application (SERA). The system is automated to provide smoke forecast runs daily and is also at the user’s fingertips to do their own smoke modeling in BlueSky playground. Foundational to these endeavors are NOAA tools and information such as HYSPLIT\, NAM forecast meteorological datasets\, and satellite fire detections from several instruments. This presentation will profile these items and more.
URL:https://www.eristates.org/event/wildland-fire-smoke-tools/
CATEGORIES:Webinar
END:VEVENT
BEGIN:VEVENT
DTSTART;TZID=America/New_York:20230321T150000
DTEND;TZID=America/New_York:20230321T163000
DTSTAMP:20260422T084423
CREATED:20230307T184017Z
LAST-MODIFIED:20230307T184017Z
UID:1803-1679410800-1679416200@www.eristates.org
SUMMARY:How Does Air Pollution Affect Plants and Ecosystems
DESCRIPTION:
URL:https://www.eristates.org/event/how-does-air-pollution-affect-plants-and-ecosystems/
CATEGORIES:Webinar
END:VEVENT
BEGIN:VEVENT
DTSTART;TZID=America/New_York:20230315T150000
DTEND;TZID=America/New_York:20230315T160000
DTSTAMP:20260422T084423
CREATED:20230210T153328Z
LAST-MODIFIED:20230307T183706Z
UID:1770-1678892400-1678896000@www.eristates.org
SUMMARY:Wildland Fire Research to Protect Human Health and the Environment
DESCRIPTION:
URL:https://www.eristates.org/event/wildfires/
CATEGORIES:Webinar
END:VEVENT
BEGIN:VEVENT
DTSTART;TZID=America/New_York:20230314T150000
DTEND;TZID=America/New_York:20230314T160000
DTSTAMP:20260422T084423
CREATED:20230210T153041Z
LAST-MODIFIED:20230210T153041Z
UID:1768-1678806000-1678809600@www.eristates.org
SUMMARY:Cumulative Impacts Research
DESCRIPTION:
URL:https://www.eristates.org/event/cumulative-impacts-research/
CATEGORIES:Webinar
END:VEVENT
BEGIN:VEVENT
DTSTART;TZID=America/New_York:20230309T130000
DTEND;TZID=America/New_York:20230309T150000
DTSTAMP:20260422T084423
CREATED:20230111T155317Z
LAST-MODIFIED:20230111T155317Z
UID:1745-1678366800-1678374000@www.eristates.org
SUMMARY:Strategies for Preventing and Managing Benthic Harmful Cyanobacteria Bloom
DESCRIPTION:
URL:https://www.eristates.org/event/strategies-for-preventing-and-managing-benthic-harmful-cyanobacteria-bloom/
CATEGORIES:Online Training
END:VEVENT
BEGIN:VEVENT
DTSTART;TZID=America/New_York:20230308T140000
DTEND;TZID=America/New_York:20230308T150000
DTSTAMP:20260422T084423
CREATED:20230307T184228Z
LAST-MODIFIED:20230307T184228Z
UID:1805-1678284000-1678287600@www.eristates.org
SUMMARY:Building Relationships and Trust in Contamination Cleanup
DESCRIPTION:
URL:https://www.eristates.org/event/building-relationships-and-trust-in-contamination-cleanup/
CATEGORIES:Webinar
END:VEVENT
BEGIN:VEVENT
DTSTART;TZID=America/New_York:20230307T130000
DTEND;TZID=America/New_York:20230307T150000
DTSTAMP:20260422T084423
CREATED:20230111T155153Z
LAST-MODIFIED:20230111T155153Z
UID:1743-1678194000-1678201200@www.eristates.org
SUMMARY:Microplastics
DESCRIPTION:
URL:https://www.eristates.org/event/microplastics/
CATEGORIES:Online Training
END:VEVENT
BEGIN:VEVENT
DTSTART;TZID=America/New_York:20230302T150000
DTEND;TZID=America/New_York:20230302T163000
DTSTAMP:20260422T084423
CREATED:20230210T161846Z
LAST-MODIFIED:20230210T161846Z
UID:1793-1677769200-1677774600@www.eristates.org
SUMMARY:Sustainable Recycling of Critical Materials in Lithium-Ion Batteries
DESCRIPTION:
URL:https://www.eristates.org/event/sustainable-recycling-of-critical-materials-in-lithium-ion-batteries/
CATEGORIES:Webinar
END:VEVENT
BEGIN:VEVENT
DTSTART;TZID=America/New_York:20230302T130000
DTEND;TZID=America/New_York:20230302T150000
DTSTAMP:20260422T084423
CREATED:20230111T155037Z
LAST-MODIFIED:20230111T155037Z
UID:1741-1677762000-1677769200@www.eristates.org
SUMMARY:Strategies for Preventing and Managing Harmful Cyanobacteria Blooms
DESCRIPTION:
URL:https://www.eristates.org/event/strategies-for-preventing-and-managing-harmful-cyanobacteria-blooms/
CATEGORIES:Online Training
END:VEVENT
BEGIN:VEVENT
DTSTART;TZID=America/New_York:20230228T140000
DTEND;TZID=America/New_York:20230228T150000
DTSTAMP:20260422T084423
CREATED:20230210T154002Z
LAST-MODIFIED:20230210T154002Z
UID:1775-1677592800-1677596400@www.eristates.org
SUMMARY:Pathogens
DESCRIPTION:Microbial and Disinfection Byproducts (MDBP) Rules Revision Update\nChallenges and Perspectives of Studying Water Storage Tank Ecosystems in Distribution Systems
URL:https://www.eristates.org/event/pathogens/
CATEGORIES:Webinar
END:VEVENT
BEGIN:VEVENT
DTSTART;TZID=America/New_York:20230228T130000
DTEND;TZID=America/New_York:20230228T140000
DTSTAMP:20260422T084423
CREATED:20230210T160238Z
LAST-MODIFIED:20230210T160238Z
UID:1785-1677589200-1677592800@www.eristates.org
SUMMARY:Modeling Complex 3-D Coastal-Urban Impacts on Air Quality Distribution: Evaluation Based on High-Spatial-Resolution NO2 Retrievals
DESCRIPTION:Ozone concentrations that exceed health-based National Ambient Air Quality Standards (NAAQS) constitute a significant challenge for highly populated urban areas\, particularly along the coasts. In the United States (US) over 40 percent of the population reside in coastal shoreline counties despite comprising less than 10% of the land area. More specifically\, urbanization creates new local climates via changes to regional surface and atmospheric properties resulting in significant impacts on the dispersion of air pollution\, presenting a challenge for air quality simulations. A detailed model case study was performed targeting the unique interaction between urban meteorology and chemical transport over two coastal cities namely New York City\, NY and Houston\, TX. A high-resolution configuration of the Weather Research and Forecasting (WRF) model was used\, where the chemistry and meteorology formulations were fully coupled using an advanced multilayer urban canopy model (uWRF – Chem). In this study\, we use an airborne high-spatial-resolution ultraviolet-visible airborne spectrometer for NO2 tropospheric column data collected during the 2018 Long Island Sound Tropospheric Ozone Study (LISTOS) and the 2021 – 2022 Tracking Aerosol Convection interactions ExpeRiment (TRACER-AQ) to quantitatively evaluate the performance of uWRF-Chem model NO2 tropospheric columns over both cities. The modeling effort addresses how complex urban surfaces influence heatwaves\, land-sea breezes\, and PBL dynamics\, and in turn\, how urban and coastal meteorology affects NO2 spatial distribution and ozone generation in densely populated and industrialized cities.
URL:https://www.eristates.org/event/modeling-complex-3-d-coastal-urban-impacts-on-air-quality-distribution-evaluation-based-on-high-spatial-resolution-no2-retrievals/
CATEGORIES:Webinar
END:VEVENT
BEGIN:VEVENT
DTSTART;TZID=America/New_York:20230223T130000
DTEND;TZID=America/New_York:20230223T150000
DTSTAMP:20260422T084423
CREATED:20230111T154915Z
LAST-MODIFIED:20230111T154915Z
UID:1739-1677157200-1677164400@www.eristates.org
SUMMARY:Environmental Data Management (EDM) - Roundtable
DESCRIPTION:
URL:https://www.eristates.org/event/environmental-data-management-edm-roundtable/
CATEGORIES:Online Training
END:VEVENT
BEGIN:VEVENT
DTSTART;TZID=America/New_York:20230223T120000
DTEND;TZID=America/New_York:20230223T133000
DTSTAMP:20260422T084423
CREATED:20230111T153842Z
LAST-MODIFIED:20230111T153842Z
UID:1727-1677153600-1677159000@www.eristates.org
SUMMARY:PFAS Leaching and Mobility at AFFF-Impacted Sites
DESCRIPTION:
URL:https://www.eristates.org/event/pfas-leaching-and-mobility-at-afff-impacted-sites/
CATEGORIES:Webinar
END:VEVENT
BEGIN:VEVENT
DTSTART;TZID=America/New_York:20230222T150000
DTEND;TZID=America/New_York:20230222T160000
DTSTAMP:20260422T084423
CREATED:20230210T162040Z
LAST-MODIFIED:20230210T162040Z
UID:1795-1677078000-1677081600@www.eristates.org
SUMMARY:Climate Conversations: Methane
DESCRIPTION:
URL:https://www.eristates.org/event/climate-conversations-methane/
CATEGORIES:Webinar
END:VEVENT
BEGIN:VEVENT
DTSTART;TZID=America/New_York:20230221T130000
DTEND;TZID=America/New_York:20230221T150000
DTSTAMP:20260422T084423
CREATED:20230210T160642Z
LAST-MODIFIED:20230210T160642Z
UID:1787-1676984400-1676991600@www.eristates.org
SUMMARY:Identify Critical Nanotechnology Opportunities for Addressing Climate Change
DESCRIPTION:Draft Agenda (Eastern Standard Time)\n\n1:00 – 1:10 PM – Welcome and Introduction by Dr. Jacob Jones\, lead of the NNCI Research Community for Nanotechnology Convergence\n1:10 – 1:25 PM – Review of NNI’s Nano4Earth Kick-Off Workshop by Dr. Matthew Hull\, Director\, Nanoscale Characterization and Fabrication Laboratory (Virginia Tech)\n1:25 – 1:40 PM – Introduction to the NSF Engineering Research Visioning Alliance (ERVA) Report\, “The Role of Engineering to Address Climate Change” by Professor Khara Grieger\, Ph.D.\, Environmental Health and Risk Assessment (NC State University)\n1:40 – 1:45 PM – Enter Break-Out Rooms and Introductions \n1:45 – 2:30 PM – Breakout Sessions (See below for topics) \n2:30 – 2:55 PM – Report outs from Breakout Groups\, which will feed into the workshop report\n2:55 – 3:00 PM – Closing\n\nBreakout Sessions\nAttendees will meet in small groups to provide important stakeholder perspectives on a variety of specific questions. Discussion topics are broken down according to the categorization in the ERVA report and include: \nNanotechnology for \n\n\n\n\nEnergy storage\, transmission\, and critical materials\n\n\nGreenhouse gas capture and elimination\n\n\nResilient\, energy-efficient\, and healthful infrastructure\n\n\nWater\, ecosystems\, and geoengineering assessment
URL:https://www.eristates.org/event/identify-critical-nanotechnology-opportunities-for-addressing-climate-change/
CATEGORIES:Webinar
END:VEVENT
BEGIN:VEVENT
DTSTART;TZID=America/New_York:20230221T130000
DTEND;TZID=America/New_York:20230221T150000
DTSTAMP:20260422T084423
CREATED:20230111T154713Z
LAST-MODIFIED:20230111T154713Z
UID:1737-1676984400-1676991600@www.eristates.org
SUMMARY:Vapor Intrusion Mitigation - Part 2
DESCRIPTION:
URL:https://www.eristates.org/event/vapor-intrusion-mitigation-part-2/
END:VEVENT
BEGIN:VEVENT
DTSTART;TZID=America/New_York:20230215T150000
DTEND;TZID=America/New_York:20230215T160000
DTSTAMP:20260422T084423
CREATED:20230111T152737Z
LAST-MODIFIED:20230111T152737Z
UID:1721-1676473200-1676476800@www.eristates.org
SUMMARY:Lead Hotspots
DESCRIPTION:
URL:https://www.eristates.org/event/lead-hotspots/
CATEGORIES:Webinar
END:VEVENT
BEGIN:VEVENT
DTSTART;TZID=America/New_York:20230214T130000
DTEND;TZID=America/New_York:20230214T150000
DTSTAMP:20260422T084423
CREATED:20230111T154527Z
LAST-MODIFIED:20230111T154527Z
UID:1735-1676379600-1676386800@www.eristates.org
SUMMARY:Vapor Intrusion Mitigation - Part 1
DESCRIPTION:
URL:https://www.eristates.org/event/vapor-intrusion-mitigation-part-1/
CATEGORIES:Online Training
END:VEVENT
BEGIN:VEVENT
DTSTART;TZID=America/New_York:20230207T130000
DTEND;TZID=America/New_York:20230207T150000
DTSTAMP:20260422T084423
CREATED:20230111T154404Z
LAST-MODIFIED:20230111T154404Z
UID:1733-1675774800-1675782000@www.eristates.org
SUMMARY:Optimizing Injection Strategies and In situ Remediation Performance
DESCRIPTION:
URL:https://www.eristates.org/event/optimizing-injection-strategies-and-in-situ-remediation-performance-8/
CATEGORIES:Online Training
END:VEVENT
BEGIN:VEVENT
DTSTART;TZID=America/New_York:20230131T130000
DTEND;TZID=America/New_York:20230131T150000
DTSTAMP:20260422T084423
CREATED:20230111T154246Z
LAST-MODIFIED:20230111T154246Z
UID:1731-1675170000-1675177200@www.eristates.org
SUMMARY:1\,4-Dioxane: Science\, Characterization & Analysis\, and Remediation
DESCRIPTION:
URL:https://www.eristates.org/event/14-dioxane-science-characterization-analysis-and-remediation-5/
CATEGORIES:Online Training
END:VEVENT
BEGIN:VEVENT
DTSTART;TZID=America/New_York:20230126T120000
DTEND;TZID=America/New_York:20230126T133000
DTSTAMP:20260422T084423
CREATED:20230111T153731Z
LAST-MODIFIED:20230111T153731Z
UID:1725-1674734400-1674739800@www.eristates.org
SUMMARY:Modeling and Monitoring Tools to Support Passive and Active NAPL Remediation Approaches
DESCRIPTION:
URL:https://www.eristates.org/event/modeling-and-monitoring-tools-to-support-passive-and-active-napl-remediation-approaches-2/
CATEGORIES:Webinar
END:VEVENT
BEGIN:VEVENT
DTSTART;TZID=America/New_York:20230124T130000
DTEND;TZID=America/New_York:20230124T150000
DTSTAMP:20260422T084423
CREATED:20230111T154128Z
LAST-MODIFIED:20230111T154128Z
UID:1729-1674565200-1674572400@www.eristates.org
SUMMARY:Soil Background & Risk Assessment
DESCRIPTION:
URL:https://www.eristates.org/event/soil-background-risk-assessment/
CATEGORIES:Online Training
END:VEVENT
BEGIN:VEVENT
DTSTART;TZID=America/New_York:20230118T150000
DTEND;TZID=America/New_York:20230118T160000
DTSTAMP:20260422T084423
CREATED:20230111T152614Z
LAST-MODIFIED:20230111T152614Z
UID:1719-1674054000-1674057600@www.eristates.org
SUMMARY:The Community Multiscale Air Quality (CMAQ) Modeling System Version 5.4: An Overview
DESCRIPTION:
URL:https://www.eristates.org/event/the-community-multiscale-air-quality-cmaq-modeling-system-version-5-4-an-overview/
CATEGORIES:Webinar
END:VEVENT
BEGIN:VEVENT
DTSTART;TZID=America/New_York:20221215T120000
DTEND;TZID=America/New_York:20221215T130000
DTSTAMP:20260422T084423
CREATED:20220422T135347Z
LAST-MODIFIED:20220422T135347Z
UID:1594-1671105600-1671109200@www.eristates.org
SUMMARY:Modeling and Monitoring Tools to Support Passive and Active NAPL Remediation Approaches
DESCRIPTION:Investigators will discuss the development and accuracy of next-generation intensity-duration-frequency curves for enhancing hydrologic design\, and coupled models to support evaluation of mission-assurance risk from disruption of water infrastructure.
URL:https://www.eristates.org/event/modeling-and-monitoring-tools-to-support-passive-and-active-napl-remediation-approaches/
CATEGORIES:Webinar
END:VEVENT
BEGIN:VEVENT
DTSTART;TZID=America/New_York:20221117T130000
DTEND;TZID=America/New_York:20221117T150000
DTSTAMP:20260422T084423
CREATED:20220816T150229Z
LAST-MODIFIED:20220816T150229Z
UID:1689-1668690000-1668697200@www.eristates.org
SUMMARY:Sustainable Resilient Remediation (SRR)
DESCRIPTION:
URL:https://www.eristates.org/event/sustainable-resilient-remediation-srr/
CATEGORIES:Online Training
END:VEVENT
BEGIN:VEVENT
DTSTART;TZID=America/New_York:20221116T150000
DTEND;TZID=America/New_York:20221116T160000
DTSTAMP:20260422T084423
CREATED:20221027T143702Z
LAST-MODIFIED:20221027T143702Z
UID:1710-1668610800-1668614400@www.eristates.org
SUMMARY:U.S. EPA Tools & Resources Webinar on One Health
DESCRIPTION:
URL:https://www.eristates.org/event/u-s-epa-tools-resources-webinar-on-one-health/
CATEGORIES:Webinar
END:VEVENT
BEGIN:VEVENT
DTSTART;TZID=America/New_York:20221116T140000
DTEND;TZID=America/New_York:20221116T140000
DTSTAMP:20260422T084423
CREATED:20220421T195910Z
LAST-MODIFIED:20220421T195910Z
UID:1569-1668607200-1668607200@www.eristates.org
SUMMARY:Real-Time Risk Characterization Tool for Harmful Algal Blooms
DESCRIPTION:
URL:https://www.eristates.org/event/real-time-risk-characterization-tool-for-harmful-algal-blooms/
CATEGORIES:Webinar
END:VEVENT
BEGIN:VEVENT
DTSTART;TZID=America/New_York:20221115T130000
DTEND;TZID=America/New_York:20221115T150000
DTSTAMP:20260422T084423
CREATED:20220816T150120Z
LAST-MODIFIED:20220816T150120Z
UID:1687-1668517200-1668524400@www.eristates.org
SUMMARY:Vapor Intrusion Mitigation Session 2
DESCRIPTION:
URL:https://www.eristates.org/event/vapor-intrusion-mitigation-session-2-2/
CATEGORIES:Online Training
END:VEVENT
BEGIN:VEVENT
DTSTART;TZID=America/New_York:20221108T130000
DTEND;TZID=America/New_York:20221108T150000
DTSTAMP:20260422T084423
CREATED:20220816T145946Z
LAST-MODIFIED:20220816T145946Z
UID:1685-1667912400-1667919600@www.eristates.org
SUMMARY:Strategies for Preventing and Managing Harmful Cyanobacteria Bloom (HCB-1)
DESCRIPTION:
URL:https://www.eristates.org/event/strategies-for-preventing-and-managing-harmful-cyanobacteria-bloom-hcb-1/
CATEGORIES:Online Training
END:VEVENT
BEGIN:VEVENT
DTSTART;TZID=America/New_York:20221103T130000
DTEND;TZID=America/New_York:20221103T150000
DTSTAMP:20260422T084423
CREATED:20220816T145834Z
LAST-MODIFIED:20220816T145834Z
UID:1683-1667480400-1667487600@www.eristates.org
SUMMARY:Vapor Intrusion Mitigation Session 1
DESCRIPTION:
URL:https://www.eristates.org/event/vapor-intrusion-mitigation-session-1-3/
CATEGORIES:Online Training
END:VEVENT
END:VCALENDAR