BEGIN:VCALENDAR
VERSION:2.0
PRODID:-//ERIS - ECPv6.15.20//NONSGML v1.0//EN
CALSCALE:GREGORIAN
METHOD:PUBLISH
X-WR-CALNAME:ERIS
X-ORIGINAL-URL:https://www.eristates.org
X-WR-CALDESC:Events for ERIS
REFRESH-INTERVAL;VALUE=DURATION:PT1H
X-Robots-Tag:noindex
X-PUBLISHED-TTL:PT1H
BEGIN:VTIMEZONE
TZID:America/New_York
BEGIN:DAYLIGHT
TZOFFSETFROM:-0500
TZOFFSETTO:-0400
TZNAME:EDT
DTSTART:20200308T070000
END:DAYLIGHT
BEGIN:STANDARD
TZOFFSETFROM:-0400
TZOFFSETTO:-0500
TZNAME:EST
DTSTART:20201101T060000
END:STANDARD
BEGIN:DAYLIGHT
TZOFFSETFROM:-0500
TZOFFSETTO:-0400
TZNAME:EDT
DTSTART:20210314T070000
END:DAYLIGHT
BEGIN:STANDARD
TZOFFSETFROM:-0400
TZOFFSETTO:-0500
TZNAME:EST
DTSTART:20211107T060000
END:STANDARD
BEGIN:DAYLIGHT
TZOFFSETFROM:-0500
TZOFFSETTO:-0400
TZNAME:EDT
DTSTART:20220313T070000
END:DAYLIGHT
BEGIN:STANDARD
TZOFFSETFROM:-0400
TZOFFSETTO:-0500
TZNAME:EST
DTSTART:20221106T060000
END:STANDARD
END:VTIMEZONE
BEGIN:VEVENT
DTSTART;TZID=America/New_York:20210324T133000
DTEND;TZID=America/New_York:20210324T150000
DTSTAMP:20260424T043925
CREATED:20210211T220624Z
LAST-MODIFIED:20210211T220624Z
UID:1324-1616592600-1616598000@www.eristates.org
SUMMARY:Perspectives on a Class Approach to PFAS
DESCRIPTION:
URL:https://www.eristates.org/event/perspectives-on-a-class-approach-to-pfas/
CATEGORIES:Webinar
END:VEVENT
BEGIN:VEVENT
DTSTART;TZID=America/New_York:20210323T130000
DTEND;TZID=America/New_York:20210323T150000
DTSTAMP:20260424T043925
CREATED:20210106T191251Z
LAST-MODIFIED:20210106T191251Z
UID:1157-1616504400-1616511600@www.eristates.org
SUMMARY:Petroleum Vapor Intrusion: Fundamentals of Screening\, Investigation\, and Management
DESCRIPTION:
URL:https://www.eristates.org/event/petroleum-vapor-intrusion-fundamentals-of-screening-investigation-and-management-4/
CATEGORIES:Online Training
END:VEVENT
BEGIN:VEVENT
DTSTART;TZID=America/New_York:20210311T130000
DTEND;TZID=America/New_York:20210311T150000
DTSTAMP:20260424T043925
CREATED:20210106T191119Z
LAST-MODIFIED:20210106T191119Z
UID:1155-1615467600-1615474800@www.eristates.org
SUMMARY:Incremental Sampling Methodology Update: Session 2
DESCRIPTION:Field sample collection\, incremental sample processing and analysis\, and ISM for risk assessment
URL:https://www.eristates.org/event/incremental-sampling-methodology-update-session-2/
CATEGORIES:Online Training
END:VEVENT
BEGIN:VEVENT
DTSTART;TZID=America/New_York:20210309T130000
DTEND;TZID=America/New_York:20210309T150000
DTSTAMP:20260424T043925
CREATED:20210106T190925Z
LAST-MODIFIED:20210106T190925Z
UID:1153-1615294800-1615302000@www.eristates.org
SUMMARY:Connecting the Science to Managing LNAPL Sites 3-Part Series: Part 3
DESCRIPTION:Select/Implement LNAPL technologies
URL:https://www.eristates.org/event/connecting-the-science-to-managing-lnapl-sites-3-part-series-part-3/
CATEGORIES:Online Training
END:VEVENT
BEGIN:VEVENT
DTSTART;TZID=America/New_York:20210302T133000
DTEND;TZID=America/New_York:20210302T150000
DTSTAMP:20260424T043925
CREATED:20210211T220411Z
LAST-MODIFIED:20210211T220411Z
UID:1322-1614691800-1614697200@www.eristates.org
SUMMARY:Health Effects of PFAS Mixtures
DESCRIPTION:
URL:https://www.eristates.org/event/health-effects-of-pfas-mixtures/
CATEGORIES:Webinar
END:VEVENT
BEGIN:VEVENT
DTSTART;TZID=America/New_York:20210225T120000
DTEND;TZID=America/New_York:20210225T133000
DTSTAMP:20260424T043925
CREATED:20210106T222440Z
LAST-MODIFIED:20210106T222440Z
UID:1231-1614254400-1614259800@www.eristates.org
SUMMARY:Managing Chlorinated Solvents in Groundwater Using Biological Treatment
DESCRIPTION:
URL:https://www.eristates.org/event/managing-chlorinated-solvents-in-groundwater-using-biological-treatment/
CATEGORIES:Webinar
END:VEVENT
BEGIN:VEVENT
DTSTART;TZID=America/New_York:20210223T133000
DTEND;TZID=America/New_York:20210223T150000
DTSTAMP:20260424T043925
CREATED:20210211T220038Z
LAST-MODIFIED:20210211T220038Z
UID:1320-1614087000-1614092400@www.eristates.org
SUMMARY:Health Effects of Exposure to PFAS
DESCRIPTION:
URL:https://www.eristates.org/event/health-effects-of-exposure-to-pfas/
CATEGORIES:Webinar
END:VEVENT
BEGIN:VEVENT
DTSTART;TZID=America/New_York:20210218T143000
DTEND;TZID=America/New_York:20210218T173000
DTSTAMP:20260424T043925
CREATED:20210203T185749Z
LAST-MODIFIED:20210203T185749Z
UID:1284-1613658600-1613669400@www.eristates.org
SUMMARY:Reducing the Health Impacts of the Nitrogen Problem: Policies and Markets
DESCRIPTION:2:30 Welcome and Review of Previous Weeks\nCatherine Kling\, Cornell University\n2:40 Potential Market Opportunities\nConservation Auctions\nLeah Palm-Forster\, University of Delaware\nWater Quality Trading\nKurt Stephenson\, Virginia Polytechnic Institute and State University\nCertification and Supply Chain Standards\nKurt Waldman\, Indiana University\n3:30 Review of Input on New Policy and Market Opportunities\n3:40 Farmer Panel: Reactions to Proposed Opportunities\nRod Weimer\, Fagerberg Farms\nRochelle Krusemark\, Krusemark Farms\nRichard Wilkins\, Delaware Farm Bureau\n4:20 Action Group Panel: Reactions to Proposed Opportunities s\nJenny Ahlen\, Environmental Defense Fund\nSean McMahon\, Iowa Agriculture Water Alliance\n5:00 Discussion and Prioritization\n5:25 Preview of Next Session\n5:30 Adjourn
URL:https://www.eristates.org/event/reducing-the-health-impacts-of-the-nitrogen-problem-policies-and-markets/
END:VEVENT
BEGIN:VEVENT
DTSTART;TZID=America/New_York:20210218T143000
DTEND;TZID=America/New_York:20210218T153000
DTSTAMP:20260424T043925
CREATED:20210203T211728Z
LAST-MODIFIED:20210203T211728Z
UID:1287-1613658600-1613662200@www.eristates.org
SUMMARY:The California Trash Monitoring Playbook
DESCRIPTION:Trash monitoring methods in aquatic environments has presented many challenges in\nmethod standardization and how to answer management questions. During this webinar\nyou will be introduced to the new California Trash Monitoring Playbook.\nThe California Ocean Protection Council (OPC)\, in close partnership with the State\nWater Board\, has recognized the importance of standard methods for trash monitoring\nand has funded this project. The Southern California Coastal Water Research Project\n(SCCWRP) and San Francisco Bay Estuary Institute (SFEI) have partnered up to test\nmultiple trash monitoring methods with a goal of developing a library of methods with\nknown levels of precision\, accuracy\, and cross-comparability of results\, and linking\nthese methods to specific management questions.
URL:https://www.eristates.org/event/the-california-trash-monitoring-playbook/
END:VEVENT
BEGIN:VEVENT
DTSTART;TZID=America/New_York:20210218T130000
DTEND;TZID=America/New_York:20210218T150000
DTSTAMP:20260424T043925
CREATED:20210106T190710Z
LAST-MODIFIED:20210106T190710Z
UID:1151-1613653200-1613660400@www.eristates.org
SUMMARY:Connecting to the Science to Managing LNAPL Sites 3-Part Series: Part 2
DESCRIPTION:Developing your LNAPL conceptual site model and LNAPL remedial goals.
URL:https://www.eristates.org/event/connecting-to-the-science-to-managing-lnapl-sites-3-part-series-part-2/
CATEGORIES:Online Training
END:VEVENT
BEGIN:VEVENT
DTSTART;TZID=America/New_York:20210217T150000
DTEND;TZID=America/New_York:20210217T160000
DTSTAMP:20260424T043925
CREATED:20210129T150234Z
LAST-MODIFIED:20210129T150234Z
UID:1273-1613574000-1613577600@www.eristates.org
SUMMARY:EPA’s PITT Findings on PFAS Destruction Technologies
DESCRIPTION:
URL:https://www.eristates.org/event/epas-pitt-findings-on-pfas-destruction-technologies/
CATEGORIES:Webinar
END:VEVENT
BEGIN:VEVENT
DTSTART;TZID=America/New_York:20210217T150000
DTEND;TZID=America/New_York:20210217T160000
DTSTAMP:20260424T043925
CREATED:20210128T220500Z
LAST-MODIFIED:20210128T220500Z
UID:1270-1613574000-1613577600@www.eristates.org
SUMMARY:Summary of PFAS Innovative Treatment Team (PITT) Findings on PFAS Destruction
DESCRIPTION:
URL:https://www.eristates.org/event/summary-of-pfas-innovative-treatment-team-pitt-findings-on-pfas-destruction/
CATEGORIES:Webinar
END:VEVENT
BEGIN:VEVENT
DTSTART;TZID=America/New_York:20210217T120000
DTEND;TZID=America/New_York:20210217T130000
DTSTAMP:20260424T043925
CREATED:20210128T215516Z
LAST-MODIFIED:20210128T215516Z
UID:1267-1613563200-1613566800@www.eristates.org
SUMMARY:Dirt Goes Downhill: Are We Making Better Post-Wildfire Erosion Control Treatment Decisions?
DESCRIPTION:
URL:https://www.eristates.org/event/dirt-goes-downhill-are-we-making-better-post-wildfire-erosion-control-treatment-decisions/
CATEGORIES:Webinar
END:VEVENT
BEGIN:VEVENT
DTSTART;TZID=America/New_York:20210216T130000
DTEND;TZID=America/New_York:20210216T150000
DTSTAMP:20260424T043925
CREATED:20210106T190522Z
LAST-MODIFIED:20210106T190522Z
UID:1149-1613480400-1613487600@www.eristates.org
SUMMARY:Optimizing Injection Strategies and In Situ Remediation Performance
DESCRIPTION:
URL:https://www.eristates.org/event/optimizing-injection-strategies-and-in-situ-remediation-performance-4/
CATEGORIES:Online Training
END:VEVENT
BEGIN:VEVENT
DTSTART;TZID=America/New_York:20210211T143000
DTEND;TZID=America/New_York:20210211T173000
DTSTAMP:20260424T043925
CREATED:20210203T185436Z
LAST-MODIFIED:20210203T185436Z
UID:1282-1613053800-1613064600@www.eristates.org
SUMMARY:Reducing the Health Impacts of the Nitrogen Problem: Landscape Level Actions
DESCRIPTION:2:30 Welcome and Review of Previous Weeks\nCatherine Kling\, Cornell University\n2:40 Federal Programs Related to Conservation and Nitrogen Management and Use\nSteven Wallander\, USDA Economic Research Service\n3:05 Flash Talks: Innovative Technologies\nPrecision Application of Nitrogen – Kit Franklin\, Harper Adams University\nMicrobial Haber-Bosch – Daniel Nocera\, Harvard University\nBiodegradable Sensors in Soil – Ana Arias\, University of California\, Berkeley\nPotential for Perennial Grains and Grasses – Steve Culman\, The Ohio State University \nFlash Talks: Governance and Outreach Opportunities at the Landscape Level\nBuilding Coalitions to Development and Implement Solutions – Roger Wolf\, Iowa Soybean Association\nIrrigated Lands Regulatory Program in California – Mark Lubell\, University of California\, Davis\nEngaging Farmers in Nitrogen Management Decision Making – Greg LaBarge\, The Ohio State University\nAddressing Cooperation Problems and Decision Making in Agricultural Policy – Mark Lubell\, University of California\, Davis\nExtension Engagement – Greg LaBarge\, The Ohio State University\n4:05 Review of Input on Landscape-Level Actions and Opportunities\n4:20 Discussion and Prioritization\n5:25 Preview of Next Session
URL:https://www.eristates.org/event/reducing-the-health-impacts-of-the-nitrogen-problem-landscape-level-actions/
CATEGORIES:Webinar
END:VEVENT
BEGIN:VEVENT
DTSTART;TZID=America/New_York:20210211T130000
DTEND;TZID=America/New_York:20210211T150000
DTSTAMP:20260424T043925
CREATED:20210106T190025Z
LAST-MODIFIED:20210106T190025Z
UID:1147-1613048400-1613055600@www.eristates.org
SUMMARY:Connecting the Science to Managing LNAPL Sites 3-Part Series: Part 1
DESCRIPTION:Build upon your understanding of LNAPL behavior in the subsurface.
URL:https://www.eristates.org/event/connecting-the-science-to-managing-lnapl-sites-3-part-series-part-1/
CATEGORIES:Online Training
END:VEVENT
BEGIN:VEVENT
DTSTART;TZID=America/New_York:20210209T130000
DTEND;TZID=America/New_York:20210209T150000
DTSTAMP:20260424T043925
CREATED:20210106T185703Z
LAST-MODIFIED:20210106T185703Z
UID:1145-1612875600-1612882800@www.eristates.org
SUMMARY:Bioavailability of Contaminants in Soil: Considerations for Human Health Risk Assessment
DESCRIPTION:
URL:https://www.eristates.org/event/bioavailability-of-contaminants-in-soil-considerations-for-human-health-risk-assessment-5/
CATEGORIES:Online Training
END:VEVENT
BEGIN:VEVENT
DTSTART;TZID=America/New_York:20210205T140000
DTEND;TZID=America/New_York:20210205T143000
DTSTAMP:20260424T043925
CREATED:20210115T221447Z
LAST-MODIFIED:20210115T221447Z
UID:1250-1612533600-1612535400@www.eristates.org
SUMMARY:Using Information from Global Climate Models to Inform Policymaking
DESCRIPTION:
URL:https://www.eristates.org/event/using-information-from-global-climate-models-to-inform-policymaking/
CATEGORIES:Webinar
END:VEVENT
BEGIN:VEVENT
DTSTART;TZID=America/New_York:20210204T150000
DTEND;TZID=America/New_York:20210204T160000
DTSTAMP:20260424T043925
CREATED:20210111T202646Z
LAST-MODIFIED:20210111T202646Z
UID:1247-1612450800-1612454400@www.eristates.org
SUMMARY:EPA on the ECOTOX Knowledgebase
DESCRIPTION:
URL:https://www.eristates.org/event/epa-on-the-ecotox-knowledgebase/
CATEGORIES:Online Training
END:VEVENT
BEGIN:VEVENT
DTSTART;TZID=America/New_York:20210204T143000
DTEND;TZID=America/New_York:20210204T173000
DTSTAMP:20260424T043925
CREATED:20210203T184823Z
LAST-MODIFIED:20210203T185946Z
UID:1280-1612449000-1612459800@www.eristates.org
SUMMARY:Reducing the Health Impacts of the Nitrogen Problem: Farm-Level Actions
DESCRIPTION:2:30 Welcome and Review of Previous Week\nCatherine Kling\, Cornell University\n2:40 Drivers of Farmer and Agricultural Stakeholder Decision Making and Actions\nLinda Prokopy\, Purdue University\n3:05 Flash Talks: Farm-level Actions and Opportunities\nDigital Agriculture to Reduce Nitrogen Losses across the U.S. Corn Belt\nBruno Basso\, Michigan State University\nCover Crops by Region: The Good\, the Bad\, and the Ugly in the Midwest\nAlejandro Plastina\, Iowa State University\nStrategically Integrating Prairie to Restore Ecosystem Health and Functioning Within Annual\nCrop Fields\nLisa Schulte Moore\, Iowa State University\nSuccessful In-field Water Management in Nebraska\nJim Schepers\, University of Nebraska–Lincoln\nManagement of Nitrogen in Tile Drainage Systems\nJane Frankenberger\, Purdue University\nThe 4Rs of Nutrient Management\nCarrie Vollmer-Sanders\, The Nature Conservancy\nTechnology to Monitor Nitrogen Loss in Farm Fields\nDavid Lee\, Booz Allen Hamilton\nFloridan Aquifer Collaborative Engagement for Sustainability (FACETS) Project: An Integrated\nAssessment of Economic and Environmental Impacts of Best Management Practice Adoption\nWendy Graham\, University of Florida\n4:05 Review of Input on Farm-Level Actions and Opportunities\n4:20 Discussion and Prioritization\n5:25 Preview of Next Session\n5:30 Adjourn
URL:https://www.eristates.org/event/reducing-the-health-impacts-of-the-nitrogen-problem-farm-level-actions/
CATEGORIES:Webinar
END:VEVENT
BEGIN:VEVENT
DTSTART;TZID=America/New_York:20210201T153000
DTEND;TZID=America/New_York:20210201T170000
DTSTAMP:20260424T043925
CREATED:20210127T223745Z
LAST-MODIFIED:20210127T223745Z
UID:1263-1612193400-1612198800@www.eristates.org
SUMMARY:Low-Cost\, Open Source Tools: Next Steps for Science and Policy
DESCRIPTION:Foldable and 3D printed microscopes are broadening access to the life sciences\, low-cost and open microprocessors are supporting research from cognitive neuroscience to oceanography\, and low-cost and open sensors are measuring air quality in communities around the world. In these examples and beyond\, the things of science – the physical tools that generate data or contribute to scientific processes – are becoming less expensive\, and more open. \nRecent developments\, including the extraordinary response to COVID-19 by maker and DIY communities\, have demonstrated the value of low cost and open source hardware for addressing global challenges. These developments strengthen the capacity of individual innovators and community-based organizations and highlight concrete opportunities for their contribution to science and society. From a policy perspective\, work on low-cost and open source hardware– as well as broader open science and open innovation initiatives– has spanned at least two presidential administrations.
URL:https://www.eristates.org/event/low-cost-open-source-tools-next-steps-for-science-and-policy/
CATEGORIES:Webinar
ORGANIZER;CN="Wilson Center":MAILTO:https://www.wilsoncenter.org/
END:VEVENT
BEGIN:VEVENT
DTSTART;TZID=America/New_York:20210128T130000
DTEND;TZID=America/New_York:20210128T150000
DTSTAMP:20260424T043925
CREATED:20210106T221637Z
LAST-MODIFIED:20210106T221637Z
UID:1229-1611838800-1611846000@www.eristates.org
SUMMARY:Communicating Air Quality During Fires: The Science Behind the AirNow Sensor Data Pilot
DESCRIPTION:
URL:https://www.eristates.org/event/communicating-air-quality-during-fires-the-science-behind-the-airnow-sensor-data-pilot/
CATEGORIES:Webinar
END:VEVENT
BEGIN:VEVENT
DTSTART;TZID=America/New_York:20210128T130000
DTEND;TZID=America/New_York:20210128T150000
DTSTAMP:20260424T043925
CREATED:20210106T185502Z
LAST-MODIFIED:20210106T185502Z
UID:1143-1611838800-1611846000@www.eristates.org
SUMMARY:Issues and Options in Human Health Risk Assessment
DESCRIPTION:A resource when alternatives to default parameters and scenarios are proposed.
URL:https://www.eristates.org/event/issues-and-options-in-human-health-risk-assessment/
CATEGORIES:Online Training
END:VEVENT
BEGIN:VEVENT
DTSTART;TZID=America/New_York:20210128T120000
DTEND;TZID=America/New_York:20210128T133000
DTSTAMP:20260424T043925
CREATED:20210106T222556Z
LAST-MODIFIED:20210106T222556Z
UID:1233-1611835200-1611840600@www.eristates.org
SUMMARY:Improved Approaches for PFAS Sampling and Treatment
DESCRIPTION:
URL:https://www.eristates.org/event/improved-approaches-for-pfas-sampling-and-treatment/
CATEGORIES:Webinar
END:VEVENT
BEGIN:VEVENT
DTSTART;TZID=America/New_York:20210128T110000
DTEND;TZID=America/New_York:20210128T120000
DTSTAMP:20260424T043925
CREATED:20210106T221435Z
LAST-MODIFIED:20210106T221435Z
UID:1227-1611831600-1611835200@www.eristates.org
SUMMARY:The Tox21 10K Compound Library: Collaborative Chemistry Advancing Toxicology
DESCRIPTION:
URL:https://www.eristates.org/event/the-tox21-10k-compound-library-collaborative-chemistry-advancing-toxicology/
CATEGORIES:Webinar
END:VEVENT
BEGIN:VEVENT
DTSTART;TZID=America/New_York:20210127T150000
DTEND;TZID=America/New_York:20210127T160000
DTSTAMP:20260424T043925
CREATED:20210111T202521Z
LAST-MODIFIED:20210111T202521Z
UID:1245-1611759600-1611763200@www.eristates.org
SUMMARY:EPA Tools & Resources on the Effectiveness of Medical and Cloth Masks for COVID-19 Protection
DESCRIPTION:
URL:https://www.eristates.org/event/epa-tools-resources-on-the-effectiveness-of-medical-and-cloth-masks-for-covid-19-protection/
CATEGORIES:Webinar
END:VEVENT
BEGIN:VEVENT
DTSTART;TZID=America/New_York:20210127T150000
DTEND;TZID=America/New_York:20210127T160000
DTSTAMP:20260424T043925
CREATED:20210106T214428Z
LAST-MODIFIED:20210106T214428Z
UID:1223-1611759600-1611763200@www.eristates.org
SUMMARY:Effectiveness of Medical and Cloth Masks for COVID-19 Protection
DESCRIPTION:
URL:https://www.eristates.org/event/effectiveness-of-medical-and-cloth-masks-for-covid-19-protection/
CATEGORIES:Webinar
END:VEVENT
BEGIN:VEVENT
DTSTART;TZID=America/New_York:20210127T140000
DTEND;TZID=America/New_York:20210127T150000
DTSTAMP:20260424T043925
CREATED:20200506T204749Z
LAST-MODIFIED:20200506T204749Z
UID:837-1611756000-1611759600@www.eristates.org
SUMMARY:Disinfection Byproducts Formation Tools for Drinking Water Utilities
DESCRIPTION:David Wahman\, EPA’s Office of Research and Development
URL:https://www.eristates.org/event/disinfection-byproducts-formation-tools-for-drinking-water-utilities/
CATEGORIES:Webinar
END:VEVENT
BEGIN:VEVENT
DTSTART;TZID=America/New_York:20210127T120000
DTEND;TZID=America/New_York:20210127T130000
DTSTAMP:20260424T043925
CREATED:20210115T222854Z
LAST-MODIFIED:20210115T222854Z
UID:1258-1611748800-1611752400@www.eristates.org
SUMMARY:NOAA Sea Level Rise Viewer Updates and Other Sources for Sea Level Rise Data and Visualizations
DESCRIPTION:
URL:https://www.eristates.org/event/noaa-sea-level-rise-viewer-updates-and-other-sources-for-sea-level-rise-data-and-visualizations/
CATEGORIES:Webinar
END:VEVENT
BEGIN:VEVENT
DTSTART;TZID=America/New_York:20210126T130000
DTEND;TZID=America/New_York:20210126T150000
DTSTAMP:20260424T043925
CREATED:20210106T185245Z
LAST-MODIFIED:20210106T185245Z
UID:1141-1611666000-1611673200@www.eristates.org
SUMMARY:Incremental Sampling Methodology Update - Session 1
DESCRIPTION:Introduction to ISM\, heterogeneity\, and statistical applications to ISM sampling and evaluation.
URL:https://www.eristates.org/event/incremental-sampling-methodology-update-session-1/
CATEGORIES:Online Training
END:VEVENT
END:VCALENDAR