BEGIN:VCALENDAR
VERSION:2.0
PRODID:-//ERIS - ECPv6.15.20//NONSGML v1.0//EN
CALSCALE:GREGORIAN
METHOD:PUBLISH
X-ORIGINAL-URL:https://www.eristates.org
X-WR-CALDESC:Events for ERIS
REFRESH-INTERVAL;VALUE=DURATION:PT1H
X-Robots-Tag:noindex
X-PUBLISHED-TTL:PT1H
BEGIN:VTIMEZONE
TZID:America/New_York
BEGIN:DAYLIGHT
TZOFFSETFROM:-0500
TZOFFSETTO:-0400
TZNAME:EDT
DTSTART:20220313T070000
END:DAYLIGHT
BEGIN:STANDARD
TZOFFSETFROM:-0400
TZOFFSETTO:-0500
TZNAME:EST
DTSTART:20221106T060000
END:STANDARD
BEGIN:DAYLIGHT
TZOFFSETFROM:-0500
TZOFFSETTO:-0400
TZNAME:EDT
DTSTART:20230312T070000
END:DAYLIGHT
BEGIN:STANDARD
TZOFFSETFROM:-0400
TZOFFSETTO:-0500
TZNAME:EST
DTSTART:20231105T060000
END:STANDARD
BEGIN:DAYLIGHT
TZOFFSETFROM:-0500
TZOFFSETTO:-0400
TZNAME:EDT
DTSTART:20240310T070000
END:DAYLIGHT
BEGIN:STANDARD
TZOFFSETFROM:-0400
TZOFFSETTO:-0500
TZNAME:EST
DTSTART:20241103T060000
END:STANDARD
BEGIN:DAYLIGHT
TZOFFSETFROM:-0500
TZOFFSETTO:-0400
TZNAME:EDT
DTSTART:20250309T070000
END:DAYLIGHT
BEGIN:STANDARD
TZOFFSETFROM:-0400
TZOFFSETTO:-0500
TZNAME:EST
DTSTART:20251102T060000
END:STANDARD
END:VTIMEZONE
BEGIN:VEVENT
DTSTART;TZID=America/New_York:20240220T130000
DTEND;TZID=America/New_York:20240220T143000
DTSTAMP:20260423T060552
CREATED:20240108T215745Z
LAST-MODIFIED:20240108T215745Z
UID:2082-1708434000-1708439400@www.eristates.org
SUMMARY:EtO and What You Need to Know
DESCRIPTION:
URL:https://www.eristates.org/event/eto-and-what-you-need-to-know/
CATEGORIES:Online Training,Webinar
END:VEVENT
BEGIN:VEVENT
DTSTART;TZID=America/New_York:20240220T113000
DTEND;TZID=America/New_York:20240220T120000
DTSTAMP:20260423T060552
CREATED:20240207T182526Z
LAST-MODIFIED:20240207T182526Z
UID:2130-1708428600-1708430400@www.eristates.org
SUMMARY:Using Oyster Aquaculture as a Nitrogen Mitigation Tool
DESCRIPTION:
URL:https://www.eristates.org/event/using-oyster-aquaculture-as-a-nitrogen-mitigation-tool/
CATEGORIES:Webinar
END:VEVENT
BEGIN:VEVENT
DTSTART;TZID=America/New_York:20240214T150000
DTEND;TZID=America/New_York:20240214T160000
DTSTAMP:20260423T060552
CREATED:20240108T211448Z
LAST-MODIFIED:20240108T211448Z
UID:2044-1707922800-1707926400@www.eristates.org
SUMMARY:Chemical Safety for Sustainability Online Tools
DESCRIPTION:
URL:https://www.eristates.org/event/chemical-safety-for-sustainability-online-tools/
CATEGORIES:Online Training,Webinar
END:VEVENT
BEGIN:VEVENT
DTSTART;TZID=America/New_York:20240214T140000
DTEND;TZID=America/New_York:20240214T150000
DTSTAMP:20260423T060552
CREATED:20240213T174937Z
LAST-MODIFIED:20240213T174937Z
UID:2143-1707919200-1707922800@www.eristates.org
SUMMARY:Protecting Drinking Water Sources with EPA's River Spill Model
DESCRIPTION:
URL:https://www.eristates.org/event/protecting-drinking-water-sources-with-epas-river-spill-model/
CATEGORIES:Webinar
END:VEVENT
BEGIN:VEVENT
DTSTART;TZID=America/New_York:20240208T150000
DTEND;TZID=America/New_York:20240208T160000
DTSTAMP:20260423T060552
CREATED:20240206T194332Z
LAST-MODIFIED:20240206T194332Z
UID:2123-1707404400-1707408000@www.eristates.org
SUMMARY:Incident Waste Decision Support Tool (I-Waste)
DESCRIPTION:
URL:https://www.eristates.org/event/incident-waste-decision-support-tool-i-waste/
CATEGORIES:Online Training,Webinar
END:VEVENT
BEGIN:VEVENT
DTSTART;TZID=America/New_York:20240206T130000
DTEND;TZID=America/New_York:20240206T150000
DTSTAMP:20260423T060552
CREATED:20231127T194103Z
LAST-MODIFIED:20231127T194103Z
UID:2007-1707224400-1707231600@www.eristates.org
SUMMARY:Managed Aquifer Recharge
DESCRIPTION:
URL:https://www.eristates.org/event/managed-aquifer-recharge/
CATEGORIES:Online Training
END:VEVENT
BEGIN:VEVENT
DTSTART;TZID=America/New_York:20240131T140000
DTEND;TZID=America/New_York:20240131T150000
DTSTAMP:20260423T060552
CREATED:20240108T212006Z
LAST-MODIFIED:20240108T212006Z
UID:2048-1706709600-1706713200@www.eristates.org
SUMMARY:Development and Application of HABs Forecasting Science
DESCRIPTION:OW’s Vision for Operationalizing Nationwide HABs Forecast\nForecasting Freshwater Cyanobacterial HABs for Sentinel-3 Satellite Resolved U.S. Lakes and Reservoirs
URL:https://www.eristates.org/event/development-and-application-of-habs-forecasting-science/
CATEGORIES:Webinar
END:VEVENT
BEGIN:VEVENT
DTSTART;TZID=America/New_York:20240130T140000
DTEND;TZID=America/New_York:20240130T153000
DTSTAMP:20260423T060552
CREATED:20240108T213405Z
LAST-MODIFIED:20240108T213405Z
UID:2062-1706623200-1706628600@www.eristates.org
SUMMARY:Tools\, Training\, & Technical Assistance to Increase Water System Resilience
DESCRIPTION:Creating Resilient Water Utilities\nEPA’s Water Network Tool for Resilience (WNTR)
URL:https://www.eristates.org/event/tools-training-technical-assistance-to-increase-water-system-resilience/
CATEGORIES:Webinar
END:VEVENT
BEGIN:VEVENT
DTSTART;TZID=America/New_York:20240130T130000
DTEND;TZID=America/New_York:20240130T153000
DTSTAMP:20260423T060552
CREATED:20231127T193904Z
LAST-MODIFIED:20231127T193904Z
UID:2005-1706619600-1706628600@www.eristates.org
SUMMARY:Pump & Treat Optimization
DESCRIPTION:
URL:https://www.eristates.org/event/pump-treat-optimization-2/
CATEGORIES:Online Training
END:VEVENT
BEGIN:VEVENT
DTSTART;TZID=America/New_York:20240125T130000
DTEND;TZID=America/New_York:20240125T150000
DTSTAMP:20260423T060552
CREATED:20231127T193740Z
LAST-MODIFIED:20231127T193740Z
UID:2003-1706187600-1706194800@www.eristates.org
SUMMARY:Contaminants of Emerging Concern Identification Framework
DESCRIPTION:
URL:https://www.eristates.org/event/contaminants-of-emerging-concern-identification-framework/
CATEGORIES:Online Training
END:VEVENT
BEGIN:VEVENT
DTSTART;TZID=America/New_York:20240118T130000
DTEND;TZID=America/New_York:20240118T150000
DTSTAMP:20260423T060552
CREATED:20231127T193545Z
LAST-MODIFIED:20231127T193609Z
UID:2001-1705582800-1705590000@www.eristates.org
SUMMARY:Sediment Cap Chemical Isolation Training
DESCRIPTION:
URL:https://www.eristates.org/event/sediment-cap-chemical-isolation-training/
CATEGORIES:Online Training
END:VEVENT
BEGIN:VEVENT
DTSTART;TZID=America/New_York:20240117T150000
DTEND;TZID=America/New_York:20240117T160000
DTSTAMP:20260423T060552
CREATED:20231127T200005Z
LAST-MODIFIED:20231127T200005Z
UID:2029-1705503600-1705507200@www.eristates.org
SUMMARY:Food Waste
DESCRIPTION:
URL:https://www.eristates.org/event/food-waste/
CATEGORIES:Webinar
END:VEVENT
BEGIN:VEVENT
DTSTART;TZID=America/New_York:20231213T150000
DTEND;TZID=America/New_York:20231213T160000
DTSTAMP:20260423T060552
CREATED:20231127T195901Z
LAST-MODIFIED:20231127T195901Z
UID:2027-1702479600-1702483200@www.eristates.org
SUMMARY:Equitable Resilience Builder
DESCRIPTION:EPA’s Equitable Resilience Builder (ERB) is a scientific tool developed using human-centered design and engages community members in resilience planning to generate solutions that advance equity. The tool contains activities for listening to local voices (trauma-informed engagement strategies\, storytelling\, participatory mapping) and conducting collaborative assessment of hazards\, resilience and equity\, to build community connections and identify actions to strengthen resilience in ways that address the needs of those made vulnerable by social and environmental inequalities. This presentation will provide an overview of the ERB application and walk through examples of community building and engagement techniques that center equity in resilience planning.
URL:https://www.eristates.org/event/equitable-resilience-builder/
CATEGORIES:Webinar
END:VEVENT
BEGIN:VEVENT
DTSTART;TZID=America/New_York:20231212T150000
DTEND;TZID=America/New_York:20231212T160000
DTSTAMP:20260423T060552
CREATED:20230613T200825Z
LAST-MODIFIED:20231127T200248Z
UID:1890-1702393200-1702396800@www.eristates.org
SUMMARY:Community Action and Health Impact Assessment Research
DESCRIPTION:
URL:https://www.eristates.org/event/health-impact-assessment-research/
CATEGORIES:Webinar
END:VEVENT
BEGIN:VEVENT
DTSTART;TZID=America/New_York:20231207T150000
DTEND;TZID=America/New_York:20231207T160000
DTSTAMP:20260423T060552
CREATED:20230613T201645Z
LAST-MODIFIED:20230613T201645Z
UID:1898-1701961200-1701964800@www.eristates.org
SUMMARY:Chemical Exposure Knowledgebase (ChemExpo)
DESCRIPTION:
URL:https://www.eristates.org/event/chemical-exposure-knowledgebase-chemexpo/
CATEGORIES:Webinar
END:VEVENT
BEGIN:VEVENT
DTSTART;TZID=America/New_York:20231207T120000
DTEND;TZID=America/New_York:20231207T133000
DTSTAMP:20260423T060552
CREATED:20230412T211215Z
LAST-MODIFIED:20230412T211215Z
UID:1841-1701950400-1701955800@www.eristates.org
SUMMARY:Forensic Methods for PFAS Source Tracking and Allocation
DESCRIPTION:This webinar focuses on  research efforts to develop forensic methods for PFAS source tracking and allocation. Specifically\, investigators will talk about the development of an open-source database infrastructure for the storage and management of analytical data\, the identification of product- and source-specific marker compounds\, and the development of analytical methods exportable to more widely available lower-resolution mass spectrometers.
URL:https://www.eristates.org/event/forensic-methods-for-pfas-source-tracking-and-allocation/
END:VEVENT
BEGIN:VEVENT
DTSTART;TZID=America/New_York:20231205T140000
DTEND;TZID=America/New_York:20231205T153000
DTSTAMP:20260423T060552
CREATED:20231127T203557Z
LAST-MODIFIED:20231127T203557Z
UID:2034-1701784800-1701790200@www.eristates.org
SUMMARY:Climate Resilient Design for Culverts and Pavements
DESCRIPTION:
URL:https://www.eristates.org/event/climate-resilient-design-for-culverts-and-pavements/
CATEGORIES:Webinar
END:VEVENT
BEGIN:VEVENT
DTSTART;TZID=America/New_York:20231205T130000
DTEND;TZID=America/New_York:20231205T150000
DTSTAMP:20260423T060552
CREATED:20230516T195502Z
LAST-MODIFIED:20230516T195502Z
UID:1876-1701781200-1701788400@www.eristates.org
SUMMARY:Optimizing Injection Strategies & In Situ Remediation Performance
DESCRIPTION:
URL:https://www.eristates.org/event/optimizing-injection-strategies-in-situ-remediation-performance-2/
CATEGORIES:Online Training
END:VEVENT
BEGIN:VEVENT
DTSTART;TZID=America/New_York:20231204T140000
DTEND;TZID=America/New_York:20231204T153000
DTSTAMP:20260423T060552
CREATED:20231127T190949Z
LAST-MODIFIED:20231127T190949Z
UID:1996-1701698400-1701703800@www.eristates.org
SUMMARY:Striking a Balance: PFAS Treatment and Simultaneous Compliance
DESCRIPTION:Attendees will hear from EPA Staff Tom Speth\, from the Office of Research and Development\, and Michael Finn\, from the Office of Ground Water and Drinking Water\, who will provide a general overview of the common PFAS treatment options\, considerations for simultaneous compliance\, and EPA’s ongoing research for addressing PFAS contamination
URL:https://www.eristates.org/event/striking-a-balance-pfas-treatment-and-simultaneous-compliance/
CATEGORIES:Webinar
END:VEVENT
BEGIN:VEVENT
DTSTART;TZID=America/New_York:20231130T120000
DTEND;TZID=America/New_York:20231130T133000
DTSTAMP:20260423T060552
CREATED:20231127T170042Z
LAST-MODIFIED:20231127T170042Z
UID:1983-1701345600-1701351000@www.eristates.org
SUMMARY:Exposure and Impacts of Nano- and Microplastics on Human Health
DESCRIPTION:
URL:https://www.eristates.org/event/exposure-and-impacts-of-nano-and-microplastics-on-human-health/
CATEGORIES:Webinar
END:VEVENT
BEGIN:VEVENT
DTSTART;TZID=America/New_York:20231130T103000
DTEND;TZID=America/New_York:20231130T160000
DTSTAMP:20260423T060552
CREATED:20231127T203039Z
LAST-MODIFIED:20231127T203039Z
UID:2032-1701340200-1701360000@www.eristates.org
SUMMARY:Rethinking Water Markets for Multiple Benefits
DESCRIPTION:This meeting will consider the broad implications and benefits that can accrue from water markets\, including increasing flexibility and options in meeting various social\, environmental\, and regulatory targets and priorities. The meeting will explore concepts such as water quality trading to reduce pollutants and protect ecosystems\, providing instream flows for aquatic systems\, groundwater banking to optimize water allocations among different users\, learning from other types of commodity markets\, and issues related to scale\, data availability\, transparency\, monitoring\, and stakeholder involvement.
URL:https://www.eristates.org/event/rethinking-water-markets-for-multiple-benefits/
CATEGORIES:Webinar
END:VEVENT
BEGIN:VEVENT
DTSTART;TZID=America/New_York:20231129T140000
DTEND;TZID=America/New_York:20231129T150000
DTSTAMP:20260423T060552
CREATED:20231127T171101Z
LAST-MODIFIED:20231127T171101Z
UID:1987-1701266400-1701270000@www.eristates.org
SUMMARY:An Introduction to EPA's Enhanced Aquifer Recharge Research
DESCRIPTION:
URL:https://www.eristates.org/event/an-introduction-to-epas-enhanced-aquifer-recharge-research/
CATEGORIES:Webinar
END:VEVENT
BEGIN:VEVENT
DTSTART;TZID=America/New_York:20231128T140000
DTEND;TZID=America/New_York:20231128T153000
DTSTAMP:20260423T060552
CREATED:20231127T170917Z
LAST-MODIFIED:20231127T170917Z
UID:1985-1701180000-1701185400@www.eristates.org
SUMMARY:Risk\, Crisis\, and General Communication
DESCRIPTION:1. Conversations With Customers: What We’ve Learned From Talking With Them\nBrenda Culler\, Cleveland Water \nThis presentation will highlight lessons learned from talking with customers during lead service line replacements\, phone calls to both Cleveland Water Department’s phone lines dedicated to lead and water quality inquires\, and presentations about water. \n2. Drinking Water Risk Communication Toolkit\nAlycia Overbo\, Minnesota Department of Health \nThis presentation discusses practical tools and resources used in Minnesota to help public water systems communicate about risk with their customers\, including the Drinking Risk Communication Toolkit\, and will include examples of how the toolkit has been used and future areas of expansion. \n3. EPA Flint Water Response: Risk Communication Case Study\nDiane Russell\, EPA Region 5 \nThis presentation will highlight EPA’s drinking water response in Flint\, Michigan\, including the communication challenges. EPA’s engagement strategy will also be discussed.
URL:https://www.eristates.org/event/risk-crisis-and-general-communication/
CATEGORIES:Webinar
END:VEVENT
BEGIN:VEVENT
DTSTART;TZID=America/New_York:20231116T150000
DTEND;TZID=America/New_York:20231116T160000
DTSTAMP:20260423T060552
CREATED:20230922T172650Z
LAST-MODIFIED:20230922T172650Z
UID:1941-1700146800-1700150400@www.eristates.org
SUMMARY:One Health
DESCRIPTION:
URL:https://www.eristates.org/event/one-health/
CATEGORIES:Webinar
END:VEVENT
BEGIN:VEVENT
DTSTART;TZID=America/New_York:20231115T100000
DTEND;TZID=America/New_York:20231115T103000
DTSTAMP:20260423T060552
CREATED:20231023T164949Z
LAST-MODIFIED:20231023T164949Z
UID:1970-1700042400-1700044200@www.eristates.org
SUMMARY:Characterizing Microplastic Hotspots from Apalachicola Watershed to Apalachicola Bay
DESCRIPTION:Microplastic (MP) pollution is an issue that has recently gained the attention of environmental scientists and researchers around the globe. MPs have been an underlying issue since the creation of plastic in the 19th century\, but the awareness of MP’s vast distribution in environments and organisms wasn’t discovered until recently. MPs are identified by their physical structure\, size\, and chemical properties. This research project characterizes emissions of MP hotspots within the Apalachicola-Chattahoochee-Flint River system in Florida. \nTwelve sites along the Apalachicola River between its origin at Lake Seminole formed by the Jim Woodruff Dam at the border of Florida and Georgia and Apalachicola Bay were sampled. The sediment and water samples were processed through sieving\, density separation\, and vacuum filtration. Each processed sample was analyzed to gather information on sediment grain size\, MP identification\, and density. The data show the abundance\, concentration\, and the types of MPs in the Apalachicola River’s water and sediment. The results support the hypothesis that dams like the Jim Woodruff Dam serve as potential MP sinks. There is also evidence that MPs are present in the surface water and sediment of every site sampled. The majority of the MPs collected were black fibers or strains that were less than 500m and were found in the sediments.
URL:https://www.eristates.org/event/characterizing-microplastic-hotspots-from-apalachicola-watershed-to-apalachicola-bay/
END:VEVENT
BEGIN:VEVENT
DTSTART;TZID=America/New_York:20231109T130000
DTEND;TZID=America/New_York:20231109T150000
DTSTAMP:20260423T060552
CREATED:20230516T195352Z
LAST-MODIFIED:20230516T195352Z
UID:1874-1699534800-1699542000@www.eristates.org
SUMMARY:1\,4-Dioxane: Science\, Characterization & Analysis\, and Remediation
DESCRIPTION:
URL:https://www.eristates.org/event/14-dioxane-science-characterization-analysis-and-remediation-7/
CATEGORIES:Online Training
END:VEVENT
BEGIN:VEVENT
DTSTART;TZID=America/New_York:20231108T140000
DTEND;TZID=America/New_York:20231108T160000
DTSTAMP:20260423T060552
CREATED:20231102T183501Z
LAST-MODIFIED:20231102T183501Z
UID:1974-1699452000-1699459200@www.eristates.org
SUMMARY:Tools for PFAS Site Characterization: Session III - Standards\, Passive Sampling\, and Modeling of PFAS
DESCRIPTION:
URL:https://www.eristates.org/event/tools-for-pfas-site-characterization-session-iii-standards-passive-sampling-and-modeling-of-pfas/
CATEGORIES:Online Training
END:VEVENT
BEGIN:VEVENT
DTSTART;TZID=America/New_York:20231107T130000
DTEND;TZID=America/New_York:20231107T150000
DTSTAMP:20260423T060552
CREATED:20230516T195240Z
LAST-MODIFIED:20230516T195240Z
UID:1872-1699362000-1699369200@www.eristates.org
SUMMARY:Microplastics
DESCRIPTION:
URL:https://www.eristates.org/event/microplastics-3/
CATEGORIES:Online Training
END:VEVENT
BEGIN:VEVENT
DTSTART;TZID=America/New_York:20231107T080000
DTEND;TZID=America/New_York:20231107T170000
DTSTAMP:20260423T060552
CREATED:20231102T183704Z
LAST-MODIFIED:20231102T183704Z
UID:1976-1699344000-1699376400@www.eristates.org
SUMMARY:Recent Advances in PFAS Characterization Technologies
DESCRIPTION:
URL:https://www.eristates.org/event/recent-advances-in-pfas-characterization-technologies/
CATEGORIES:Webinar
END:VEVENT
BEGIN:VEVENT
DTSTART;TZID=America/New_York:20231031T140000
DTEND;TZID=America/New_York:20231031T150000
DTSTAMP:20260423T060552
CREATED:20230922T173106Z
LAST-MODIFIED:20230922T173106Z
UID:1945-1698760800-1698764400@www.eristates.org
SUMMARY:Fifth Unregulated Contaminant Monitoring rule (UCMR 5)
DESCRIPTION:
URL:https://www.eristates.org/event/fifth-unregulated-contaminant-monitoring-rule-ucmr-5/
CATEGORIES:Webinar
END:VEVENT
END:VCALENDAR