BEGIN:VCALENDAR
VERSION:2.0
PRODID:-//ERIS - ECPv6.15.20//NONSGML v1.0//EN
CALSCALE:GREGORIAN
METHOD:PUBLISH
X-WR-CALNAME:ERIS
X-ORIGINAL-URL:https://www.eristates.org
X-WR-CALDESC:Events for ERIS
REFRESH-INTERVAL;VALUE=DURATION:PT1H
X-Robots-Tag:noindex
X-PUBLISHED-TTL:PT1H
BEGIN:VTIMEZONE
TZID:America/New_York
BEGIN:DAYLIGHT
TZOFFSETFROM:-0500
TZOFFSETTO:-0400
TZNAME:EDT
DTSTART:20190310T070000
END:DAYLIGHT
BEGIN:STANDARD
TZOFFSETFROM:-0400
TZOFFSETTO:-0500
TZNAME:EST
DTSTART:20191103T060000
END:STANDARD
BEGIN:DAYLIGHT
TZOFFSETFROM:-0500
TZOFFSETTO:-0400
TZNAME:EDT
DTSTART:20200308T070000
END:DAYLIGHT
BEGIN:STANDARD
TZOFFSETFROM:-0400
TZOFFSETTO:-0500
TZNAME:EST
DTSTART:20201101T060000
END:STANDARD
BEGIN:DAYLIGHT
TZOFFSETFROM:-0500
TZOFFSETTO:-0400
TZNAME:EDT
DTSTART:20210314T070000
END:DAYLIGHT
BEGIN:STANDARD
TZOFFSETFROM:-0400
TZOFFSETTO:-0500
TZNAME:EST
DTSTART:20211107T060000
END:STANDARD
BEGIN:DAYLIGHT
TZOFFSETFROM:-0500
TZOFFSETTO:-0400
TZNAME:EDT
DTSTART:20220313T070000
END:DAYLIGHT
BEGIN:STANDARD
TZOFFSETFROM:-0400
TZOFFSETTO:-0500
TZNAME:EST
DTSTART:20221106T060000
END:STANDARD
END:VTIMEZONE
BEGIN:VEVENT
DTSTART;TZID=America/New_York:20210204T150000
DTEND;TZID=America/New_York:20210204T160000
DTSTAMP:20260424T095138
CREATED:20210111T202646Z
LAST-MODIFIED:20210111T202646Z
UID:1247-1612450800-1612454400@www.eristates.org
SUMMARY:EPA on the ECOTOX Knowledgebase
DESCRIPTION:
URL:https://www.eristates.org/event/epa-on-the-ecotox-knowledgebase/
CATEGORIES:Online Training
END:VEVENT
BEGIN:VEVENT
DTSTART;TZID=America/New_York:20210204T143000
DTEND;TZID=America/New_York:20210204T173000
DTSTAMP:20260424T095138
CREATED:20210203T184823Z
LAST-MODIFIED:20210203T185946Z
UID:1280-1612449000-1612459800@www.eristates.org
SUMMARY:Reducing the Health Impacts of the Nitrogen Problem: Farm-Level Actions
DESCRIPTION:2:30 Welcome and Review of Previous Week\nCatherine Kling\, Cornell University\n2:40 Drivers of Farmer and Agricultural Stakeholder Decision Making and Actions\nLinda Prokopy\, Purdue University\n3:05 Flash Talks: Farm-level Actions and Opportunities\nDigital Agriculture to Reduce Nitrogen Losses across the U.S. Corn Belt\nBruno Basso\, Michigan State University\nCover Crops by Region: The Good\, the Bad\, and the Ugly in the Midwest\nAlejandro Plastina\, Iowa State University\nStrategically Integrating Prairie to Restore Ecosystem Health and Functioning Within Annual\nCrop Fields\nLisa Schulte Moore\, Iowa State University\nSuccessful In-field Water Management in Nebraska\nJim Schepers\, University of Nebraska–Lincoln\nManagement of Nitrogen in Tile Drainage Systems\nJane Frankenberger\, Purdue University\nThe 4Rs of Nutrient Management\nCarrie Vollmer-Sanders\, The Nature Conservancy\nTechnology to Monitor Nitrogen Loss in Farm Fields\nDavid Lee\, Booz Allen Hamilton\nFloridan Aquifer Collaborative Engagement for Sustainability (FACETS) Project: An Integrated\nAssessment of Economic and Environmental Impacts of Best Management Practice Adoption\nWendy Graham\, University of Florida\n4:05 Review of Input on Farm-Level Actions and Opportunities\n4:20 Discussion and Prioritization\n5:25 Preview of Next Session\n5:30 Adjourn
URL:https://www.eristates.org/event/reducing-the-health-impacts-of-the-nitrogen-problem-farm-level-actions/
CATEGORIES:Webinar
END:VEVENT
BEGIN:VEVENT
DTSTART;TZID=America/New_York:20210201T153000
DTEND;TZID=America/New_York:20210201T170000
DTSTAMP:20260424T095138
CREATED:20210127T223745Z
LAST-MODIFIED:20210127T223745Z
UID:1263-1612193400-1612198800@www.eristates.org
SUMMARY:Low-Cost\, Open Source Tools: Next Steps for Science and Policy
DESCRIPTION:Foldable and 3D printed microscopes are broadening access to the life sciences\, low-cost and open microprocessors are supporting research from cognitive neuroscience to oceanography\, and low-cost and open sensors are measuring air quality in communities around the world. In these examples and beyond\, the things of science – the physical tools that generate data or contribute to scientific processes – are becoming less expensive\, and more open. \nRecent developments\, including the extraordinary response to COVID-19 by maker and DIY communities\, have demonstrated the value of low cost and open source hardware for addressing global challenges. These developments strengthen the capacity of individual innovators and community-based organizations and highlight concrete opportunities for their contribution to science and society. From a policy perspective\, work on low-cost and open source hardware– as well as broader open science and open innovation initiatives– has spanned at least two presidential administrations.
URL:https://www.eristates.org/event/low-cost-open-source-tools-next-steps-for-science-and-policy/
CATEGORIES:Webinar
ORGANIZER;CN="Wilson Center":MAILTO:https://www.wilsoncenter.org/
END:VEVENT
BEGIN:VEVENT
DTSTART;TZID=America/New_York:20210128T130000
DTEND;TZID=America/New_York:20210128T150000
DTSTAMP:20260424T095138
CREATED:20210106T221637Z
LAST-MODIFIED:20210106T221637Z
UID:1229-1611838800-1611846000@www.eristates.org
SUMMARY:Communicating Air Quality During Fires: The Science Behind the AirNow Sensor Data Pilot
DESCRIPTION:
URL:https://www.eristates.org/event/communicating-air-quality-during-fires-the-science-behind-the-airnow-sensor-data-pilot/
CATEGORIES:Webinar
END:VEVENT
BEGIN:VEVENT
DTSTART;TZID=America/New_York:20210128T130000
DTEND;TZID=America/New_York:20210128T150000
DTSTAMP:20260424T095138
CREATED:20210106T185502Z
LAST-MODIFIED:20210106T185502Z
UID:1143-1611838800-1611846000@www.eristates.org
SUMMARY:Issues and Options in Human Health Risk Assessment
DESCRIPTION:A resource when alternatives to default parameters and scenarios are proposed.
URL:https://www.eristates.org/event/issues-and-options-in-human-health-risk-assessment/
CATEGORIES:Online Training
END:VEVENT
BEGIN:VEVENT
DTSTART;TZID=America/New_York:20210128T120000
DTEND;TZID=America/New_York:20210128T133000
DTSTAMP:20260424T095138
CREATED:20210106T222556Z
LAST-MODIFIED:20210106T222556Z
UID:1233-1611835200-1611840600@www.eristates.org
SUMMARY:Improved Approaches for PFAS Sampling and Treatment
DESCRIPTION:
URL:https://www.eristates.org/event/improved-approaches-for-pfas-sampling-and-treatment/
CATEGORIES:Webinar
END:VEVENT
BEGIN:VEVENT
DTSTART;TZID=America/New_York:20210128T110000
DTEND;TZID=America/New_York:20210128T120000
DTSTAMP:20260424T095138
CREATED:20210106T221435Z
LAST-MODIFIED:20210106T221435Z
UID:1227-1611831600-1611835200@www.eristates.org
SUMMARY:The Tox21 10K Compound Library: Collaborative Chemistry Advancing Toxicology
DESCRIPTION:
URL:https://www.eristates.org/event/the-tox21-10k-compound-library-collaborative-chemistry-advancing-toxicology/
CATEGORIES:Webinar
END:VEVENT
BEGIN:VEVENT
DTSTART;TZID=America/New_York:20210127T150000
DTEND;TZID=America/New_York:20210127T160000
DTSTAMP:20260424T095138
CREATED:20210111T202521Z
LAST-MODIFIED:20210111T202521Z
UID:1245-1611759600-1611763200@www.eristates.org
SUMMARY:EPA Tools & Resources on the Effectiveness of Medical and Cloth Masks for COVID-19 Protection
DESCRIPTION:
URL:https://www.eristates.org/event/epa-tools-resources-on-the-effectiveness-of-medical-and-cloth-masks-for-covid-19-protection/
CATEGORIES:Webinar
END:VEVENT
BEGIN:VEVENT
DTSTART;TZID=America/New_York:20210127T150000
DTEND;TZID=America/New_York:20210127T160000
DTSTAMP:20260424T095138
CREATED:20210106T214428Z
LAST-MODIFIED:20210106T214428Z
UID:1223-1611759600-1611763200@www.eristates.org
SUMMARY:Effectiveness of Medical and Cloth Masks for COVID-19 Protection
DESCRIPTION:
URL:https://www.eristates.org/event/effectiveness-of-medical-and-cloth-masks-for-covid-19-protection/
CATEGORIES:Webinar
END:VEVENT
BEGIN:VEVENT
DTSTART;TZID=America/New_York:20210127T140000
DTEND;TZID=America/New_York:20210127T150000
DTSTAMP:20260424T095138
CREATED:20200506T204749Z
LAST-MODIFIED:20200506T204749Z
UID:837-1611756000-1611759600@www.eristates.org
SUMMARY:Disinfection Byproducts Formation Tools for Drinking Water Utilities
DESCRIPTION:David Wahman\, EPA’s Office of Research and Development
URL:https://www.eristates.org/event/disinfection-byproducts-formation-tools-for-drinking-water-utilities/
CATEGORIES:Webinar
END:VEVENT
BEGIN:VEVENT
DTSTART;TZID=America/New_York:20210127T120000
DTEND;TZID=America/New_York:20210127T130000
DTSTAMP:20260424T095138
CREATED:20210115T222854Z
LAST-MODIFIED:20210115T222854Z
UID:1258-1611748800-1611752400@www.eristates.org
SUMMARY:NOAA Sea Level Rise Viewer Updates and Other Sources for Sea Level Rise Data and Visualizations
DESCRIPTION:
URL:https://www.eristates.org/event/noaa-sea-level-rise-viewer-updates-and-other-sources-for-sea-level-rise-data-and-visualizations/
CATEGORIES:Webinar
END:VEVENT
BEGIN:VEVENT
DTSTART;TZID=America/New_York:20210126T130000
DTEND;TZID=America/New_York:20210126T150000
DTSTAMP:20260424T095138
CREATED:20210106T185245Z
LAST-MODIFIED:20210106T185245Z
UID:1141-1611666000-1611673200@www.eristates.org
SUMMARY:Incremental Sampling Methodology Update - Session 1
DESCRIPTION:Introduction to ISM\, heterogeneity\, and statistical applications to ISM sampling and evaluation.
URL:https://www.eristates.org/event/incremental-sampling-methodology-update-session-1/
CATEGORIES:Online Training
END:VEVENT
BEGIN:VEVENT
DTSTART;TZID=America/New_York:20210126T130000
DTEND;TZID=America/New_York:20210126T143000
DTSTAMP:20260424T095138
CREATED:20210115T222637Z
LAST-MODIFIED:20210115T222637Z
UID:1256-1611666000-1611671400@www.eristates.org
SUMMARY:Overwhelmed? Reevaluating Stormwater Design in a Changing Climate: Information Needs\, Best Practices\, and Charting the Future
DESCRIPTION:
URL:https://www.eristates.org/event/overwhelmed-reevaluating-stormwater-design-in-a-changing-climate-information-needs-best-practices-and-charting-the-future/
CATEGORIES:Webinar
END:VEVENT
BEGIN:VEVENT
DTSTART;TZID=America/New_York:20210121T140000
DTEND;TZID=America/New_York:20210121T150000
DTSTAMP:20260424T095138
CREATED:20210106T214149Z
LAST-MODIFIED:20210106T214149Z
UID:1221-1611237600-1611241200@www.eristates.org
SUMMARY:COVID-19: UV-C Devices and Methods for Surface Disinfection
DESCRIPTION:Researchers are assessing UV-C methods and technologies on multiple materials against SARS-CoV-2 and potential surrogate viruses. This information will provide stakeholders with data on the effectiveness of these products in reducing SARS-CoV-2 on surfaces. EPA is working collaboratively with the Los Angeles Metropolitan Transportation Authority to test these devices in unused railcars to determine feasibility and effectiveness in real-world application.
URL:https://www.eristates.org/event/covid-19-uv-c-devices-and-methods-for-surface-disinfection/
END:VEVENT
BEGIN:VEVENT
DTSTART;TZID=America/New_York:20210121T130000
DTEND;TZID=America/New_York:20210121T150000
DTSTAMP:20260424T095138
CREATED:20210106T185024Z
LAST-MODIFIED:20210106T185024Z
UID:1139-1611234000-1611241200@www.eristates.org
SUMMARY:Remediation Management of Complex Sites
DESCRIPTION:At some sites\, complex site-specific conditions make it difficult to fully remediate environmental contamination. Both technical and nontechnical challenges can impede remediation and may prevent a site from achieving federal- and state-mandated regulatory cleanup goals within a reasonable time frame. For example\, technical challenges may include geologic\, hydrogeologic\, geochemical\, and contaminant-related conditions as well as large-scale or surface conditions. In addition\, nontechnical challenges may also play a role such as managing changes that occur over long time frames\, overlapping regulatory and financial responsibilities between agencies\, setting achievable site objectives\, maintaining effective institutional controls\, redevelopment and changes in land use\, and funding considerations.
URL:https://www.eristates.org/event/remediation-management-of-complex-sites-5/
CATEGORIES:Online Training
END:VEVENT
BEGIN:VEVENT
DTSTART;TZID=America/New_York:20210121T120000
DTEND;TZID=America/New_York:20210121T130000
DTSTAMP:20260424T095138
CREATED:20210115T222144Z
LAST-MODIFIED:20210115T222144Z
UID:1253-1611230400-1611234000@www.eristates.org
SUMMARY:NOAA's Water Initiative: Advancing Water Science and Services
DESCRIPTION:
URL:https://www.eristates.org/event/noaas-water-initiative-advancing-water-science-and-services/
CATEGORIES:Webinar
END:VEVENT
BEGIN:VEVENT
DTSTART;TZID=America/New_York:20210120T140000
DTEND;TZID=America/New_York:20210120T153000
DTSTAMP:20260424T095138
CREATED:20210106T213714Z
LAST-MODIFIED:20210106T213714Z
UID:1219-1611151200-1611156600@www.eristates.org
SUMMARY:Depackaging and Commercial Composting: An Integrated System for Organics Recycling
DESCRIPTION:
URL:https://www.eristates.org/event/depackaging-and-commercial-composting-an-integrated-system-for-organics-recycling/
CATEGORIES:Webinar
END:VEVENT
BEGIN:VEVENT
DTSTART;TZID=America/New_York:20210114T130000
DTEND;TZID=America/New_York:20210114T150000
DTSTAMP:20260424T095138
CREATED:20210106T184857Z
LAST-MODIFIED:20210106T184857Z
UID:1137-1610629200-1610636400@www.eristates.org
SUMMARY:TPH Risk Evaluation at Petroleum-Contaminated Sites
DESCRIPTION:Remediation at petroleum release sites is often infeasible for technical or cost reasons. Many of these sites could be depleted in typical indicator compounds\, such as BTEXN\, but still heavily contaminated in terms of Total Petroleum Hydrocarbons (TPH). The traditional indicator compound approach for managing petroleum contaminants may not fully identify short- and long-term potential environmental concerns\, can create delays in project schedules and cost overages for sub-surface utility work or redevelopment. It is important to consider a comprehensive cumulative risk-based approach to more effectively incorporate TPH data in addition to traditional BTEXN data for cleanup and long-term management decisions.
URL:https://www.eristates.org/event/tph-risk-evaluation-at-petroleum-contaminated-sites-6/
CATEGORIES:Online Training
END:VEVENT
BEGIN:VEVENT
DTSTART;TZID=America/New_York:20210114T120000
DTEND;TZID=America/New_York:20210114T140000
DTSTAMP:20260424T095138
CREATED:20210106T213446Z
LAST-MODIFIED:20210106T213446Z
UID:1217-1610625600-1610632800@www.eristates.org
SUMMARY:Improving Energy Efficiency through Advanced Building Controls
DESCRIPTION:
URL:https://www.eristates.org/event/improving-energy-efficiency-through-advanced-building-controls/
CATEGORIES:Webinar
END:VEVENT
BEGIN:VEVENT
DTSTART;TZID=America/New_York:20201210T130000
DTEND;TZID=America/New_York:20201210T151500
DTSTAMP:20260424T095138
CREATED:20191205T171517Z
LAST-MODIFIED:20191205T171517Z
UID:474-1607605200-1607613300@www.eristates.org
SUMMARY:Characterization and Remediation in Fractured Rock
DESCRIPTION:
URL:https://www.eristates.org/event/characterization-and-remediation-in-fractured-rock-4/
END:VEVENT
BEGIN:VEVENT
DTSTART;TZID=America/New_York:20201208T130000
DTEND;TZID=America/New_York:20201208T151500
DTSTAMP:20260424T095138
CREATED:20191205T171527Z
LAST-MODIFIED:20191205T171527Z
UID:515-1607432400-1607440500@www.eristates.org
SUMMARY:TPH Risk Evaluation at Petroleum-Contaminated Sites
DESCRIPTION:
URL:https://www.eristates.org/event/tph-risk-evaluation-at-petroleum-contaminated-sites-5/
CATEGORIES:Online Training
END:VEVENT
BEGIN:VEVENT
DTSTART;TZID=America/New_York:20201203T150000
DTEND;TZID=America/New_York:20201203T160000
DTSTAMP:20260424T095138
CREATED:20201120T153514Z
LAST-MODIFIED:20201120T153514Z
UID:1125-1607007600-1607011200@www.eristates.org
SUMMARY:EPA Science Training Webinar: SPECIATE
DESCRIPTION:
URL:https://www.eristates.org/event/epa-science-training-webinar-speciate/
CATEGORIES:Webinar
END:VEVENT
BEGIN:VEVENT
DTSTART;TZID=America/New_York:20201201T130000
DTEND;TZID=America/New_York:20201201T151500
DTSTAMP:20260424T095138
CREATED:20191205T171524Z
LAST-MODIFIED:20191205T171524Z
UID:506-1606827600-1606835700@www.eristates.org
SUMMARY:Optimizing Injection Strategies and In Situ Remediation Performance
DESCRIPTION:
URL:https://www.eristates.org/event/optimizing-injection-strategies-and-in-situ-remediation-performance-3/
CATEGORIES:Online Training
END:VEVENT
BEGIN:VEVENT
DTSTART;TZID=America/New_York:20201119T150000
DTEND;TZID=America/New_York:20201119T160000
DTSTAMP:20260424T095138
CREATED:20201104T183023Z
LAST-MODIFIED:20201104T183023Z
UID:1117-1605798000-1605801600@www.eristates.org
SUMMARY:Freshwater Explorer Training Webinar
DESCRIPTION:
URL:https://www.eristates.org/event/freshwater-explorer-training-webinar/
CATEGORIES:Webinar
END:VEVENT
BEGIN:VEVENT
DTSTART;TZID=America/New_York:20201118T150000
DTEND;TZID=America/New_York:20201118T160000
DTSTAMP:20260424T095138
CREATED:20201104T182922Z
LAST-MODIFIED:20201104T182922Z
UID:1115-1605711600-1605715200@www.eristates.org
SUMMARY:EPA Tools & Resources Webinar: Drinking Water Models and Tools
DESCRIPTION:
URL:https://www.eristates.org/event/epa-tools-resources-webinar-drinking-water-models-and-tools/
CATEGORIES:Webinar
END:VEVENT
BEGIN:VEVENT
DTSTART;TZID=America/New_York:20201118T140000
DTEND;TZID=America/New_York:20201118T150000
DTSTAMP:20260424T095138
CREATED:20200506T204533Z
LAST-MODIFIED:20200506T204533Z
UID:835-1605708000-1605711600@www.eristates.org
SUMMARY:Property Values and Water Quality: Supporting Decisions with the Hedonic Model
DESCRIPTION:Matt Heberling and Mike Papenfus\, EPA’s Office of Research and Development
URL:https://www.eristates.org/event/property-values-and-water-quality-supporting-decisions-with-the-hedonic-model/
CATEGORIES:Webinar
END:VEVENT
BEGIN:VEVENT
DTSTART;TZID=America/New_York:20201117T140000
DTEND;TZID=America/New_York:20201117T150000
DTSTAMP:20260424T095138
CREATED:20200506T211935Z
LAST-MODIFIED:20200506T211935Z
UID:860-1605621600-1605625200@www.eristates.org
SUMMARY:Creating Resilient Water Utilities
DESCRIPTION:
URL:https://www.eristates.org/event/creating-resilient-water-utilities/
CATEGORIES:Webinar
END:VEVENT
BEGIN:VEVENT
DTSTART;TZID=America/New_York:20201117T130000
DTEND;TZID=America/New_York:20201117T151500
DTSTAMP:20260424T095138
CREATED:20191205T171521Z
LAST-MODIFIED:20191205T171521Z
UID:491-1605618000-1605626100@www.eristates.org
SUMMARY:Geospatial Analysis for Optimization at Environmental Sites
DESCRIPTION:
URL:https://www.eristates.org/event/geospatial-analysis-for-optimization-at-environmental-sites-4/
END:VEVENT
BEGIN:VEVENT
DTSTART;VALUE=DATE:20201116
DTEND;VALUE=DATE:20201120
DTSTAMP:20260424T095138
CREATED:20200421T154053Z
LAST-MODIFIED:20200421T154053Z
UID:780-1605484800-1605830399@www.eristates.org
SUMMARY:National Nonpoint Source Training Workshop
DESCRIPTION:
URL:https://www.eristates.org/event/national-nonpoint-source-training-workshop/
LOCATION:El Dorado Hotel\, Santa Fe\, NM\, United States
CATEGORIES:In-Person Training
END:VEVENT
BEGIN:VEVENT
DTSTART;TZID=America/New_York:20201105T130000
DTEND;TZID=America/New_York:20201105T151500
DTSTAMP:20260424T095138
CREATED:20191205T171521Z
LAST-MODIFIED:20191205T171521Z
UID:495-1604581200-1604589300@www.eristates.org
SUMMARY:Groundwater Statistics for Environmental Project Managers
DESCRIPTION:
URL:https://www.eristates.org/event/groundwater-statistics-for-environmental-project-managers-2/
END:VEVENT
END:VCALENDAR