BEGIN:VCALENDAR
VERSION:2.0
PRODID:-//ERIS - ECPv6.15.20//NONSGML v1.0//EN
CALSCALE:GREGORIAN
METHOD:PUBLISH
X-WR-CALNAME:ERIS
X-ORIGINAL-URL:https://www.eristates.org
X-WR-CALDESC:Events for ERIS
REFRESH-INTERVAL;VALUE=DURATION:PT1H
X-Robots-Tag:noindex
X-PUBLISHED-TTL:PT1H
BEGIN:VTIMEZONE
TZID:America/New_York
BEGIN:DAYLIGHT
TZOFFSETFROM:-0500
TZOFFSETTO:-0400
TZNAME:EDT
DTSTART:20240310T070000
END:DAYLIGHT
BEGIN:STANDARD
TZOFFSETFROM:-0400
TZOFFSETTO:-0500
TZNAME:EST
DTSTART:20241103T060000
END:STANDARD
BEGIN:DAYLIGHT
TZOFFSETFROM:-0500
TZOFFSETTO:-0400
TZNAME:EDT
DTSTART:20250309T070000
END:DAYLIGHT
BEGIN:STANDARD
TZOFFSETFROM:-0400
TZOFFSETTO:-0500
TZNAME:EST
DTSTART:20251102T060000
END:STANDARD
BEGIN:DAYLIGHT
TZOFFSETFROM:-0500
TZOFFSETTO:-0400
TZNAME:EDT
DTSTART:20260308T070000
END:DAYLIGHT
BEGIN:STANDARD
TZOFFSETFROM:-0400
TZOFFSETTO:-0500
TZNAME:EST
DTSTART:20261101T060000
END:STANDARD
BEGIN:DAYLIGHT
TZOFFSETFROM:-0500
TZOFFSETTO:-0400
TZNAME:EDT
DTSTART:20270314T070000
END:DAYLIGHT
BEGIN:STANDARD
TZOFFSETFROM:-0400
TZOFFSETTO:-0500
TZNAME:EST
DTSTART:20271107T060000
END:STANDARD
END:VTIMEZONE
BEGIN:VEVENT
DTSTART;TZID=America/New_York:20251113T130000
DTEND;TZID=America/New_York:20251113T150000
DTSTAMP:20260424T121725
CREATED:20250813T184103Z
LAST-MODIFIED:20251009T183711Z
UID:3469-1763038800-1763046000@www.eristates.org
SUMMARY:Microplastics Training
DESCRIPTION:
URL:https://www.eristates.org/event/microplastics-training/
CATEGORIES:Online Training
END:VEVENT
BEGIN:VEVENT
DTSTART;TZID=America/New_York:20251119T150000
DTEND;TZID=America/New_York:20251119T160000
DTSTAMP:20260424T121725
CREATED:20251017T162342Z
LAST-MODIFIED:20251017T162342Z
UID:3498-1763564400-1763568000@www.eristates.org
SUMMARY:Collaborating with our State Partners on Disaster Resiliency Planning
DESCRIPTION:
URL:https://www.eristates.org/event/collaborating-with-our-state-partners-on-disaster-resiliency-planning/
CATEGORIES:Webinar
END:VEVENT
BEGIN:VEVENT
DTSTART;TZID=America/New_York:20251209T150000
DTEND;TZID=America/New_York:20251209T160000
DTSTAMP:20260424T121725
CREATED:20250410T215054Z
LAST-MODIFIED:20250410T215054Z
UID:2472-1765292400-1765296000@www.eristates.org
SUMMARY:A New Methodology for Modeling Material Flow During End-of-Life to Support Circular Economy Policy
DESCRIPTION:
URL:https://www.eristates.org/event/a-new-methodology-for-modeling-material-flow-during-end-of-life-to-support-circular-economy-policy/
CATEGORIES:Webinar
END:VEVENT
BEGIN:VEVENT
DTSTART;TZID=America/New_York:20251217T150000
DTEND;TZID=America/New_York:20251217T160000
DTSTAMP:20260424T121725
CREATED:20250410T213803Z
LAST-MODIFIED:20250630T173731Z
UID:2462-1765983600-1765987200@www.eristates.org
SUMMARY:6 PPD-Quinone
DESCRIPTION:
URL:https://www.eristates.org/event/microplastics-6/
CATEGORIES:Webinar
END:VEVENT
BEGIN:VEVENT
DTSTART;TZID=America/New_York:20251218T080000
DTEND;TZID=America/New_York:20251218T170000
DTSTAMP:20260424T121725
CREATED:20251218T215304Z
LAST-MODIFIED:20251218T215304Z
UID:3534-1766044800-1766077200@www.eristates.org
SUMMARY:Sediment Cap Chemical Isolation
DESCRIPTION:
URL:https://www.eristates.org/event/sediment-cap-chemical-isolation-2/
CATEGORIES:Online Training
END:VEVENT
BEGIN:VEVENT
DTSTART;TZID=America/New_York:20251218T130000
DTEND;TZID=America/New_York:20251218T150000
DTSTAMP:20260424T121725
CREATED:20251218T222043Z
LAST-MODIFIED:20251218T222043Z
UID:3548-1766062800-1766070000@www.eristates.org
SUMMARY:Sorption Based Technologies for Separation & Concentration of PFAS from Water Training
DESCRIPTION:
URL:https://www.eristates.org/event/sorption-based-technologies-for-separation-concentration-of-pfas-from-water-training/
CATEGORIES:Online Training
END:VEVENT
BEGIN:VEVENT
DTSTART;TZID=America/New_York:20260113T130000
DTEND;TZID=America/New_York:20260113T150000
DTSTAMP:20260424T121725
CREATED:20251218T212832Z
LAST-MODIFIED:20251218T212832Z
UID:3524-1768309200-1768316400@www.eristates.org
SUMMARY:Introduction to Hydrocarbons
DESCRIPTION:
URL:https://www.eristates.org/event/introduction-to-hydrocarbons/
CATEGORIES:Online Training
END:VEVENT
BEGIN:VEVENT
DTSTART;TZID=America/New_York:20260115T130000
DTEND;TZID=America/New_York:20260115T150000
DTSTAMP:20260424T121725
CREATED:20251218T213036Z
LAST-MODIFIED:20251218T213036Z
UID:3526-1768482000-1768489200@www.eristates.org
SUMMARY:Managed Aquifer Recharge
DESCRIPTION:
URL:https://www.eristates.org/event/managed-aquifer-recharge-3/
CATEGORIES:Online Training
END:VEVENT
BEGIN:VEVENT
DTSTART;TZID=America/New_York:20260121T150000
DTEND;TZID=America/New_York:20260121T160000
DTSTAMP:20260424T121725
CREATED:20251218T212453Z
LAST-MODIFIED:20251218T212453Z
UID:3522-1769007600-1769011200@www.eristates.org
SUMMARY:Lead Overview and Data Mapping
DESCRIPTION:
URL:https://www.eristates.org/event/lead-overview-and-data-mapping/
CATEGORIES:Webinar
END:VEVENT
BEGIN:VEVENT
DTSTART;TZID=America/New_York:20260122T130000
DTEND;TZID=America/New_York:20260122T150000
DTSTAMP:20260424T121725
CREATED:20251218T213156Z
LAST-MODIFIED:20251218T213156Z
UID:3528-1769086800-1769094000@www.eristates.org
SUMMARY:Contaminants of Emerging Concern Framework Identification
DESCRIPTION:
URL:https://www.eristates.org/event/contaminants-of-emerging-concern-framework-identification/
CATEGORIES:Online Training
END:VEVENT
BEGIN:VEVENT
DTSTART;TZID=America/New_York:20260126T140000
DTEND;TZID=America/New_York:20260126T150000
DTSTAMP:20260424T121725
CREATED:20260108T164543Z
LAST-MODIFIED:20260108T164543Z
UID:3556-1769436000-1769439600@www.eristates.org
SUMMARY:Emerging Contaminants in Tire Treadwear: Exposure Pathways\, Health Effects\, and the 6PPD-Quinone Discovery
DESCRIPTION:
URL:https://www.eristates.org/event/emerging-contaminants-in-tire-treadwear-exposure-pathways-health-effects-and-the-6ppd-quinone-discovery/
CATEGORIES:Webinar
END:VEVENT
BEGIN:VEVENT
DTSTART;TZID=America/New_York:20260127T130000
DTEND;TZID=America/New_York:20260127T150000
DTSTAMP:20260424T121725
CREATED:20251218T213256Z
LAST-MODIFIED:20251218T213256Z
UID:3530-1769518800-1769526000@www.eristates.org
SUMMARY:PFAS Chemistry Explained
DESCRIPTION:
URL:https://www.eristates.org/event/pfas-chemistry-explained/
CATEGORIES:Online Training
END:VEVENT
BEGIN:VEVENT
DTSTART;TZID=America/New_York:20260128T140000
DTEND;TZID=America/New_York:20260128T150000
DTSTAMP:20260424T121725
CREATED:20260108T164653Z
LAST-MODIFIED:20260108T164653Z
UID:3558-1769608800-1769612400@www.eristates.org
SUMMARY:Detecting 6PPD-Quinone: Sampling Challenges and Analytical Approaches
DESCRIPTION:
URL:https://www.eristates.org/event/detecting-6ppd-quinone-sampling-challenges-and-analytical-approaches/
CATEGORIES:Webinar
END:VEVENT
BEGIN:VEVENT
DTSTART;TZID=America/New_York:20260211T140000
DTEND;TZID=America/New_York:20260211T150000
DTSTAMP:20260424T121725
CREATED:20260129T182253Z
LAST-MODIFIED:20260129T182253Z
UID:3565-1770818400-1770822000@www.eristates.org
SUMMARY:Cleanup of Fentanyl Contaminated Surfaces and Associated Waste Management
DESCRIPTION:
URL:https://www.eristates.org/event/cleanup-of-fentanyl-contaminated-surfaces-and-associated-waste-management/
CATEGORIES:Webinar
END:VEVENT
BEGIN:VEVENT
DTSTART;TZID=America/New_York:20260212T130000
DTEND;TZID=America/New_York:20260212T150000
DTSTAMP:20260424T121725
CREATED:20251218T213723Z
LAST-MODIFIED:20251218T213723Z
UID:3532-1770901200-1770908400@www.eristates.org
SUMMARY:Microplastics
DESCRIPTION:
URL:https://www.eristates.org/event/microplastics-7/
CATEGORIES:Online Training
END:VEVENT
BEGIN:VEVENT
DTSTART;TZID=America/New_York:20260218T150000
DTEND;TZID=America/New_York:20260218T160000
DTSTAMP:20260424T121725
CREATED:20260129T181838Z
LAST-MODIFIED:20260129T181838Z
UID:3563-1771426800-1771430400@www.eristates.org
SUMMARY:America's Children and The Environment
DESCRIPTION:Webinar to look at America’s Children and the Environment report and the indicators used in it.
URL:https://www.eristates.org/event/americas-children-and-the-environment/
CATEGORIES:Webinar
END:VEVENT
BEGIN:VEVENT
DTSTART;TZID=America/New_York:20260224T130000
DTEND;TZID=America/New_York:20260224T150000
DTSTAMP:20260424T121725
CREATED:20251218T215841Z
LAST-MODIFIED:20251218T215841Z
UID:3536-1771938000-1771945200@www.eristates.org
SUMMARY:Vapor Intrusion Mitigation - Part 1
DESCRIPTION:
URL:https://www.eristates.org/event/vapor-intrusion-mitigation-part-1-2/
CATEGORIES:Online Training
END:VEVENT
BEGIN:VEVENT
DTSTART;TZID=America/New_York:20260225T140000
DTEND;TZID=America/New_York:20260225T150000
DTSTAMP:20260424T121725
CREATED:20260219T192516Z
LAST-MODIFIED:20260219T192516Z
UID:3573-1772028000-1772031600@www.eristates.org
SUMMARY:Nutrient Solutions for Estuary Management
DESCRIPTION:
URL:https://www.eristates.org/event/nutrient-solutions-for-estuary-management/
CATEGORIES:Webinar
END:VEVENT
BEGIN:VEVENT
DTSTART;TZID=America/New_York:20260226T130000
DTEND;TZID=America/New_York:20260226T150000
DTSTAMP:20260424T121725
CREATED:20251218T215955Z
LAST-MODIFIED:20251218T215955Z
UID:3538-1772110800-1772118000@www.eristates.org
SUMMARY:PFAS & Biosolids: Sources\, Occurrence\, Transport\, and Treatment
DESCRIPTION:
URL:https://www.eristates.org/event/pfas-biosolids-sources-occurrence-transport-and-treatment/
CATEGORIES:Online Training
END:VEVENT
BEGIN:VEVENT
DTSTART;TZID=America/New_York:20260305T130000
DTEND;TZID=America/New_York:20260305T150000
DTSTAMP:20260424T121725
CREATED:20251218T220113Z
LAST-MODIFIED:20251218T220113Z
UID:3540-1772715600-1772722800@www.eristates.org
SUMMARY:PFAS Introductory Training
DESCRIPTION:
URL:https://www.eristates.org/event/pfas-introductory-training-4/
CATEGORIES:Online Training
END:VEVENT
BEGIN:VEVENT
DTSTART;TZID=America/New_York:20260312T130000
DTEND;TZID=America/New_York:20260312T150000
DTSTAMP:20260424T121725
CREATED:20251218T221632Z
LAST-MODIFIED:20251218T221632Z
UID:3542-1773320400-1773327600@www.eristates.org
SUMMARY:Reuse of Solid Mining Waste
DESCRIPTION:
URL:https://www.eristates.org/event/reuse-of-solid-mining-waste-2/
CATEGORIES:Online Training
END:VEVENT
BEGIN:VEVENT
DTSTART;TZID=America/New_York:20260317T130000
DTEND;TZID=America/New_York:20260317T150000
DTSTAMP:20260424T121725
CREATED:20251218T221753Z
LAST-MODIFIED:20251218T221753Z
UID:3544-1773752400-1773759600@www.eristates.org
SUMMARY:Vapor Intrusion Mitigation - Part 2
DESCRIPTION:
URL:https://www.eristates.org/event/vapor-intrusion-mitigation-part-2-3/
CATEGORIES:Online Training
END:VEVENT
BEGIN:VEVENT
DTSTART;TZID=America/New_York:20260318T150000
DTEND;TZID=America/New_York:20260318T160000
DTSTAMP:20260424T121725
CREATED:20260219T192750Z
LAST-MODIFIED:20260219T192750Z
UID:3575-1773846000-1773849600@www.eristates.org
SUMMARY:Freshwater Explorer 2.0
DESCRIPTION:Freshwater Explorer 2.0 is a web-based mapping tool for exploring freshwater data from streams\, lakes\, and groundwater wells in all 50 U.S. states\, Puerto Rico\, and the U.S. Virgin Islands. The tool can be used to better understand national and local water quality issues and to provide water quality information to help make decisions about freshwater resources.
URL:https://www.eristates.org/event/freshwater-explorer-2-0/
CATEGORIES:Online Training
END:VEVENT
BEGIN:VEVENT
DTSTART;TZID=America/New_York:20260326T130000
DTEND;TZID=America/New_York:20260326T150000
DTSTAMP:20260424T121725
CREATED:20251218T221910Z
LAST-MODIFIED:20251218T221910Z
UID:3546-1774530000-1774537200@www.eristates.org
SUMMARY:Practical Approaches for PFAS Fate & Transport Evaluation Training
DESCRIPTION:
URL:https://www.eristates.org/event/practical-approaches-for-pfas-fate-transport-evaluation-training/
CATEGORIES:Online Training
END:VEVENT
BEGIN:VEVENT
DTSTART;TZID=America/New_York:20260415T150000
DTEND;TZID=America/New_York:20260415T160000
DTSTAMP:20260424T121725
CREATED:20260319T162410Z
LAST-MODIFIED:20260319T162410Z
UID:3581-1776265200-1776268800@www.eristates.org
SUMMARY:Virtual Beach Training
DESCRIPTION:Virtual Beach is a decision support tool that facilitates the development of statistical models of water quality at site-specific locations. It allows users to estimate any general response variable\, such as microbial or blue-green algae concentrations\, using commonly measured environmental data. Modeled water quality estimates can then be used to inform site-based management decisions\, such as issuing swimming or shellfish harvesting advisories. This webinar will feature a live demonstration of the new version of Virtual Beach.
URL:https://www.eristates.org/event/virtual-beach-training/
CATEGORIES:Webinar
END:VEVENT
BEGIN:VEVENT
DTSTART;TZID=America/New_York:20260422T140000
DTEND;TZID=America/New_York:20260422T150000
DTSTAMP:20260424T121725
CREATED:20260319T161447Z
LAST-MODIFIED:20260319T161447Z
UID:3579-1776866400-1776870000@www.eristates.org
SUMMARY:The Safe Drinking Water and Clean Water Acts: Connecting Water Regulations to Laboratory Practice
DESCRIPTION:
URL:https://www.eristates.org/event/the-safe-drinking-water-and-clean-water-acts-connecting-water-regulations-to-laboratory-practice/
CATEGORIES:Webinar
END:VEVENT
BEGIN:VEVENT
DTSTART;TZID=America/New_York:20260423T130000
DTEND;TZID=America/New_York:20260423T140000
DTSTAMP:20260424T121725
CREATED:20260402T153925Z
LAST-MODIFIED:20260402T153925Z
UID:3585-1776949200-1776952800@www.eristates.org
SUMMARY:Extreme Heat and Interconnected Hazards: New Research on Compounding and Cascading Impacts
DESCRIPTION:Extreme heat rarely occurs in isolation. It often interacts with other hazards “such as drought\, air pollution\, and wildfires” resulting in greater risks to human health\, infrastructure\, and the economy. This webinar will highlight NOAA-supported research that has advanced our understanding of these compounding and cascading impacts of extreme heat. Speakers will share new insights on: how drought conditions intensify heat waves and increase exposure to extreme temperatures; how heat and humidity influence air quality and particulate matter formation; and how communities are strengthening household-level health protections during overlapping heat and wildfire smoke events.
URL:https://www.eristates.org/event/extreme-heat-and-interconnected-hazards-new-research-on-compounding-and-cascading-impacts/
CATEGORIES:Webinar
END:VEVENT
BEGIN:VEVENT
DTSTART;TZID=America/New_York:20260430T130000
DTEND;TZID=America/New_York:20260430T150000
DTSTAMP:20260424T121725
CREATED:20251218T222211Z
LAST-MODIFIED:20251218T222211Z
UID:3550-1777554000-1777561200@www.eristates.org
SUMMARY:Understanding Vapor Intrusion - Introductory Concepts & Fundamentals - Part 1
DESCRIPTION:
URL:https://www.eristates.org/event/understanding-vapor-intrusion-introductory-concepts-fundamentals-part-1/
CATEGORIES:Online Training
END:VEVENT
BEGIN:VEVENT
DTSTART;TZID=America/New_York:20260512T130000
DTEND;TZID=America/New_York:20260512T150000
DTSTAMP:20260424T121725
CREATED:20251218T222338Z
LAST-MODIFIED:20251218T222338Z
UID:3552-1778590800-1778598000@www.eristates.org
SUMMARY:Understanding Vapor Intrusion - Introductory Concepts & Fundamentals - Part 2
DESCRIPTION:
URL:https://www.eristates.org/event/understanding-vapor-intrusion-introductory-concepts-fundamentals-part-2/
CATEGORIES:Online Training
END:VEVENT
END:VCALENDAR