BEGIN:VCALENDAR
VERSION:2.0
PRODID:-//ERIS - ECPv6.15.20//NONSGML v1.0//EN
CALSCALE:GREGORIAN
METHOD:PUBLISH
X-WR-CALNAME:ERIS
X-ORIGINAL-URL:https://www.eristates.org
X-WR-CALDESC:Events for ERIS
REFRESH-INTERVAL;VALUE=DURATION:PT1H
X-Robots-Tag:noindex
X-PUBLISHED-TTL:PT1H
BEGIN:VTIMEZONE
TZID:America/New_York
BEGIN:DAYLIGHT
TZOFFSETFROM:-0500
TZOFFSETTO:-0400
TZNAME:EDT
DTSTART:20220313T070000
END:DAYLIGHT
BEGIN:STANDARD
TZOFFSETFROM:-0400
TZOFFSETTO:-0500
TZNAME:EST
DTSTART:20221106T060000
END:STANDARD
BEGIN:DAYLIGHT
TZOFFSETFROM:-0500
TZOFFSETTO:-0400
TZNAME:EDT
DTSTART:20230312T070000
END:DAYLIGHT
BEGIN:STANDARD
TZOFFSETFROM:-0400
TZOFFSETTO:-0500
TZNAME:EST
DTSTART:20231105T060000
END:STANDARD
BEGIN:DAYLIGHT
TZOFFSETFROM:-0500
TZOFFSETTO:-0400
TZNAME:EDT
DTSTART:20240310T070000
END:DAYLIGHT
BEGIN:STANDARD
TZOFFSETFROM:-0400
TZOFFSETTO:-0500
TZNAME:EST
DTSTART:20241103T060000
END:STANDARD
END:VTIMEZONE
BEGIN:VEVENT
DTSTART;TZID=America/New_York:20230815T150000
DTEND;TZID=America/New_York:20230815T160000
DTSTAMP:20260423T190743
CREATED:20230719T190131Z
LAST-MODIFIED:20230719T190131Z
UID:1913-1692111600-1692115200@www.eristates.org
SUMMARY:GLIMPSE and COMET Tools
DESCRIPTION:Global Change Analysis Model Long-term Interactive Multipollutant Scenario Evaluator (GLIMPSE) is a tool to assist in long-term energy and environmental planning. \nCity-Based Optimization Tool for Energy Technologies (COMET) is an energy-economic-environmental optimization model.
URL:https://www.eristates.org/event/glimpse-and-comet-tools/
CATEGORIES:Webinar
END:VEVENT
BEGIN:VEVENT
DTSTART;TZID=America/New_York:20230810T150000
DTEND;TZID=America/New_York:20230810T160000
DTSTAMP:20260423T190743
CREATED:20230516T193408Z
LAST-MODIFIED:20230516T193408Z
UID:1854-1691679600-1691683200@www.eristates.org
SUMMARY:Data Management Tools For Emergency Response
DESCRIPTION:
URL:https://www.eristates.org/event/data-management-tools-for-emergency-response/
CATEGORIES:Online Training
END:VEVENT
BEGIN:VEVENT
DTSTART;TZID=America/New_York:20230810T120000
DTEND;TZID=America/New_York:20230810T133000
DTSTAMP:20260423T190743
CREATED:20230412T210823Z
LAST-MODIFIED:20230412T210823Z
UID:1837-1691668800-1691674200@www.eristates.org
SUMMARY:Removal of Munition Constituents from Wastewater
DESCRIPTION:This webinar focuses on  research efforts to develop treatment technologies for munitions in wastewaters. Specifically\, investigators will cover methods for selecting more efficient\, cost effective\, and sustainable treatment trains for mixed munitions wastewater as well the development\, scale-up\, and results from several field demonstrations on technology capable of rapidly and completely destroying insensitive munition constituents in explosives production wastewaters.
URL:https://www.eristates.org/event/removal-of-munition-constituents-from-wastewater/
CATEGORIES:Webinar
END:VEVENT
BEGIN:VEVENT
DTSTART;TZID=America/New_York:20230725T140000
DTEND;TZID=America/New_York:20230725T150000
DTSTAMP:20260423T190743
CREATED:20230210T154613Z
LAST-MODIFIED:20230210T154613Z
UID:1783-1690293600-1690297200@www.eristates.org
SUMMARY:Fifth Unregulated Contaminant Monitoring
DESCRIPTION:
URL:https://www.eristates.org/event/fifth-unregulated-contaminant-monitoring/
CATEGORIES:Webinar
END:VEVENT
BEGIN:VEVENT
DTSTART;TZID=America/New_York:20230719T150000
DTEND;TZID=America/New_York:20230719T160000
DTSTAMP:20260423T190743
CREATED:20230516T190327Z
LAST-MODIFIED:20230516T192908Z
UID:1850-1689778800-1689782400@www.eristates.org
SUMMARY:Forecasting HABs
DESCRIPTION:
URL:https://www.eristates.org/event/forecasting-habs/
CATEGORIES:Online Training
END:VEVENT
BEGIN:VEVENT
DTSTART;TZID=America/New_York:20230718T150000
DTEND;TZID=America/New_York:20230718T160000
DTSTAMP:20260423T190743
CREATED:20230613T200448Z
LAST-MODIFIED:20230613T200448Z
UID:1886-1689692400-1689696000@www.eristates.org
SUMMARY:Wildfire Impacts on Water and Ecosystems
DESCRIPTION:
URL:https://www.eristates.org/event/wildfire-impacts-on-water-and-ecosystems/
CATEGORIES:Webinar
END:VEVENT
BEGIN:VEVENT
DTSTART;TZID=America/New_York:20230711T150000
DTEND;TZID=America/New_York:20230711T160000
DTSTAMP:20260423T190743
CREATED:20230613T200640Z
LAST-MODIFIED:20230613T200640Z
UID:1888-1689087600-1689091200@www.eristates.org
SUMMARY:Tools for Considering Cumulative Impacts
DESCRIPTION:
URL:https://www.eristates.org/event/tools-for-considering-cumulative-impacts/
CATEGORIES:Webinar
END:VEVENT
BEGIN:VEVENT
DTSTART;TZID=America/New_York:20230628T140000
DTEND;TZID=America/New_York:20230628T150000
DTSTAMP:20260423T190743
CREATED:20230613T201056Z
LAST-MODIFIED:20230613T201056Z
UID:1892-1687960800-1687964400@www.eristates.org
SUMMARY:Reducing Nitrogen in Groundwater Through Enhanced Onsite Wastewater Treatment and Wetland Restoration
DESCRIPTION:
URL:https://www.eristates.org/event/reducing-nitrogen-in-groundwater-through-enhanced-onsite-wastewater-treatment-and-wetland-restoration/
CATEGORIES:Webinar
END:VEVENT
BEGIN:VEVENT
DTSTART;TZID=America/New_York:20230621T150000
DTEND;TZID=America/New_York:20230621T160000
DTSTAMP:20260423T190743
CREATED:20230516T190216Z
LAST-MODIFIED:20230516T190216Z
UID:1848-1687359600-1687363200@www.eristates.org
SUMMARY:PFAS in Biosolids
DESCRIPTION:
URL:https://www.eristates.org/event/pfas-in-biosolids/
CATEGORIES:Online Training
END:VEVENT
BEGIN:VEVENT
DTSTART;TZID=America/New_York:20230613T130000
DTEND;TZID=America/New_York:20230613T150000
DTSTAMP:20260423T190743
CREATED:20230516T194520Z
LAST-MODIFIED:20230516T194520Z
UID:1862-1686661200-1686668400@www.eristates.org
SUMMARY:Microplastics
DESCRIPTION:
URL:https://www.eristates.org/event/microplastics-2/
CATEGORIES:Online Training
END:VEVENT
BEGIN:VEVENT
DTSTART;TZID=America/New_York:20230608T140000
DTEND;TZID=America/New_York:20230608T150000
DTSTAMP:20260423T190743
CREATED:20230516T165729Z
LAST-MODIFIED:20230516T165926Z
UID:1846-1686232800-1686236400@www.eristates.org
SUMMARY:Microplastics: The Current State of Regulations and Science
DESCRIPTION:Microplastics: The Current State of the Regulations and Science   \nMicroplastics have been found in air\, soil\, wildlife\, and human blood and lung tissue\, yet studies are just beginning to uncover potential human health effects such as internal inflammation and reproductive effects. One international study found that 80% of drinking water samples from 14 countries across 5 continents had microplastics in them. Based upon these and other findings\, and little information on the extent of the problem within the state\, California became the first government in the world to require monitoring for microplastics in drinking water. This policy motivated rapid scientific work to define microplastics and to develop standard methods to measure them in source water. \n 
URL:https://www.eristates.org/event/microplastics-the-current-state-of-regulations-and-science/
CATEGORIES:Webinar
END:VEVENT
BEGIN:VEVENT
DTSTART;TZID=America/New_York:20230608T130000
DTEND;TZID=America/New_York:20230608T150000
DTSTAMP:20260423T190743
CREATED:20230516T194402Z
LAST-MODIFIED:20230516T194402Z
UID:1860-1686229200-1686236400@www.eristates.org
SUMMARY:1\,4-Dioxane: Science\, Characterization & Analysis\, and Remediation
DESCRIPTION:
URL:https://www.eristates.org/event/14-dioxane-science-characterization-analysis-and-remediation-6/
CATEGORIES:Online Training
END:VEVENT
BEGIN:VEVENT
DTSTART;TZID=America/New_York:20230606T130000
DTEND;TZID=America/New_York:20230606T150000
DTSTAMP:20260423T190743
CREATED:20230516T194208Z
LAST-MODIFIED:20230516T194208Z
UID:1858-1686056400-1686063600@www.eristates.org
SUMMARY:Vapor Intrusion Mitigation Session 2: Active Mitigation\, Passive Mitigation\, Installation/ OM&M/Exit Strategy
DESCRIPTION:
URL:https://www.eristates.org/event/vapor-intrusion-mitigation-session-2-active-mitigation-passive-mitigation-installation-omm-exit-strategy-2/
CATEGORIES:Online Training
END:VEVENT
BEGIN:VEVENT
DTSTART;TZID=America/New_York:20230601T150000
DTEND;TZID=America/New_York:20230601T160000
DTSTAMP:20260423T190744
CREATED:20230516T193304Z
LAST-MODIFIED:20230516T193304Z
UID:1852-1685631600-1685635200@www.eristates.org
SUMMARY:PFAS Analytic Tools
DESCRIPTION:
URL:https://www.eristates.org/event/pfas-analytic-tools/
CATEGORIES:Online Training
END:VEVENT
BEGIN:VEVENT
DTSTART;TZID=America/New_York:20230601T130000
DTEND;TZID=America/New_York:20230601T150000
DTSTAMP:20260423T190744
CREATED:20230516T194041Z
LAST-MODIFIED:20230516T194041Z
UID:1856-1685624400-1685631600@www.eristates.org
SUMMARY:Vapor Intrusion Mitigation Session 1: Conceptual Site Model for Vapor Intrusion Mitigation\, Public Outreach\, Rapid Response\, Remediation & Long-term Contaminant Management Using Institutional Controls
DESCRIPTION:
URL:https://www.eristates.org/event/vapor-intrusion-mitigation-session-1-conceptual-site-model-for-vapor-intrusion-mitigation-public-outreach-rapid-response-remediation-long-term-contaminant-management-using-institutional-controls/
CATEGORIES:Online Training
END:VEVENT
BEGIN:VEVENT
DTSTART;TZID=America/New_York:20230530T140000
DTEND;TZID=America/New_York:20230530T150000
DTSTAMP:20260423T190744
CREATED:20230210T154402Z
LAST-MODIFIED:20230210T154419Z
UID:1781-1685455200-1685458800@www.eristates.org
SUMMARY:Harmful Algal Blooms and Algal Toxins
DESCRIPTION:
URL:https://www.eristates.org/event/harmful-algal-blooms-and-algal-toxins/
CATEGORIES:Webinar
END:VEVENT
BEGIN:VEVENT
DTSTART;TZID=America/New_York:20230524T140000
DTEND;TZID=America/New_York:20230524T150000
DTSTAMP:20260423T190744
CREATED:20230412T205503Z
LAST-MODIFIED:20230412T205503Z
UID:1828-1684936800-1684940400@www.eristates.org
SUMMARY:Analysis for Coastal Operation Resiliency (AnCOR) Project Update
DESCRIPTION:
URL:https://www.eristates.org/event/analysis-for-coastal-operation-resiliency-ancor-project-update/
CATEGORIES:Webinar
END:VEVENT
BEGIN:VEVENT
DTSTART;TZID=America/New_York:20230519T120000
DTEND;TZID=America/New_York:20230519T140000
DTSTAMP:20260423T190744
CREATED:20230405T192822Z
LAST-MODIFIED:20230405T192822Z
UID:1820-1684497600-1684504800@www.eristates.org
SUMMARY:Superfund Research Program - Chemical Exposures Across the Life Course
DESCRIPTION:Hear from three Superfund Research Program Centers on to understand the impacts of multiple contaminant exposures and to develop novel remediation and treatment strategies\, to develop new methods and devices for quantifying VOC concentrations\, and to study the relationship between VOC exposure and human health risks. \n 
URL:https://www.eristates.org/event/superfund-research-program-chemical-exposures-across-the-life-course/
CATEGORIES:Webinar
END:VEVENT
BEGIN:VEVENT
DTSTART;TZID=America/New_York:20230518T120000
DTEND;TZID=America/New_York:20230518T133000
DTSTAMP:20260423T190744
CREATED:20230412T210622Z
LAST-MODIFIED:20230412T210622Z
UID:1835-1684411200-1684416600@www.eristates.org
SUMMARY:Assessing Ecological PFAS Exposure and Effects
DESCRIPTION:This webinar focuses on research efforts to assess ecological PFAS exposure and effects. Specifically\, investigators will discuss the results of a multi-generational zebrafish exposure-response study to better derive PFOS risk estimates and reliance on tree swallows as indicators of PFAS exposure and effects at selected DoD sites.
URL:https://www.eristates.org/event/assessing-ecological-pfas-exposure-and-effects/
CATEGORIES:Webinar
END:VEVENT
BEGIN:VEVENT
DTSTART;TZID=America/New_York:20230517T150000
DTEND;TZID=America/New_York:20230517T160000
DTSTAMP:20260423T190744
CREATED:20230412T205122Z
LAST-MODIFIED:20230412T205122Z
UID:1826-1684335600-1684339200@www.eristates.org
SUMMARY:National Nutrient Inventory
DESCRIPTION:
URL:https://www.eristates.org/event/national-nutrient-inventory/
CATEGORIES:Webinar
END:VEVENT
BEGIN:VEVENT
DTSTART;TZID=America/New_York:20230512T120000
DTEND;TZID=America/New_York:20230512T140000
DTSTAMP:20260423T190744
CREATED:20230405T190815Z
LAST-MODIFIED:20230405T190815Z
UID:1814-1683892800-1683900000@www.eristates.org
SUMMARY:Superfund Research Program - Environmental Justice and Emerging Contaminants
DESCRIPTION:Hear from researchers at three Superfund Research Program Centers about some of their current emerging contaminants work. This includes work to create new technologies to detect contaminants like N-nitrosamines in the environment; to better assess the risks of exposure to contaminants and mixtures of contaminants like arsenic\, chromium and PFAS; to better understand the transport and transformation of PFAS in the environment. \n 
URL:https://www.eristates.org/event/superfund-research-program-environmental-justice-and-emerging-contaminants/
CATEGORIES:Webinar
END:VEVENT
BEGIN:VEVENT
DTSTART;TZID=America/New_York:20230511T130000
DTEND;TZID=America/New_York:20230511T150000
DTSTAMP:20260423T190744
CREATED:20230111T160439Z
LAST-MODIFIED:20230111T160439Z
UID:1752-1683810000-1683817200@www.eristates.org
SUMMARY:Sustainable Resilient Remediation
DESCRIPTION:
URL:https://www.eristates.org/event/sustainable-resilient-remediation/
CATEGORIES:Online Training
END:VEVENT
BEGIN:VEVENT
DTSTART;TZID=America/New_York:20230505T120000
DTEND;TZID=America/New_York:20230505T140000
DTSTAMP:20260423T190744
CREATED:20230405T191137Z
LAST-MODIFIED:20230405T191137Z
UID:1816-1683288000-1683295200@www.eristates.org
SUMMARY:Superfund Research Program - Heavy Metals in Native American Communities
DESCRIPTION:Hear from researchers at two Superfund Research Program Centers about their work around uranium mining int tribal areas.
URL:https://www.eristates.org/event/superfund-research-program-heavy-metals-in-native-american-communities/
CATEGORIES:Webinar
END:VEVENT
BEGIN:VEVENT
DTSTART;TZID=America/New_York:20230428T120000
DTEND;TZID=America/New_York:20230428T140000
DTSTAMP:20260423T190744
CREATED:20230405T191823Z
LAST-MODIFIED:20230405T191823Z
UID:1818-1682683200-1682690400@www.eristates.org
SUMMARY:Superfund Research Program - Emergencies and Emerging Contaminants
DESCRIPTION:Hear from researchers at three Superfund Research Program Centers about their work to understand the combined effects of climate disasters coupled with environmental contamination\, to better understand the environmental fate and develop remediation technologies to address the halogenated aromatic carbon family (dioxins\, biphenyls\, PAHs)\, and to better understand\, detect\, and treat 1\,4 dioxane in water.
URL:https://www.eristates.org/event/superfund-research-program-emergencies-and-emerging-contaminants/
CATEGORIES:Webinar
END:VEVENT
BEGIN:VEVENT
DTSTART;TZID=America/New_York:20230426T150000
DTEND;TZID=America/New_York:20230426T160000
DTSTAMP:20260423T190744
CREATED:20230210T153438Z
LAST-MODIFIED:20230210T153438Z
UID:1772-1682521200-1682524800@www.eristates.org
SUMMARY:Air Sensors Guidebook
DESCRIPTION:
URL:https://www.eristates.org/event/air-sensors-guidebook/
CATEGORIES:Webinar
END:VEVENT
BEGIN:VEVENT
DTSTART;TZID=America/New_York:20230426T140000
DTEND;TZID=America/New_York:20230426T150000
DTSTAMP:20260423T190744
CREATED:20230412T205920Z
LAST-MODIFIED:20230412T205920Z
UID:1830-1682517600-1682521200@www.eristates.org
SUMMARY:VELMA Watershed Modeling in the Puget Sound
DESCRIPTION:ORD’s VELMA watershed modeling team is estimating environmental impacts of alternative future land use and climate change scenarios out to year 2100 for Puget Sound’s major river basins.  VELMA is simulating how these scenarios impact terrestrial runoff and loadings of nutrients and toxins to the Puget Sound National Estuary.
URL:https://www.eristates.org/event/velma-watershed-modeling-in-the-puget-sound/
CATEGORIES:Webinar
END:VEVENT
BEGIN:VEVENT
DTSTART;TZID=America/New_York:20230425T140000
DTEND;TZID=America/New_York:20230425T150000
DTSTAMP:20260423T190744
CREATED:20230210T154241Z
LAST-MODIFIED:20230412T210118Z
UID:1779-1682431200-1682434800@www.eristates.org
SUMMARY:Manganese in Small Drinking Water Systems
DESCRIPTION:
URL:https://www.eristates.org/event/manganese/
CATEGORIES:Webinar
END:VEVENT
BEGIN:VEVENT
DTSTART;TZID=America/New_York:20230420T120000
DTEND;TZID=America/New_York:20230420T133000
DTSTAMP:20260423T190744
CREATED:20230412T210401Z
LAST-MODIFIED:20230412T210401Z
UID:1833-1681992000-1681997400@www.eristates.org
SUMMARY:Demonstration and Implementation of PFAS-Free Firefighting Formulations
DESCRIPTION:
URL:https://www.eristates.org/event/demonstration-and-implementation-of-pfas-free-firefighting-formulations/
CATEGORIES:Webinar
END:VEVENT
BEGIN:VEVENT
DTSTART;TZID=America/New_York:20230406T150000
DTEND;TZID=America/New_York:20230406T160000
DTSTAMP:20260423T190744
CREATED:20230111T152930Z
LAST-MODIFIED:20230210T153628Z
UID:1723-1680793200-1680796800@www.eristates.org
SUMMARY:Underground Storage Tank Finder
DESCRIPTION:
URL:https://www.eristates.org/event/climate-change-adaptation-resource-center/
CATEGORIES:Online Training
END:VEVENT
BEGIN:VEVENT
DTSTART;TZID=America/New_York:20230328T140000
DTEND;TZID=America/New_York:20230328T150000
DTSTAMP:20260423T190744
CREATED:20230210T154126Z
LAST-MODIFIED:20230613T201857Z
UID:1777-1680012000-1680015600@www.eristates.org
SUMMARY:Drinking Water Systems & BIL: PFAS removal\, LSLs\, and TA
DESCRIPTION:
URL:https://www.eristates.org/event/bipartisan-infrastructure-law/
CATEGORIES:Webinar
END:VEVENT
END:VCALENDAR