BEGIN:VCALENDAR
VERSION:2.0
PRODID:-//ERIS - ECPv6.15.18//NONSGML v1.0//EN
CALSCALE:GREGORIAN
METHOD:PUBLISH
X-WR-CALNAME:ERIS
X-ORIGINAL-URL:https://www.eristates.org
X-WR-CALDESC:Events for ERIS
REFRESH-INTERVAL;VALUE=DURATION:PT1H
X-Robots-Tag:noindex
X-PUBLISHED-TTL:PT1H
BEGIN:VTIMEZONE
TZID:America/New_York
BEGIN:DAYLIGHT
TZOFFSETFROM:-0500
TZOFFSETTO:-0400
TZNAME:EDT
DTSTART:20240310T070000
END:DAYLIGHT
BEGIN:STANDARD
TZOFFSETFROM:-0400
TZOFFSETTO:-0500
TZNAME:EST
DTSTART:20241103T060000
END:STANDARD
BEGIN:DAYLIGHT
TZOFFSETFROM:-0500
TZOFFSETTO:-0400
TZNAME:EDT
DTSTART:20250309T070000
END:DAYLIGHT
BEGIN:STANDARD
TZOFFSETFROM:-0400
TZOFFSETTO:-0500
TZNAME:EST
DTSTART:20251102T060000
END:STANDARD
BEGIN:DAYLIGHT
TZOFFSETFROM:-0500
TZOFFSETTO:-0400
TZNAME:EDT
DTSTART:20260308T070000
END:DAYLIGHT
BEGIN:STANDARD
TZOFFSETFROM:-0400
TZOFFSETTO:-0500
TZNAME:EST
DTSTART:20261101T060000
END:STANDARD
BEGIN:DAYLIGHT
TZOFFSETFROM:-0500
TZOFFSETTO:-0400
TZNAME:EDT
DTSTART:20270314T070000
END:DAYLIGHT
BEGIN:STANDARD
TZOFFSETFROM:-0400
TZOFFSETTO:-0500
TZNAME:EST
DTSTART:20271107T060000
END:STANDARD
END:VTIMEZONE
BEGIN:VEVENT
DTSTART;TZID=America/New_York:20260113T130000
DTEND;TZID=America/New_York:20260113T150000
DTSTAMP:20260419T085927
CREATED:20251218T212832Z
LAST-MODIFIED:20251218T212832Z
UID:3524-1768309200-1768316400@www.eristates.org
SUMMARY:Introduction to Hydrocarbons
DESCRIPTION:
URL:https://www.eristates.org/event/introduction-to-hydrocarbons/
CATEGORIES:Online Training
END:VEVENT
BEGIN:VEVENT
DTSTART;TZID=America/New_York:20251218T130000
DTEND;TZID=America/New_York:20251218T150000
DTSTAMP:20260419T085927
CREATED:20251218T222043Z
LAST-MODIFIED:20251218T222043Z
UID:3548-1766062800-1766070000@www.eristates.org
SUMMARY:Sorption Based Technologies for Separation & Concentration of PFAS from Water Training
DESCRIPTION:
URL:https://www.eristates.org/event/sorption-based-technologies-for-separation-concentration-of-pfas-from-water-training/
CATEGORIES:Online Training
END:VEVENT
BEGIN:VEVENT
DTSTART;TZID=America/New_York:20251218T080000
DTEND;TZID=America/New_York:20251218T170000
DTSTAMP:20260419T085927
CREATED:20251218T215304Z
LAST-MODIFIED:20251218T215304Z
UID:3534-1766044800-1766077200@www.eristates.org
SUMMARY:Sediment Cap Chemical Isolation
DESCRIPTION:
URL:https://www.eristates.org/event/sediment-cap-chemical-isolation-2/
CATEGORIES:Online Training
END:VEVENT
BEGIN:VEVENT
DTSTART;TZID=America/New_York:20251217T150000
DTEND;TZID=America/New_York:20251217T160000
DTSTAMP:20260419T085927
CREATED:20250410T213803Z
LAST-MODIFIED:20250630T173731Z
UID:2462-1765983600-1765987200@www.eristates.org
SUMMARY:6 PPD-Quinone
DESCRIPTION:
URL:https://www.eristates.org/event/microplastics-6/
CATEGORIES:Webinar
END:VEVENT
BEGIN:VEVENT
DTSTART;TZID=America/New_York:20251209T150000
DTEND;TZID=America/New_York:20251209T160000
DTSTAMP:20260419T085927
CREATED:20250410T215054Z
LAST-MODIFIED:20250410T215054Z
UID:2472-1765292400-1765296000@www.eristates.org
SUMMARY:A New Methodology for Modeling Material Flow During End-of-Life to Support Circular Economy Policy
DESCRIPTION:
URL:https://www.eristates.org/event/a-new-methodology-for-modeling-material-flow-during-end-of-life-to-support-circular-economy-policy/
CATEGORIES:Webinar
END:VEVENT
BEGIN:VEVENT
DTSTART;TZID=America/New_York:20251119T150000
DTEND;TZID=America/New_York:20251119T160000
DTSTAMP:20260419T085927
CREATED:20251017T162342Z
LAST-MODIFIED:20251017T162342Z
UID:3498-1763564400-1763568000@www.eristates.org
SUMMARY:Collaborating with our State Partners on Disaster Resiliency Planning
DESCRIPTION:
URL:https://www.eristates.org/event/collaborating-with-our-state-partners-on-disaster-resiliency-planning/
CATEGORIES:Webinar
END:VEVENT
BEGIN:VEVENT
DTSTART;TZID=America/New_York:20251113T130000
DTEND;TZID=America/New_York:20251113T150000
DTSTAMP:20260419T085927
CREATED:20250813T184103Z
LAST-MODIFIED:20251009T183711Z
UID:3469-1763038800-1763046000@www.eristates.org
SUMMARY:Microplastics Training
DESCRIPTION:
URL:https://www.eristates.org/event/microplastics-training/
CATEGORIES:Online Training
END:VEVENT
BEGIN:VEVENT
DTSTART;TZID=America/New_York:20251106T130000
DTEND;TZID=America/New_York:20251106T150000
DTSTAMP:20260419T085927
CREATED:20250813T184014Z
LAST-MODIFIED:20251009T183529Z
UID:3467-1762434000-1762441200@www.eristates.org
SUMMARY:PFAS Introductory Training
DESCRIPTION:
URL:https://www.eristates.org/event/pfas-introductory-training-3/
CATEGORIES:Online Training
END:VEVENT
BEGIN:VEVENT
DTSTART;TZID=America/New_York:20251028T130000
DTEND;TZID=America/New_York:20251028T150000
DTSTAMP:20260419T085927
CREATED:20250813T183322Z
LAST-MODIFIED:20251009T183334Z
UID:3465-1761656400-1761663600@www.eristates.org
SUMMARY:Reuse of Solid Mining Waste
DESCRIPTION:
URL:https://www.eristates.org/event/reuse-of-solid-mining-waste/
CATEGORIES:Online Training
END:VEVENT
BEGIN:VEVENT
DTSTART;TZID=America/New_York:20251023T130000
DTEND;TZID=America/New_York:20251023T150000
DTSTAMP:20260419T085927
CREATED:20250813T183143Z
LAST-MODIFIED:20251009T182902Z
UID:3461-1761224400-1761231600@www.eristates.org
SUMMARY:Introduction to Hydrocarbons Training
DESCRIPTION:
URL:https://www.eristates.org/event/introduction-to-hydrocarbons-training/
CATEGORIES:Online Training
END:VEVENT
BEGIN:VEVENT
DTSTART;TZID=America/New_York:20251022T080000
DTEND;TZID=America/New_York:20251022T170000
DTSTAMP:20260419T085927
CREATED:20250919T180343Z
LAST-MODIFIED:20251009T182615Z
UID:3458-1761120000-1761152400@www.eristates.org
SUMMARY:Great Lakes Microplastics Summit
DESCRIPTION:
URL:https://www.eristates.org/event/great-lakes-microplastics-summit/
CATEGORIES:Webinar
END:VEVENT
BEGIN:VEVENT
DTSTART;TZID=America/New_York:20251015T150000
DTEND;TZID=America/New_York:20251015T160000
DTSTAMP:20260419T085927
CREATED:20250917T194650Z
LAST-MODIFIED:20251009T182057Z
UID:3456-1760540400-1760544000@www.eristates.org
SUMMARY:PFAS Destruction by a Hazardous Waste Incinerator
DESCRIPTION:
URL:https://www.eristates.org/event/pfas-destruction-by-a-hazardous-waste-incinerator/
CATEGORIES:Webinar
END:VEVENT
BEGIN:VEVENT
DTSTART;TZID=America/New_York:20251014T130000
DTEND;TZID=America/New_York:20251014T150000
DTSTAMP:20260419T085927
CREATED:20250813T182926Z
LAST-MODIFIED:20251009T181915Z
UID:3453-1760446800-1760454000@www.eristates.org
SUMMARY:Contaminants of Emerging Concern Identification Framework Training
DESCRIPTION:
URL:https://www.eristates.org/event/contaminants-of-emerging-concern-identification-framework-training/
CATEGORIES:Online Training
END:VEVENT
BEGIN:VEVENT
DTSTART;TZID=America/New_York:20251009T130000
DTEND;TZID=America/New_York:20251009T150000
DTSTAMP:20260419T085927
CREATED:20250813T182852Z
LAST-MODIFIED:20251009T181754Z
UID:3450-1760014800-1760022000@www.eristates.org
SUMMARY:PFAS Chemistry
DESCRIPTION:
URL:https://www.eristates.org/event/pfas-chemistry/
CATEGORIES:Online Training
END:VEVENT
BEGIN:VEVENT
DTSTART;TZID=America/New_York:20251007T130000
DTEND;TZID=America/New_York:20251007T143000
DTSTAMP:20260419T085927
CREATED:20250813T182625Z
LAST-MODIFIED:20251009T181553Z
UID:3447-1759842000-1759847400@www.eristates.org
SUMMARY:Overview of the Tire-Derived Chemicals 6PPD & 6PPD-quinone Training
DESCRIPTION:
URL:https://www.eristates.org/event/overview-of-the-tire-derived-chemicals-6ppd-6ppd-quinone-training/
CATEGORIES:Online Training
END:VEVENT
BEGIN:VEVENT
DTSTART;TZID=America/New_York:20251002T150000
DTEND;TZID=America/New_York:20251002T160000
DTSTAMP:20260419T085927
CREATED:20250917T194522Z
LAST-MODIFIED:20251009T181242Z
UID:3445-1759417200-1759420800@www.eristates.org
SUMMARY:SALT Framework for Risk Communication
DESCRIPTION:
URL:https://www.eristates.org/event/salt-framework-for-risk-communication/
CATEGORIES:Webinar
END:VEVENT
BEGIN:VEVENT
DTSTART;TZID=America/New_York:20250923T130000
DTEND;TZID=America/New_York:20250923T150000
DTSTAMP:20260419T085927
CREATED:20250813T182434Z
LAST-MODIFIED:20251009T180957Z
UID:3442-1758632400-1758639600@www.eristates.org
SUMMARY:Managed Aquifer Recharge Training
DESCRIPTION:
URL:https://www.eristates.org/event/managed-aquifer-recharge-training/
CATEGORIES:Online Training
END:VEVENT
BEGIN:VEVENT
DTSTART;TZID=America/New_York:20250916T130000
DTEND;TZID=America/New_York:20250916T153000
DTSTAMP:20260419T085927
CREATED:20250813T162342Z
LAST-MODIFIED:20251009T165608Z
UID:3440-1758027600-1758036600@www.eristates.org
SUMMARY:1\,4-Dioxane: Science\, Characterization & Analysis\, and Remediation Training
DESCRIPTION:
URL:https://www.eristates.org/event/14-dioxane-science-characterization-analysis-and-remediation-training/
CATEGORIES:Online Training
END:VEVENT
BEGIN:VEVENT
DTSTART;TZID=America/New_York:20250909T130000
DTEND;TZID=America/New_York:20250909T150000
DTSTAMP:20260419T085927
CREATED:20250813T182002Z
LAST-MODIFIED:20251009T165326Z
UID:3438-1757422800-1757430000@www.eristates.org
SUMMARY:Sediment Cap Chemical Isolation Training
DESCRIPTION:
URL:https://www.eristates.org/event/sediment-cap-chemical-isolation-training-2/
CATEGORIES:Online Training
END:VEVENT
BEGIN:VEVENT
DTSTART;TZID=America/New_York:20250904T130000
DTEND;TZID=America/New_York:20250904T150000
DTSTAMP:20260419T085927
CREATED:20250813T181816Z
LAST-MODIFIED:20251009T165054Z
UID:3436-1756990800-1756998000@www.eristates.org
SUMMARY:Pump and Treat Optimization Training
DESCRIPTION:
URL:https://www.eristates.org/event/pump-and-treat-optimization-training/
CATEGORIES:Online Training
END:VEVENT
BEGIN:VEVENT
DTSTART;TZID=America/New_York:20250827T130000
DTEND;TZID=America/New_York:20250827T143000
DTSTAMP:20260419T085927
CREATED:20250813T184415Z
LAST-MODIFIED:20251009T164544Z
UID:3434-1756299600-1756305000@www.eristates.org
SUMMARY:Heavy Metals Detection and Treatment for Water
DESCRIPTION:
URL:https://www.eristates.org/event/heavy-metals-detection-and-treatment-for-water/
CATEGORIES:Webinar
END:VEVENT
BEGIN:VEVENT
DTSTART;TZID=America/New_York:20250820T150000
DTEND;TZID=America/New_York:20250820T160000
DTSTAMP:20260419T085927
CREATED:20250410T212723Z
LAST-MODIFIED:20250630T173337Z
UID:2456-1755702000-1755705600@www.eristates.org
SUMMARY:Microplastics
DESCRIPTION:
URL:https://www.eristates.org/event/flooding-resiliency/
CATEGORIES:Webinar
END:VEVENT
BEGIN:VEVENT
DTSTART;TZID=America/New_York:20250807T150000
DTEND;TZID=America/New_York:20250807T160000
DTSTAMP:20260419T085927
CREATED:20250414T202939Z
LAST-MODIFIED:20250414T202939Z
UID:2483-1754578800-1754582400@www.eristates.org
SUMMARY:Increasing the Accessibility of Infrastructure Decontamination Data using OW’s Water Contaminant Information Tool
DESCRIPTION:
URL:https://www.eristates.org/event/increasing-the-accessibility-of-infrastructure-decontamination-data-using-ows-water-contaminant-information-tool/
CATEGORIES:Online Training
END:VEVENT
BEGIN:VEVENT
DTSTART;TZID=America/New_York:20250729T140000
DTEND;TZID=America/New_York:20250729T150000
DTSTAMP:20260419T085927
CREATED:20250117T163156Z
LAST-MODIFIED:20250414T195059Z
UID:2382-1753797600-1753801200@www.eristates.org
SUMMARY:Drinking Water Supply and Storage in Small\, Rural Communities
DESCRIPTION:
URL:https://www.eristates.org/event/drinking-water-supply-and-storage-in-small-rural-communities/
CATEGORIES:Webinar
END:VEVENT
BEGIN:VEVENT
DTSTART;TZID=America/New_York:20250716T150000
DTEND;TZID=America/New_York:20250716T160000
DTSTAMP:20260419T085927
CREATED:20250410T212507Z
LAST-MODIFIED:20250410T212850Z
UID:2454-1752678000-1752681600@www.eristates.org
SUMMARY:Emerging Landfill Issues
DESCRIPTION:
URL:https://www.eristates.org/event/emerging-landfill-issues/
CATEGORIES:Webinar
END:VEVENT
BEGIN:VEVENT
DTSTART;TZID=America/New_York:20250709T140000
DTEND;TZID=America/New_York:20250709T150000
DTSTAMP:20260419T085927
CREATED:20250630T165839Z
LAST-MODIFIED:20250630T165839Z
UID:2547-1752069600-1752073200@www.eristates.org
SUMMARY:Animal Carcass Disposal for a Foreign Animal Disease Outbreak
DESCRIPTION:
URL:https://www.eristates.org/event/animal-carcass-disposal-for-a-foreign-animal-disease-outbreak/
CATEGORIES:Webinar
END:VEVENT
BEGIN:VEVENT
DTSTART;TZID=America/New_York:20250702T140000
DTEND;TZID=America/New_York:20250702T140000
DTSTAMP:20260419T085927
CREATED:20250630T165434Z
LAST-MODIFIED:20250630T165434Z
UID:2544-1751464800-1751464800@www.eristates.org
SUMMARY:Applying EPA’s National Nutrient Inventory to quantify landscape nutrient inputs and interception to support state and local water quality objectives
DESCRIPTION:
URL:https://www.eristates.org/event/applying-epas-national-nutrient-inventory-to-quantify-landscape-nutrient-inputs-and-interception-to-support-state-and-local-water-quality-objectives/
CATEGORIES:Webinar
END:VEVENT
BEGIN:VEVENT
DTSTART;TZID=America/New_York:20250625T140000
DTEND;TZID=America/New_York:20250625T150000
DTSTAMP:20260419T085927
CREATED:20250117T164908Z
LAST-MODIFIED:20250117T164908Z
UID:2403-1750860000-1750863600@www.eristates.org
SUMMARY:Risk-Based Framework for Fit-for-Purpose Water Reuse: State of the Science
DESCRIPTION:
URL:https://www.eristates.org/event/risk-based-framework-for-fit-for-purpose-water-reuse-state-of-the-science/
CATEGORIES:Webinar
END:VEVENT
BEGIN:VEVENT
DTSTART;TZID=America/New_York:20250624T140000
DTEND;TZID=America/New_York:20250624T150000
DTSTAMP:20260419T085927
CREATED:20250117T163523Z
LAST-MODIFIED:20250117T163523Z
UID:2387-1750773600-1750777200@www.eristates.org
SUMMARY:Technical Assistance for PFAS and Lead
DESCRIPTION:
URL:https://www.eristates.org/event/technical-assistance-for-pfas-and-lead/
CATEGORIES:Webinar
END:VEVENT
BEGIN:VEVENT
DTSTART;TZID=America/New_York:20250618T150000
DTEND;TZID=America/New_York:20250618T160000
DTSTAMP:20260419T085927
CREATED:20250523T150848Z
LAST-MODIFIED:20250523T151019Z
UID:2537-1750258800-1750262400@www.eristates.org
SUMMARY:U.S. EPA Tools & Resources Webinar: Flood Cleanup Resources - Promoting Community Resilience through Risk Communication
DESCRIPTION:
URL:https://www.eristates.org/event/u-s-epa-tools-resources-webinar-flood-cleanup-resources-promoting-community-resilience-through-risk-communication/
CATEGORIES:Webinar
END:VEVENT
END:VCALENDAR