BEGIN:VCALENDAR
VERSION:2.0
PRODID:-//ERIS - ECPv6.15.20//NONSGML v1.0//EN
CALSCALE:GREGORIAN
METHOD:PUBLISH
X-WR-CALNAME:ERIS
X-ORIGINAL-URL:https://www.eristates.org
X-WR-CALDESC:Events for ERIS
REFRESH-INTERVAL;VALUE=DURATION:PT1H
X-Robots-Tag:noindex
X-PUBLISHED-TTL:PT1H
BEGIN:VTIMEZONE
TZID:America/New_York
BEGIN:DAYLIGHT
TZOFFSETFROM:-0500
TZOFFSETTO:-0400
TZNAME:EDT
DTSTART:20190310T070000
END:DAYLIGHT
BEGIN:STANDARD
TZOFFSETFROM:-0400
TZOFFSETTO:-0500
TZNAME:EST
DTSTART:20191103T060000
END:STANDARD
BEGIN:DAYLIGHT
TZOFFSETFROM:-0500
TZOFFSETTO:-0400
TZNAME:EDT
DTSTART:20200308T070000
END:DAYLIGHT
BEGIN:STANDARD
TZOFFSETFROM:-0400
TZOFFSETTO:-0500
TZNAME:EST
DTSTART:20201101T060000
END:STANDARD
BEGIN:DAYLIGHT
TZOFFSETFROM:-0500
TZOFFSETTO:-0400
TZNAME:EDT
DTSTART:20210314T070000
END:DAYLIGHT
BEGIN:STANDARD
TZOFFSETFROM:-0400
TZOFFSETTO:-0500
TZNAME:EST
DTSTART:20211107T060000
END:STANDARD
END:VTIMEZONE
BEGIN:VEVENT
DTSTART;TZID=America/New_York:20200929T130000
DTEND;TZID=America/New_York:20200929T151500
DTSTAMP:20260424T225641
CREATED:20191205T171520Z
LAST-MODIFIED:20191205T171520Z
UID:488-1601384400-1601392500@www.eristates.org
SUMMARY:Connecting the Science to Managing LNAPL Sites Part 3: Using LNAPL Science\, the LCSM\, and LNAPL Goals to Select an LNAPL Remedial Technology
DESCRIPTION:
URL:https://www.eristates.org/event/connecting-the-science-to-managing-lnapl-sites-part-3-using-lnapl-science-the-lcsm-and-lnapl-goals-to-select-an-lnapl-remedial-technology-4/
CATEGORIES:Online Training
END:VEVENT
BEGIN:VEVENT
DTSTART;TZID=America/New_York:20200922T130000
DTEND;TZID=America/New_York:20200922T151500
DTSTAMP:20260424T225641
CREATED:20191205T171519Z
LAST-MODIFIED:20191205T171519Z
UID:485-1600779600-1600787700@www.eristates.org
SUMMARY:Connecting the Science to Managing LNAPL Sites Part 2: LNAPL Conceptual Site Models and the LNAPL Decision Process
DESCRIPTION:
URL:https://www.eristates.org/event/connecting-the-science-to-managing-lnapl-sites-part-2-lnapl-conceptual-site-models-and-the-lnapl-decision-process-5/
CATEGORIES:Online Training
END:VEVENT
BEGIN:VEVENT
DTSTART;TZID=America/New_York:20200917T130000
DTEND;TZID=America/New_York:20200917T151500
DTSTAMP:20260424T225641
CREATED:20191205T171526Z
LAST-MODIFIED:20191205T171526Z
UID:514-1600347600-1600355700@www.eristates.org
SUMMARY:TPH Risk Evaluation at Petroleum-Contaminated Sites
DESCRIPTION:
URL:https://www.eristates.org/event/tph-risk-evaluation-at-petroleum-contaminated-sites-4/
CATEGORIES:Online Training
END:VEVENT
BEGIN:VEVENT
DTSTART;TZID=America/New_York:20200916T150000
DTEND;TZID=America/New_York:20200916T160000
DTSTAMP:20260424T225641
CREATED:20200826T172013Z
LAST-MODIFIED:20200826T172013Z
UID:1041-1600268400-1600272000@www.eristates.org
SUMMARY:EPA Tools & Resources Webinar: Water Network Tool for Resilience (WNTR)
DESCRIPTION:
URL:https://www.eristates.org/event/epa-tools-resources-webinar-water-network-tool-for-resilience-wntr/
CATEGORIES:Webinar
END:VEVENT
BEGIN:VEVENT
DTSTART;TZID=America/New_York:20200916T140000
DTEND;TZID=America/New_York:20200916T150000
DTSTAMP:20260424T225641
CREATED:20200825T185827Z
LAST-MODIFIED:20200825T185827Z
UID:1035-1600264800-1600268400@www.eristates.org
SUMMARY:Informational Webinar: Innovative Ways to Destroy PFAS Challenge
DESCRIPTION:
URL:https://www.eristates.org/event/informational-webinar-innovative-ways-to-destroy-pfas-challenge/
CATEGORIES:Webinar
END:VEVENT
BEGIN:VEVENT
DTSTART;TZID=America/New_York:20200915T130000
DTEND;TZID=America/New_York:20200915T151500
DTSTAMP:20260424T225641
CREATED:20191205T171518Z
LAST-MODIFIED:20191205T171518Z
UID:480-1600174800-1600182900@www.eristates.org
SUMMARY:Connecting the Science to Managing LNAPL Sites Part 1: Understanding LNAPL Behavior in the Subsurface
DESCRIPTION:
URL:https://www.eristates.org/event/connecting-the-science-to-managing-lnapl-sites-part-1-understanding-lnapl-behavior-in-the-subsurface-6/
END:VEVENT
BEGIN:VEVENT
DTSTART;TZID=America/New_York:20200910T150000
DTEND;TZID=America/New_York:20200910T160000
DTSTAMP:20260424T225641
CREATED:20200831T184703Z
LAST-MODIFIED:20200831T184703Z
UID:1046-1599750000-1599753600@www.eristates.org
SUMMARY:EPA Tools & Resources Webinar: Alternative Disposition of Electronics Planning Tool
DESCRIPTION:
URL:https://www.eristates.org/event/epa-tools-resources-webinar-alternative-disposition-of-electronics-planning-tool/
CATEGORIES:Webinar
END:VEVENT
BEGIN:VEVENT
DTSTART;TZID=America/New_York:20200903T140000
DTEND;TZID=America/New_York:20200903T150000
DTSTAMP:20260424T225641
CREATED:20200825T190434Z
LAST-MODIFIED:20200825T190434Z
UID:1037-1599141600-1599145200@www.eristates.org
SUMMARY:ERIS State Science Contacts Call: Discussion on Research/State Needs
DESCRIPTION:
URL:https://www.eristates.org/event/eris-state-science-contacts-call-discussion-on-research-state-needs/
CATEGORIES:Webinar
END:VEVENT
BEGIN:VEVENT
DTSTART;TZID=America/New_York:20200903T130000
DTEND;TZID=America/New_York:20200903T151500
DTSTAMP:20260424T225641
CREATED:20191205T171523Z
LAST-MODIFIED:20191205T171523Z
UID:502-1599138000-1599146100@www.eristates.org
SUMMARY:Long-term Contaminant Management Using Institutional Controls
DESCRIPTION:
URL:https://www.eristates.org/event/long-term-contaminant-management-using-institutional-controls-2/
CATEGORIES:Online Training
END:VEVENT
BEGIN:VEVENT
DTSTART;VALUE=DATE:20200831
DTEND;VALUE=DATE:20200903
DTSTAMP:20260424T225641
CREATED:20200224T184833Z
LAST-MODIFIED:20200826T172128Z
UID:678-1598832000-1599091199@www.eristates.org
SUMMARY:17th Annual EPA Drinking Water Workshop
DESCRIPTION:
URL:https://www.eristates.org/event/17th-annual-epa-drinking-water-workshop/
CATEGORIES:Online Training
END:VEVENT
BEGIN:VEVENT
DTSTART;TZID=America/New_York:20200827T130000
DTEND;TZID=America/New_York:20200827T151500
DTSTAMP:20260424T225641
CREATED:20191205T171524Z
LAST-MODIFIED:20191205T171524Z
UID:505-1598533200-1598541300@www.eristates.org
SUMMARY:Optimizing Injection Strategies and In Situ Remediation Performance
DESCRIPTION:
URL:https://www.eristates.org/event/optimizing-injection-strategies-and-in-situ-remediation-performance-2/
CATEGORIES:Online Training
END:VEVENT
BEGIN:VEVENT
DTSTART;TZID=America/New_York:20200826T140000
DTEND;TZID=America/New_York:20200826T150000
DTSTAMP:20260424T225641
CREATED:20200506T204118Z
LAST-MODIFIED:20200506T204118Z
UID:831-1598450400-1598454000@www.eristates.org
SUMMARY:Wildfires and Resulting Impacts to Water Bodies Used as Drinking Water Sources
DESCRIPTION:Presenters: The Water Research Foundation and Clemson University\, National Priorities grantees
URL:https://www.eristates.org/event/wildfires-and-resulting-impacts-to-water-bodies-used-as-drinking-water-sources/
CATEGORIES:Webinar
END:VEVENT
BEGIN:VEVENT
DTSTART;TZID=America/New_York:20200825T130000
DTEND;TZID=America/New_York:20200825T151500
DTSTAMP:20260424T225641
CREATED:20191205T171515Z
LAST-MODIFIED:20191205T171515Z
UID:473-1598360400-1598368500@www.eristates.org
SUMMARY:Characterization and Remediation in Fractured Rock
DESCRIPTION:
URL:https://www.eristates.org/event/characterization-and-remediation-in-fractured-rock-3/
CATEGORIES:Online Training
END:VEVENT
BEGIN:VEVENT
DTSTART;TZID=America/New_York:20200819T150000
DTEND;TZID=America/New_York:20200819T160000
DTSTAMP:20260424T225641
CREATED:20200812T192623Z
LAST-MODIFIED:20200812T192623Z
UID:1029-1597849200-1597852800@www.eristates.org
SUMMARY:EPA Tools & Resources Webinar: Air Pollution and Heart Disease
DESCRIPTION:
URL:https://www.eristates.org/event/epa-tools-resources-webinar-air-pollution-and-heart-disease/
CATEGORIES:Webinar
END:VEVENT
BEGIN:VEVENT
DTSTART;TZID=America/New_York:20200808T130000
DTEND;TZID=America/New_York:20200808T180000
DTSTAMP:20260424T225641
CREATED:20200715T194114Z
LAST-MODIFIED:20200715T194114Z
UID:1009-1596891600-1596909600@www.eristates.org
SUMMARY:Google Earth Mapping and Asset Management
DESCRIPTION:
URL:https://www.eristates.org/event/google-earth-mapping-and-asset-management/
CATEGORIES:Online Training
END:VEVENT
BEGIN:VEVENT
DTSTART;TZID=America/New_York:20200806T150000
DTEND;TZID=America/New_York:20200806T160000
DTSTAMP:20260424T225641
CREATED:20200722T164611Z
LAST-MODIFIED:20200722T164611Z
UID:1020-1596726000-1596729600@www.eristates.org
SUMMARY:EPA Tools & Resources Training Webinar: PFAS Removal in Drinking Water Treatment Systems
DESCRIPTION:
URL:https://www.eristates.org/event/epa-tools-resources-training-webinar-pfas-removal-in-drinking-water-treatment-systems/
CATEGORIES:Online Training,Webinar
END:VEVENT
BEGIN:VEVENT
DTSTART;TZID=America/New_York:20200729T140000
DTEND;TZID=America/New_York:20200729T150000
DTSTAMP:20260424T225641
CREATED:20200723T163557Z
LAST-MODIFIED:20200723T163557Z
UID:1023-1596031200-1596034800@www.eristates.org
SUMMARY:Water Reuse for Agricultural Purposes
DESCRIPTION:Speakers on this Safe and Sustainable Water Resources Research webinar will talk are: \n\nDr. Helen Nguyen – on Inactivation of RNA viruses by solar and UV irradiation for Agricultural Reuse\nDr. Jay Gan – on Emerging Contaminants in Agro-Food Systems
URL:https://www.eristates.org/event/water-reuse-for-agricultural-purposes-2/
CATEGORIES:Webinar
END:VEVENT
BEGIN:VEVENT
DTSTART;TZID=America/New_York:20200729T133000
DTEND;TZID=America/New_York:20200729T150000
DTSTAMP:20260424T225641
CREATED:20200708T192719Z
LAST-MODIFIED:20200708T192719Z
UID:1005-1596029400-1596034800@www.eristates.org
SUMMARY:PFAS in Groundwater: Investigation Results in New Hampshire & Considering Soil Leaching
DESCRIPTION:
URL:https://www.eristates.org/event/pfas-in-groundwater-investigation-results-in-new-hampshire-considering-soil-leaching/
CATEGORIES:Webinar
END:VEVENT
BEGIN:VEVENT
DTSTART;TZID=America/New_York:20200729T130000
DTEND;TZID=America/New_York:20200729T140000
DTSTAMP:20260424T225641
CREATED:20200715T193012Z
LAST-MODIFIED:20200715T193012Z
UID:1007-1596027600-1596031200@www.eristates.org
SUMMARY:Enhancing Climate Resilience in the Water Sector
DESCRIPTION:This is a one-hour webinar to assist drinking water and wastewater utilities with “Enhancing Climate Resilience in the Water Sector.” Participants will learn about the Climate-Resilient Water Utilities (CRWU) initiative developed by EPA to increase resilience to extreme weather events. The webinar will also feature the Water Research Foundation’s (WRF) efforts to help utility managers understand and assess climate-related risks and opportunities and incorporate them into strategic planning.\n\nThis webinar will:\n\nShare information about the EPA’s free risk and resilience resources for water utilities\, including resources to plan for extreme weather and tools to assess risks of extreme weather;\nDiscuss how EPA’s tools can be applied to water utilities of all sizes; and\nHear from water sector experts implementing programs to enhance resilience to extreme weather events.
URL:https://www.eristates.org/event/enhancing-climate-resilience-in-the-water-sector/
CATEGORIES:Webinar
END:VEVENT
BEGIN:VEVENT
DTSTART;TZID=America/New_York:20200728T140000
DTEND;TZID=America/New_York:20200728T150000
DTSTAMP:20260424T225641
CREATED:20200506T211713Z
LAST-MODIFIED:20200723T164019Z
UID:856-1595944800-1595948400@www.eristates.org
SUMMARY:AWIA Risk and Resilience Checklist and Lessons Learned
DESCRIPTION:
URL:https://www.eristates.org/event/small-systems-compliance/
CATEGORIES:Webinar
END:VEVENT
BEGIN:VEVENT
DTSTART;TZID=America/New_York:20200723T150000
DTEND;TZID=America/New_York:20200723T160000
DTSTAMP:20260424T225641
CREATED:20200708T172857Z
LAST-MODIFIED:20200708T172857Z
UID:998-1595516400-1595520000@www.eristates.org
SUMMARY:EPA Tools and Resources Webinar: Incident Waste Decision Support Tool (I-WASTE)
DESCRIPTION:
URL:https://www.eristates.org/event/epa-tools-and-resources-webinar-incident-waste-decision-support-tool-i-waste/
CATEGORIES:Webinar
END:VEVENT
BEGIN:VEVENT
DTSTART;TZID=America/New_York:20200723T120000
DTEND;TZID=America/New_York:20200723T130000
DTSTAMP:20260424T225641
CREATED:20200506T210634Z
LAST-MODIFIED:20200506T210634Z
UID:848-1595505600-1595509200@www.eristates.org
SUMMARY:PFAS Fate\, Transport\, and Treatment
DESCRIPTION:This SERDP and ESTCP webinar discusses approaches to better characterize per- and polyfluoroalkyl substances (PFAS) fate and transport in the subsurface\, as well as a novel technology for PFAS destruction. Specifically\, investigators present results of experiments\, mathematical modeling\, and decision tool development to further understand PFAS fate and transport in the subsurface as well as a novel technology to treat PFAS in water and other high moisture content wastes.
URL:https://www.eristates.org/event/pfas-fate-transport-and-treatment/
END:VEVENT
BEGIN:VEVENT
DTSTART;TZID=America/New_York:20200722T130000
DTEND;TZID=America/New_York:20200722T180000
DTSTAMP:20260424T225641
CREATED:20200715T194904Z
LAST-MODIFIED:20200715T194904Z
UID:1014-1595422800-1595440800@www.eristates.org
SUMMARY:Septic System Operation and Maintenance for Private Wells Owners and Environmental Health Professionals
DESCRIPTION:
URL:https://www.eristates.org/event/septic-system-operation-and-maintenance-for-private-wells-owners-and-environmental-health-professionals/
CATEGORIES:Online Training
END:VEVENT
BEGIN:VEVENT
DTSTART;TZID=America/New_York:20200721T120000
DTEND;TZID=America/New_York:20200721T140000
DTSTAMP:20260424T225641
CREATED:20200512T140746Z
LAST-MODIFIED:20200512T140746Z
UID:888-1595332800-1595340000@www.eristates.org
SUMMARY:Environmental Justice
DESCRIPTION:
URL:https://www.eristates.org/event/environmental-justice/
CATEGORIES:Webinar
END:VEVENT
BEGIN:VEVENT
DTSTART;TZID=America/New_York:20200720T133000
DTEND;TZID=America/New_York:20200720T150000
DTSTAMP:20260424T225641
CREATED:20200708T192532Z
LAST-MODIFIED:20200708T192532Z
UID:1003-1595251800-1595257200@www.eristates.org
SUMMARY:PFAS Treatment: Separation\, Concentration\, and Destructions
DESCRIPTION:
URL:https://www.eristates.org/event/pfas-treatment-separation-concentration-and-destructions/
CATEGORIES:Webinar
END:VEVENT
BEGIN:VEVENT
DTSTART;TZID=America/New_York:20200716T110000
DTEND;TZID=America/New_York:20200716T130000
DTSTAMP:20260424T225641
CREATED:20200506T205647Z
LAST-MODIFIED:20200506T205647Z
UID:843-1594897200-1594904400@www.eristates.org
SUMMARY:Air Sensors International Conference - Summer Virtual Series
DESCRIPTION:Times are Pacific \n8:00 – 8:05          Welcome & Introductions \n8:05 – 8:20          High-Density Deployment of PM2.5 Sensors in the Maywood Environmental Justice Community – Jennifer DeWinter\, Sonoma Technology\, Inc. \n8:20 – 8:35          __ \n8:35 – 8:50          Assessing Urban air quality project – Monika Vadali\, Minnesota Pollution Control \n8:50 – 9:05          Group Discussion \n9:05 – 9:15          Industry Presentation (Particles Plus – Adam Giandomenico) \n9:15 – 9:30          Clean Air Tourism: Assessment of Individual Exposure to Indoor and Outdoor Air Pollution on the Las Vegas Strip Using Portable Sensors\, Las Vegas\, Nevada\, USA.– Carlos Arambula\, Nevada State College \n9:30 – 9:45          Source characterisation and emission indices estimation using hyperlocal measurements from a low-cost sensor network – London Heathrow airport from a low-cost sensor network for source characterisation and emission indices estimation – London Heathrow airport – Olalekan Popoola\, University of Cambridge \n9:45 – 10:00       Group Discussion
URL:https://www.eristates.org/event/air-sensors-international-conference-summer-virtual-series-2/
CATEGORIES:Webinar
END:VEVENT
BEGIN:VEVENT
DTSTART;TZID=America/New_York:20200715T150000
DTEND;TZID=America/New_York:20200715T160000
DTSTAMP:20260424T225641
CREATED:20200619T164328Z
LAST-MODIFIED:20200619T164328Z
UID:991-1594825200-1594828800@www.eristates.org
SUMMARY:EPA Tools & Resources Webinar: Materials Management Wizard
DESCRIPTION:The Materials Management Wizard (MWiz) is a self-guided\, interactive web application that connects communities to EPA Sustainable Materials Management resources. MWiz provides users with a customized list of EPA resources that are tailored to their specific needs and interests. This webinar will provide an overview of MWiz\, including guided examples on how to use it. \n\nFor more information\, please visit MWiz at http://www.epa.gov/sustainability/mwiz.
URL:https://www.eristates.org/event/epa-tools-resources-webinar-materials-management-wizard/
CATEGORIES:Webinar
END:VEVENT
BEGIN:VEVENT
DTSTART;TZID=America/New_York:20200714T120000
DTEND;TZID=America/New_York:20200714T140000
DTSTAMP:20260424T225641
CREATED:20200512T140641Z
LAST-MODIFIED:20200512T140641Z
UID:886-1594728000-1594735200@www.eristates.org
SUMMARY:Law and Policy of Products Registration
DESCRIPTION:
URL:https://www.eristates.org/event/law-and-policy-of-products-registration/
CATEGORIES:Webinar
END:VEVENT
BEGIN:VEVENT
DTSTART;TZID=America/New_York:20200708T150000
DTEND;TZID=America/New_York:20200708T160000
DTSTAMP:20260424T225641
CREATED:20200615T154318Z
LAST-MODIFIED:20200615T154318Z
UID:949-1594220400-1594224000@www.eristates.org
SUMMARY:NESP Ecosystems Services Toolkit Tour
DESCRIPTION:The National Ecosystem Services Partnership (NESP) is creating a set of resources for the natural resource management community that provides an ecosystem services framework that is flexible while being standardized\, intuitive\, and credible. These resources are centered on a set of Ecosystem Services Conceptual Models (ESCMs). These ESCMs offer an entry point for incorporating a suite of ecosystem services considerations into a program or project. \nGet a guided tour of this new online resource toolkit from NESP and learn about how it has been applied to forest and coastal ecosystems through joint projects with the U.S. Forest Service\, the National Estuarine Research Reserve System\, and the Gulf Research Program.
URL:https://www.eristates.org/event/nesp-ecosystems-services-toolkit-tour/
CATEGORIES:Webinar
END:VEVENT
BEGIN:VEVENT
DTSTART;TZID=America/New_York:20200707T120000
DTEND;TZID=America/New_York:20200707T140000
DTSTAMP:20260424T225641
CREATED:20200512T140542Z
LAST-MODIFIED:20200512T140542Z
UID:884-1594123200-1594130400@www.eristates.org
SUMMARY:Hazardous Waste and Sites
DESCRIPTION:
URL:https://www.eristates.org/event/hazardous-waste-and-sites/
CATEGORIES:Webinar
END:VEVENT
END:VCALENDAR