BEGIN:VCALENDAR
VERSION:2.0
PRODID:-//ERIS - ECPv6.15.20//NONSGML v1.0//EN
CALSCALE:GREGORIAN
METHOD:PUBLISH
X-WR-CALNAME:ERIS
X-ORIGINAL-URL:https://www.eristates.org
X-WR-CALDESC:Events for ERIS
REFRESH-INTERVAL;VALUE=DURATION:PT1H
X-Robots-Tag:noindex
X-PUBLISHED-TTL:PT1H
BEGIN:VTIMEZONE
TZID:America/New_York
BEGIN:DAYLIGHT
TZOFFSETFROM:-0500
TZOFFSETTO:-0400
TZNAME:EDT
DTSTART:20190310T070000
END:DAYLIGHT
BEGIN:STANDARD
TZOFFSETFROM:-0400
TZOFFSETTO:-0500
TZNAME:EST
DTSTART:20191103T060000
END:STANDARD
BEGIN:DAYLIGHT
TZOFFSETFROM:-0500
TZOFFSETTO:-0400
TZNAME:EDT
DTSTART:20200308T070000
END:DAYLIGHT
BEGIN:STANDARD
TZOFFSETFROM:-0400
TZOFFSETTO:-0500
TZNAME:EST
DTSTART:20201101T060000
END:STANDARD
BEGIN:DAYLIGHT
TZOFFSETFROM:-0500
TZOFFSETTO:-0400
TZNAME:EDT
DTSTART:20210314T070000
END:DAYLIGHT
BEGIN:STANDARD
TZOFFSETFROM:-0400
TZOFFSETTO:-0500
TZNAME:EST
DTSTART:20211107T060000
END:STANDARD
END:VTIMEZONE
BEGIN:VEVENT
DTSTART;TZID=America/New_York:20200520T120000
DTEND;TZID=America/New_York:20200520T140000
DTSTAMP:20260425T191521
CREATED:20200518T150217Z
LAST-MODIFIED:20200518T150357Z
UID:901-1589976000-1589983200@www.eristates.org
SUMMARY:Inequalities of Air Pollution Exposures and Associated Health Effects in the U.S.
DESCRIPTION:A growing body of research has examined inequitable distribution of air pollution exposure across racial and socioeconomic groups in the United States. Questions remain about which population groups are inequitably exposed and likely to benefit from air quality improvements. This session will provide an overview of social determinants of health and exposure in the United States\, air pollution inequality research to date\, and applications in epidemiological research and policy decisions.
URL:https://www.eristates.org/event/inequalities-of-air-pollution-exposures-and-associated-health-effects-in-the-u-s/
CATEGORIES:Webinar
END:VEVENT
BEGIN:VEVENT
DTSTART;TZID=America/New_York:20200520T110000
DTEND;TZID=America/New_York:20200520T120000
DTSTAMP:20260425T191521
CREATED:20200506T202307Z
LAST-MODIFIED:20200506T202307Z
UID:823-1589972400-1589976000@www.eristates.org
SUMMARY:Water Contaminant Information Tool
DESCRIPTION:The Water Contaminant Information Tool (WCIT) is a secure on-line database with comprehensive information about chemical\, biological and radiochemical contaminants of concern for the Water Sector. This tool compiles drinking water- and wastewater-specific data in a one-stop\, easy-to-use tool. \nCourse Description: The approximately one hour course covers everything from evaluating contamination early warning indicators to calculating the potential scope of contamination based on suspected quantities involved. The training is designed to introduce new users to WCIT\, as well as provide a refresher for current users. The course includes: \n\nA comprehensive overview of WCIT\nThe information WCIT contains\nHow the tool can be used\nThe benefits of use for different stakeholders\n\nThe training will include step-by-step instructions for tool functions such as contaminant search\, finding and accessing field and confirmatory methods\, generating public information reports and several other functions. \nA live demo of the tool will also be given\, so registrants without a WCIT account should sign up for an account at least one week before the scheduled date of the training. The course will be limited to twenty participants per training.
URL:https://www.eristates.org/event/water-contaminant-information-tool/
CATEGORIES:Online Training,Webinar
END:VEVENT
BEGIN:VEVENT
DTSTART;TZID=America/New_York:20200519T140000
DTEND;TZID=America/New_York:20200519T150000
DTSTAMP:20260425T191521
CREATED:20200501T202307Z
LAST-MODIFIED:20200501T202307Z
UID:806-1589896800-1589900400@www.eristates.org
SUMMARY:Drinking Water Microbes 101
DESCRIPTION:
URL:https://www.eristates.org/event/drinking-water-microbes-101/
CATEGORIES:Webinar
END:VEVENT
BEGIN:VEVENT
DTSTART;TZID=America/New_York:20200519T130000
DTEND;TZID=America/New_York:20200519T151500
DTSTAMP:20260425T191521
CREATED:20191205T171515Z
LAST-MODIFIED:20191205T171515Z
UID:469-1589893200-1589901300@www.eristates.org
SUMMARY:Bioavailability of Contaminants in Soil: Considerations for Human Health Risk Assessment
DESCRIPTION:
URL:https://www.eristates.org/event/bioavailability-of-contaminants-in-soil-considerations-for-human-health-risk-assessment-2/
CATEGORIES:Online Training
END:VEVENT
BEGIN:VEVENT
DTSTART;TZID=America/New_York:20200519T120000
DTEND;TZID=America/New_York:20200519T140000
DTSTAMP:20260425T191521
CREATED:20200512T135110Z
LAST-MODIFIED:20200512T135110Z
UID:871-1589889600-1589896800@www.eristates.org
SUMMARY:Wetlands and Disaster Resilience: Leveraging Ecosystem Services for Community Preparedness
DESCRIPTION:This event is free and open to the public but you must register. \n\nPlease REGISTER HERE by May 15. Contact mcmurrin@eli.org with questions.\nWebinar information will be emailed one business day prior to the event. If you are unsure if you can access the webinar via the GoToMeeting platform\, please go HERE to view system requirements prior to registering.\nAll times noted are U.S. Eastern Time. The webinar will begin at 12 noon Eastern\, 11 AM Central\, 10 AM Mountain\, and 9 AM Pacific. There is no CLE for this course.\n\nNOTE: All registrants for ELI events need to have an ELI “account.” When you click on the above Register Here link\, you will be asked to log in. \n\n\nELI members and previous registrants have accounts. If you don’t remember your password\, please click on the “Request new password” tab.\nNon-members who have previously not set up an ELI account may click on the “Create new account” tab\, complete the process\, and then return to this page to register. While creating this account does not confer membership\, it will allow you to register for this and future events at any appropriate non-member rate that may be required.
URL:https://www.eristates.org/event/wetlands-and-disaster-resilience-leveraging-ecosystem-services-for-community-preparedness/
CATEGORIES:Webinar
END:VEVENT
BEGIN:VEVENT
DTSTART;TZID=America/New_York:20200514T110000
DTEND;TZID=America/New_York:20200514T130000
DTSTAMP:20260425T191521
CREATED:20200424T170429Z
LAST-MODIFIED:20200424T170429Z
UID:791-1589454000-1589461200@www.eristates.org
SUMMARY:Air Sensors International Conference - Virtual Session
DESCRIPTION:Web Tools for Sensor Data – Graeme Carvlin\, Puget Sound Clean Air Agency\nPublic Institutions and Trust: Developing Community Data Assets – Angela Eaton\, Safecast\nMapping hyperlocal air pollution to drive clean air policies – Harold Rickenbacker\, Environmental Defense Fund\nPurpleAir Discussion – Adrian Dybwad\nOpen-seneca: development of a low cost air quality sensor network and its implementation to measure PM2.5 in the city of Buenos Aires\, powered by citizen science – Peter Pedersen\, University of Cambridge\nDevelopment of a method for local health jurisdictions and schools in WA to use low-cost monitors for wildfire smoke preparedness – Orly Stampfer\, University of Washington
URL:https://www.eristates.org/event/air-sensors-international-conference-virtual-session/
CATEGORIES:Webinar
END:VEVENT
BEGIN:VEVENT
DTSTART;TZID=America/New_York:20200513T140000
DTEND;TZID=America/New_York:20200513T150000
DTSTAMP:20260425T191521
CREATED:20200501T202445Z
LAST-MODIFIED:20200501T202445Z
UID:808-1589378400-1589382000@www.eristates.org
SUMMARY:Cyanobacteria Assessment Network (CyAN) App Training
DESCRIPTION:
URL:https://www.eristates.org/event/cyanobacteria-assessment-network-cyan-app-training/
CATEGORIES:Online Training,Webinar
END:VEVENT
BEGIN:VEVENT
DTSTART;TZID=America/New_York:20200513T110000
DTEND;TZID=America/New_York:20200513T120000
DTSTAMP:20260425T191521
CREATED:20200506T202013Z
LAST-MODIFIED:20200506T202013Z
UID:821-1589367600-1589371200@www.eristates.org
SUMMARY:Accessing Laboratory Support -  An Interactive Guide
DESCRIPTION:This webinar will introduce the Accessing Laboratory Support resource. This resource is an interactive guide which shows how to access lab support at the local\, state\, regional and federal levels. It includes examples of when this help may be needed and supplies a one-page summary sheet that lists key information for finding support.\n\nThis webinar will cover the following:\n\nA description of potential users who may need to identify analytical support;\nAn overview of options available for identifying analytical support; and\nHighlight key water security resources to aid analytical response.
URL:https://www.eristates.org/event/accessing-laboratory-support-an-interactive-guide/
CATEGORIES:Online Training,Webinar
END:VEVENT
BEGIN:VEVENT
DTSTART;TZID=America/New_York:20200507T120000
DTEND;TZID=America/New_York:20200507T130000
DTSTAMP:20260425T191521
CREATED:20200506T210501Z
LAST-MODIFIED:20200506T210501Z
UID:845-1588852800-1588856400@www.eristates.org
SUMMARY:Innovative Technologies for PFAS Destruction in Investigation Derived Wastes
DESCRIPTION:This SERDP and ESTCP webinar highlights advancements in water treatment technologies for PFAS destruction. Two SERDP investigators will introduce different approaches to eliminating PFAS from groundwater and aqueous investigation derived waste (IDW). Specifically\, they will explore the use of electrochemical membrane technology for PFAS oxidation and plasma treatment processes for IDW.
URL:https://www.eristates.org/event/innovative-technologies-for-pfas-destruction-in-investigation-derived-wastes/
CATEGORIES:Webinar
END:VEVENT
BEGIN:VEVENT
DTSTART;TZID=America/New_York:20200506T130000
DTEND;TZID=America/New_York:20200506T140000
DTSTAMP:20260425T191521
CREATED:20200424T170128Z
LAST-MODIFIED:20200424T170128Z
UID:789-1588770000-1588773600@www.eristates.org
SUMMARY:Air Sensor Training: Building a Community Air Monitoring Network
DESCRIPTION:Tracking California will provide an overview of the process involved in developing a community air monitoring network\, based on our experience partnering with Comite Civico del Valle to establish a monitoring network that provides real-time information on particulate matter levels in Imperial County. The presentation will highlight a parallel process to the 14 elements laid out by the California Air Resources Board’s (CARB) community air monitoring plan and additional considerations from our “Guidebook for Developing a Community Air Monitoring Network.”
URL:https://www.eristates.org/event/air-sensor-training-building-a-community-air-monitoring-network/
CATEGORIES:Online Training,Webinar
END:VEVENT
BEGIN:VEVENT
DTSTART;TZID=America/New_York:20200429T140000
DTEND;TZID=America/New_York:20200429T150000
DTSTAMP:20260425T191521
CREATED:20200326T155618Z
LAST-MODIFIED:20200326T155618Z
UID:702-1588168800-1588172400@www.eristates.org
SUMMARY:EPA on Water Treatment Modeling for Removing PFAS and Other Contaminants
DESCRIPTION:
URL:https://www.eristates.org/event/epa-on-water-treatment-modeling-for-removing-pfas-and-other-contaminants/
CATEGORIES:Webinar
END:VEVENT
BEGIN:VEVENT
DTSTART;TZID=America/New_York:20200428T140000
DTEND;TZID=America/New_York:20200428T150000
DTSTAMP:20260425T191521
CREATED:20200406T170144Z
LAST-MODIFIED:20200406T170144Z
UID:735-1588082400-1588086000@www.eristates.org
SUMMARY:Small Drinking Water Systems Webinar on HABs and Algal Toxins
DESCRIPTION:
URL:https://www.eristates.org/event/small-drinking-water-systems-webinar-on-habs-and-algal-toxins/
CATEGORIES:Webinar
END:VEVENT
BEGIN:VEVENT
DTSTART;TZID=America/New_York:20200428T140000
DTEND;TZID=America/New_York:20200428T150000
DTSTAMP:20260425T191521
CREATED:20200401T180719Z
LAST-MODIFIED:20200401T180719Z
UID:713-1588082400-1588086000@www.eristates.org
SUMMARY:EnviroAtlas Training
DESCRIPTION:
URL:https://www.eristates.org/event/enviroatlas-training/
CATEGORIES:Online Training
END:VEVENT
BEGIN:VEVENT
DTSTART;TZID=America/New_York:20200428T130000
DTEND;TZID=America/New_York:20200428T151500
DTSTAMP:20260425T191521
CREATED:20191205T171520Z
LAST-MODIFIED:20191205T171520Z
UID:487-1588078800-1588086900@www.eristates.org
SUMMARY:Connecting the Science to Managing LNAPL Sites Part 3: Using LNAPL Science\, the LCSM\, and LNAPL Goals to Select an LNAPL Remedial Technology
DESCRIPTION:
URL:https://www.eristates.org/event/connecting-the-science-to-managing-lnapl-sites-part-3-using-lnapl-science-the-lcsm-and-lnapl-goals-to-select-an-lnapl-remedial-technology-3/
CATEGORIES:Online Training
END:VEVENT
BEGIN:VEVENT
DTSTART;TZID=America/New_York:20200427T150000
DTEND;TZID=America/New_York:20200427T170000
DTSTAMP:20260425T191521
CREATED:20200423T170550Z
LAST-MODIFIED:20200423T170550Z
UID:786-1587999600-1588006800@www.eristates.org
SUMMARY:Virtual International Water Research Summit on COVID-19
DESCRIPTION:
URL:https://www.eristates.org/event/virtual-international-water-research-summit-on-covid-19-2/
LOCATION:WRF
CATEGORIES:Webinar
END:VEVENT
BEGIN:VEVENT
DTSTART;VALUE=DATE:20200427
DTEND;VALUE=DATE:20200428
DTSTAMP:20260425T191521
CREATED:20200415T193335Z
LAST-MODIFIED:20200415T193335Z
UID:764-1587945600-1588031999@www.eristates.org
SUMMARY:Virtual International Water Research Summit on COVID-19
DESCRIPTION:
URL:https://www.eristates.org/event/virtual-international-water-research-summit-on-covid-19/
CATEGORIES:Online Training
END:VEVENT
BEGIN:VEVENT
DTSTART;TZID=America/New_York:20200415T150000
DTEND;TZID=America/New_York:20200415T160000
DTSTAMP:20260425T191521
CREATED:20200323T133217Z
LAST-MODIFIED:20200323T133217Z
UID:695-1586962800-1586966400@www.eristates.org
SUMMARY:EPA Tools and Resources Webinar: Citizen Science at EPA
DESCRIPTION:
URL:https://www.eristates.org/event/epa-tools-and-resources-webinar-citizen-science-at-epa/
CATEGORIES:Webinar
END:VEVENT
BEGIN:VEVENT
DTSTART;TZID=America/New_York:20200415T130000
DTEND;TZID=America/New_York:20200415T140000
DTSTAMP:20260425T191521
CREATED:20200402T180954Z
LAST-MODIFIED:20200402T181125Z
UID:717-1586955600-1586959200@www.eristates.org
SUMMARY:TrashFreeTexas – Technology Platform to Expedite Adoption/Fostering of “Adopt-A-Spots” Throughout Texas
DESCRIPTION:
URL:https://www.eristates.org/event/trashfreetexas-technology-platform-to-expedite-adoption-fostering-of-adopt-a-spots-throughout-texas/
CATEGORIES:Webinar
END:VEVENT
BEGIN:VEVENT
DTSTART;TZID=America/New_York:20200414T130000
DTEND;TZID=America/New_York:20200414T151500
DTSTAMP:20260425T191521
CREATED:20191205T171519Z
LAST-MODIFIED:20191205T171519Z
UID:484-1586869200-1586877300@www.eristates.org
SUMMARY:Connecting the Science to Managing LNAPL Sites Part 2: LNAPL Conceptual Site Models and the LNAPL Decision Process
DESCRIPTION:
URL:https://www.eristates.org/event/connecting-the-science-to-managing-lnapl-sites-part-2-lnapl-conceptual-site-models-and-the-lnapl-decision-process-4/
CATEGORIES:Online Training
END:VEVENT
BEGIN:VEVENT
DTSTART;TZID=America/New_York:20200407T130000
DTEND;TZID=America/New_York:20200407T151500
DTSTAMP:20260425T191521
CREATED:20191205T171518Z
LAST-MODIFIED:20191205T171518Z
UID:478-1586264400-1586272500@www.eristates.org
SUMMARY:Connecting the Science to Managing LNAPL Sites Part 1: Understanding LNAPL Behavior in the Subsurface
DESCRIPTION:
URL:https://www.eristates.org/event/connecting-the-science-to-managing-lnapl-sites-part-1-understanding-lnapl-behavior-in-the-subsurface-4/
END:VEVENT
BEGIN:VEVENT
DTSTART;TZID=America/New_York:20200407T130000
DTEND;TZID=America/New_York:20200407T151500
DTSTAMP:20260425T191521
CREATED:20191205T171518Z
LAST-MODIFIED:20191205T171518Z
UID:479-1586264400-1586272500@www.eristates.org
SUMMARY:Connecting the Science to Managing LNAPL Sites Part 1: Understanding LNAPL Behavior in the Subsurface
DESCRIPTION:
URL:https://www.eristates.org/event/connecting-the-science-to-managing-lnapl-sites-part-1-understanding-lnapl-behavior-in-the-subsurface-5/
CATEGORIES:Online Training
END:VEVENT
BEGIN:VEVENT
DTSTART;TZID=America/New_York:20200331T130000
DTEND;TZID=America/New_York:20200331T151500
DTSTAMP:20260425T191521
CREATED:20191205T171526Z
LAST-MODIFIED:20191205T171526Z
UID:512-1585659600-1585667700@www.eristates.org
SUMMARY:TPH Risk Evaluation at Petroleum-Contaminated Sites
DESCRIPTION:
URL:https://www.eristates.org/event/tph-risk-evaluation-at-petroleum-contaminated-sites-2/
CATEGORIES:Online Training
END:VEVENT
BEGIN:VEVENT
DTSTART;TZID=America/New_York:20200325T140000
DTEND;TZID=America/New_York:20200325T150000
DTSTAMP:20260425T191521
CREATED:20191210T195006Z
LAST-MODIFIED:20200117T182004Z
UID:570-1585144800-1585148400@www.eristates.org
SUMMARY:Water Treatment Modeling Tools for Removing PFAS and other Organic Compounds
DESCRIPTION:
URL:https://www.eristates.org/event/epa-water-research-webinar-6/
CATEGORIES:Webinar
END:VEVENT
BEGIN:VEVENT
DTSTART;TZID=America/New_York:20200325T130000
DTEND;TZID=America/New_York:20200325T140000
DTSTAMP:20260425T191521
CREATED:20200311T205541Z
LAST-MODIFIED:20200311T205541Z
UID:690-1585141200-1585144800@www.eristates.org
SUMMARY:Working with Communities to Understand and Address PFAS Exposures
DESCRIPTION:In this webinar\, we will hear from three experts who have been examining PFAS and working with communities to address their concerns. They will address our current knowledge\, highlight accomplishments\, discuss the importance of working with communities\, and note research and communication opportunities.
URL:https://www.eristates.org/event/working-with-communities-to-understand-and-address-pfas-exposures/
CATEGORIES:Webinar
END:VEVENT
BEGIN:VEVENT
DTSTART;TZID=America/New_York:20200319T130000
DTEND;TZID=America/New_York:20200319T151500
DTSTAMP:20260425T191521
CREATED:20191205T171520Z
LAST-MODIFIED:20191205T171520Z
UID:489-1584622800-1584630900@www.eristates.org
SUMMARY:Geospatial Analysis for Optimization at Environmental Sites
DESCRIPTION:
URL:https://www.eristates.org/event/geospatial-analysis-for-optimization-at-environmental-sites-2/
CATEGORIES:Online Training
END:VEVENT
BEGIN:VEVENT
DTSTART;TZID=America/New_York:20200319T130000
DTEND;TZID=America/New_York:20200319T151500
DTSTAMP:20260425T191521
CREATED:20191205T171520Z
LAST-MODIFIED:20191205T171520Z
UID:490-1584622800-1584630900@www.eristates.org
SUMMARY:Geospatial Analysis for Optimization at Environmental Sites
DESCRIPTION:
URL:https://www.eristates.org/event/geospatial-analysis-for-optimization-at-environmental-sites-3/
END:VEVENT
BEGIN:VEVENT
DTSTART;TZID=America/New_York:20200318T150000
DTEND;TZID=America/New_York:20200318T160000
DTSTAMP:20260425T191521
CREATED:20200302T190017Z
LAST-MODIFIED:20200302T190017Z
UID:687-1584543600-1584547200@www.eristates.org
SUMMARY:EPA Tools and Resources Webinar: Supporting States on Landfills with Elevated Subsurface Temperatures and Resilience to Flood Impacts
DESCRIPTION:
URL:https://www.eristates.org/event/epa-tools-and-resources-webinar-supporting-states-on-landfills-with-elevated-subsurface-temperatures-and-resilience-to-flood-impacts/
END:VEVENT
BEGIN:VEVENT
DTSTART;TZID=America/New_York:20200317T130000
DTEND;TZID=America/New_York:20200317T151500
DTSTAMP:20260425T191521
CREATED:20191205T171523Z
LAST-MODIFIED:20191205T171523Z
UID:503-1584450000-1584458100@www.eristates.org
SUMMARY:Long-term Contaminant Management Using Institutional Controls
DESCRIPTION:
URL:https://www.eristates.org/event/long-term-contaminant-management-using-institutional-controls-3/
CATEGORIES:Online Training
END:VEVENT
BEGIN:VEVENT
DTSTART;TZID=America/New_York:20200305T130000
DTEND;TZID=America/New_York:20200305T151500
DTSTAMP:20260425T191521
CREATED:20191205T171521Z
LAST-MODIFIED:20191205T171521Z
UID:493-1583413200-1583421300@www.eristates.org
SUMMARY:Groundwater Statistics for Environmental Project Managers
DESCRIPTION:
URL:https://www.eristates.org/event/groundwater-statistics-for-environmental-project-managers/
CATEGORIES:Online Training
END:VEVENT
BEGIN:VEVENT
DTSTART;TZID=America/New_York:20200227T130000
DTEND;TZID=America/New_York:20200227T151500
DTSTAMP:20260425T191521
CREATED:20191205T171523Z
LAST-MODIFIED:20191205T171523Z
UID:500-1582808400-1582816500@www.eristates.org
SUMMARY:Issues and Options in Human Health Risk Assessment – A Resource When Alternatives to Default Parameters and Scenarios are Proposed
DESCRIPTION:
URL:https://www.eristates.org/event/issues-and-options-in-human-health-risk-assessment-a-resource-when-alternatives-to-default-parameters-and-scenarios-are-proposed/
CATEGORIES:Online Training
END:VEVENT
END:VCALENDAR